Workbook

Sheet Tab. 1
A7: Längenstatistik der Straßen des überörtlichen Verkehrs, Stand: 1. Januar 2026
A9: Tabelle 1: | B9: Länge der Straßen des überörtlichen Verkehrs 1) - in km
B10: Längenänderungen gegenüber Vorjahr - in km
A12: Land | B12: Bundesautobahnen | D12: Bundesstraßen | F12: Landesstraßen 2) | H12: Kreisstraßen 3) | J12: Straßen des überörtlichen Verkehrs 4)
B13: insgesamt | C13: Änderungen ggü. Vorjahr | D13: insgesamt | E13: Änderungen ggü. Vorjahr | F13: insgesamt | G13: Änderungen ggü. Vorjahr | H13: insgesamt | I13: Änderungen ggü. Vorjahr | J13: insgesamt | K13: Änderungen ggü. Vorjahr
A15: 1 | B15: 2a | C15: 2b | D15: 3a | E15: 3b | F15: 4a | G15: 4b | H15: 5a | I15: 5b | J15: 6a | K15: 6b
A16: Baden Württemberg | B16: 1057 | C16: 0 | D16: 4192.597 | E16: -30.96 | F16: 10065.084 | G16: 34.75 | H16: 12090.663 | I16: -14.004 | J16: =B16+D16+F16+H16 -> 27405.344 | K16: =C16+E16+G16+I16 -> -10.214
A17: Bayern | B17: 2554 | C17: 0 | D17: 5963 | E17: 1 | F17: 14537 | G17: -32 | H17: 18797 | I17: 8 | J17: =B17+D17+F17+H17 -> 41851 | K17: =C17+E17+G17+I17 -> -23
A18: Berlin | B18: 76 | C18: 3 | D18: =145+18 -> 163 | E18: 0 | F18: 0 | G18: 0 | H18: 0 | I18: 0 | J18: =B18+D18+F18+H18 -> 239 | K18: =C18+E18+G18+I18 -> 3
A19: Brandenburg | B19: 806 | C19: -1 | D19: 2731 | E19: -9 | F19: 5521 | G19: 1 | H19: 3013 | I19: -4 | J19: =B19+D19+F19+H19 -> 12071 | K19: =C19+E19+G19+I19 -> -13
A20: Bremen | B20: 66 | C20: 0 | D20: 34 | E20: 0 | F20: 0 | G20: 0 | H20: 0 | I20: 0 | J20: =B20+D20+F20+H20 -> 100 | K20: =C20+E20+G20+I20 -> 0
A21: Hamburg | B21: 74 | C21: 0 | D21: 116 | E21: 0 | F21: 0 | G21: 0 | H21: 0 | I21: 0 | J21: =B21+D21+F21+H21 -> 190 | K21: =C21+E21+G21+I21 -> 0
A22: Hessen | B22: 1049 | C22: 30 | D22: 2952 | E22: -24 | F22: 7185 | G22: -13 | H22: 4890 | I22: -3 | J22: =B22+D22+F22+H22 -> 16076 | K22: =C22+E22+G22+I22 -> -10
A23: Mecklenburg-Vorpommern | B23: 578 | C23: 0 | D23: 1926.931 | E23: 0 | F23: 3377.157 | G23: -1 | H23: 4101.423 | I23: -19 | J23: =B23+D23+F23+H23 -> 9983.511 | K23: =C23+E23+G23+I23 -> -20
A24: Niedersachsen | B24: 1454 | C24: 4 | D24: 4645 | E24: 0 | F24: 8244 | G24: 0 | H24: 13655 | I24: 0 | J24: =B24+D24+F24+H24 -> 27998 | K24: =C24+E24+G24+I24 -> 4
A25: Nordrhein-Westfalen | B25: 2252 | C25: 0 | D25: 4418 | E25: 1 | F25: 13056 | G25: -7 | H25: 9769 | I25: -1 | J25: =B25+D25+F25+H25 -> 29495 | K25: =C25+E25+G25+I25 -> -7
A26: Rheinland-Pfalz | B26: 881 | C26: 0 | D26: 2865 | E26: -1 | F26: 7103 | G26: -15 | H26: 7415 | I26: 3 | J26: =B26+D26+F26+H26 -> 18264 | K26: =C26+E26+G26+I26 -> -13
A27: Saarland | B27: 240 | C27: 0 | D27: 309.962 | E27: 0 | F27: 871.504 | G27: 0 | H27: 622.664 | I27: 0 | J27: =B27+D27+F27+H27 -> 2044.13 | K27: =C27+E27+G27+I27 -> 0
A28: Sachsen | B28: 584 | C28: 0 | D28: 2282.288 | E28: 0 | F28: 4765.191 | G28: 0 | H28: 5726.4215 | I28: -22 | J28: =B28+D28+F28+H28 -> 13357.9 | K28: =C28+E28+G28+I28 -> -22
A29: Sachsen-Anhalt | B29: 522 | C29: 0 | D29: 2021 | E29: -1 | F29: 4085 | G29: 1 | H29: 4323 | I29: 0 | J29: =B29+D29+F29+H29 -> 10951 | K29: =C29+E29+G29+I29 -> 0
A30: Schleswig-Holstein | B30: 545 | C30: 0 | D30: 1534 | E30: 0 | F30: 3672 | G30: 0 | H30: 4122 | I30: 0 | J30: =B30+D30+F30+H30 -> 9873 | K30: =C30+E30+G30+I30 -> 0
A31: Thüringen | B31: 521 | C31: 0 | D31: 1500 | E31: -1 | F31: 4081 | G31: -8 | H31: 3306 | I31: -55 | J31: =B31+D31+F31+H31 -> 9408 | K31: =C31+E31+G31+I31 -> -64
A32: Bundesgebiet | B32: =SUM(B16:B31) -> 13259 | C32: =SUM(C16:C31) -> 36 | D32: =SUM(D16:D31) -> 37653.778 | E32: =SUM(E16:E31) -> -64.96 | F32: =SUM(F16:F31) -> 86562.936 | G32: =SUM(G16:G31) -> -39.25 | H32: =SUM(H16:H31) -> 91831.172 | I32: =SUM(I16:I31) -> -107.004 | J32: =SUM(B32,D32,F32,H32) -> 229306.89 | K32: =SUM(C32,E32,G32,I32) -> -175.214
A34: Erläuterungen:
A35: 1) nur Abschnittslängen nach "Anweisung Straßeninformationsbank (ASB)", ohne Astlängen
A36: 2) Landesstraßen sind in Bayern und Sachsen: Staatsstraßen, im Saarland: Landstraßen I. Ordnung
A37: 3) Kreisstraßen sind im Saarland: Landstraßen II. Ordnung
A38: 4) Summe aus Bundesautobahnen, Bundesstraßen, Landesstraßen, Kreisstraßen
A39: 5) Änderungen ergeben sich durch Auf- und Abstufungen sowie durch Harmonisierung der Auswertemethodik an getrennt verlaufenden Fahrbahnen (siehe auch Tabelle 6)
A40: 6) Stand 01.01.2024
A41: 7) Die vorläufigen Zahlen Niedersachsens entsprechen den Zahlen des Vorjahres. Aufgrund einer Migration der NLStBV IT Systeme konnte die Methodik der Statistik der vergangenen Jahre noch nicht exakt mit vergleichbaren Zahlen repliziert und damit keine Kontinuität der Statistik gewährleistet werden.

Sheet Tab. 2a
A7: Längenstatistik der Straßen des überörtlichen Verkehrs, Stand: 1. Januar 2026
A9: Tabelle 2a: | B9: Länge der Bundesautobahnen nach der Zahl der Fahrbahnen und Fahrstreifen - in km
O10: Kontrolle
A11: Land | B11: Länge von Autobahnabschnitten | O11: Ergebniss aus Tabelle 2a, Spalten 2d + 3h | Q11: Ergebniss aus Tabelle 1, Spalte 2a
B12: 1-bahnige BAB mit Fahrstreifenanzahl | F12: 2-bahnige BAB mit Fahrstreifenanzahl
B13: 1 | C13: 2 | D13: 3 u. mehr | E13: insge- samt | F13: 2 | G13: 3 | H13: 4 | I13: 5 | J13: 6 | K13: 7 | L13: 8 u. mehr | M13: insge- samt
A15: 1 | B15: 2a | C15: 2b | D15: 2c | E15: 2d | F15: 3a | G15: 3b | H15: 3c | I15: 3d | J15: 3e | K15: 3f | L15: 3g | M15: 3h
A16: Baden Württemberg | B16: 0 | C16: 5 | D16: 11 | E16: =SUM(D16,C16,B16) -> 16 | F16: 0 | G16: 1 | H16: 612 | I16: 50 | J16: 364 | K16: 8 | L16: 6 | M16: =SUM(L16,K16,J16,I16,H16,G16,F16) -> 1041 | O16: =E16+M16 -> 1057 | Q16: ='Tab. 1'!B16 -> 1057
A17: Bayern | B17: 0 | C17: 11 | D17: 0 | E17: =SUM(D17,C17,B17) -> 11 | F17: 1 | G17: 5 | H17: 1738 | I17: 66 | J17: 678 | K17: 37 | L17: 18 | M17: =SUM(L17,K17,J17,I17,H17,G17,F17) -> 2543 | O17: =E17+M17 -> 2554 | Q17: ='Tab. 1'!B17 -> 2554
A18: Berlin | B18: 0 | C18: 0 | D18: 0 | E18: =SUM(D18,C18,B18) -> 0 | F18: 1 | G18: 1 | H18: 28 | I18: 4 | J18: 42 | K18: 0 | L18: 0 | M18: =SUM(L18,K18,J18,I18,H18,G18,F18) -> 76 | O18: =E18+M18 -> 76 | Q18: ='Tab. 1'!B18 -> 76
A19: Brandenburg | B19: 0 | C19: 1 | D19: 0 | E19: =SUM(D19,C19,B19) -> 1 | F19: 0 | G19: 1 | H19: 542 | I19: 2 | J19: 251 | K19: 0 | L19: 9 | M19: =SUM(L19,K19,J19,I19,H19,G19,F19) -> 805 | O19: =E19+M19 -> 806 | Q19: ='Tab. 1'!B19 -> 806
A20: Bremen | B20: 0 | C20: 1 | D20: 0 | E20: =SUM(D20,C20,B20) -> 1 | F20: 0 | G20: 0 | H20: 47 | I20: 0 | J20: 18 | K20: 0 | L20: 0 | M20: =SUM(L20,K20,J20,I20,H20,G20,F20) -> 65 | O20: =E20+M20 -> 66 | Q20: ='Tab. 1'!B20 -> 66
A21: Hamburg | B21: 0 | C21: 1 | D21: 0 | E21: =SUM(D21,C21,B21) -> 1 | F21: 0 | G21: 0 | H21: 28 | I21: 2 | J21: 31 | K21: 3 | L21: 9 | M21: =SUM(L21,K21,J21,I21,H21,G21,F21) -> 73 | O21: =E21+M21 -> 74 | Q21: ='Tab. 1'!B21 -> 74
A22: Hessen | B22: 0 | C22: 1 | D22: 0 | E22: =SUM(D22,C22,B22) -> 1 | F22: 2 | G22: 3 | H22: 615 | I22: 105 | J22: 273 | K22: 20 | L22: 30 | M22: =SUM(L22,K22,J22,I22,H22,G22,F22) -> 1048 | O22: =E22+M22 -> 1049 | Q22: ='Tab. 1'!B22 -> 1049
A23: Mecklenburg-Vorpommern | B23: 0 | C23: 0 | D23: 0 | E23: =SUM(D23,C23,B23) -> 0 | F23: 0 | G23: 0 | H23: 577 | I23: 0 | J23: 1 | K23: 0 | L23: 0 | M23: =SUM(L23,K23,J23,I23,H23,G23,F23) -> 578 | O23: =E23+M23 -> 578 | Q23: ='Tab. 1'!B23 -> 578
A24: Niedersachsen | B24: 0 | C24: 0 | D24: 0 | E24: =SUM(D24,C24,B24) -> 0 | F24: 1 | G24: 2 | H24: 885 | I24: 14 | J24: 548 | K24: 1 | L24: 3 | M24: =SUM(L24,K24,J24,I24,H24,G24,F24) -> 1454 | O24: =E24+M24 -> 1454 | Q24: ='Tab. 1'!B24 -> 1454
A25: Nordrhein-Westfalen | B25: 0 | C25: 0 | D25: 0 | E25: =SUM(D25,C25,B25) -> 0 | F25: 10 | G25: 9 | H25: 1415 | I25: 151 | J25: 649 | K25: 7 | L25: 11 | M25: =SUM(L25,K25,J25,I25,H25,G25,F25) -> 2252 | O25: =E25+M25 -> 2252 | Q25: ='Tab. 1'!B25 -> 2252
A26: Rheinland-Pfalz | B26: 0 | C26: 23 | D26: 13 | E26: =SUM(D26,C26,B26) -> 36 | F26: 1 | G26: 5 | H26: 624 | I26: 107 | J26: 108 | K26: 0 | L26: 0 | M26: =SUM(L26,K26,J26,I26,H26,G26,F26) -> 845 | O26: =E26+M26 -> 881 | Q26: ='Tab. 1'!B26 -> 881
A27: Saarland | B27: 0 | C27: 2 | D27: 0 | E27: =SUM(D27,C27,B27) -> 2 | F27: 0 | G27: 0 | H27: 211 | I27: 21 | J27: 6 | K27: 0 | L27: 0 | M27: =SUM(L27,K27,J27,I27,H27,G27,F27) -> 238 | O27: =E27+M27 -> 240 | Q27: ='Tab. 1'!B27 -> 240
... A31: Thüringen | B31: 0 | C31: 0 | D31: 0 | E31: =SUM(D31,C31,B31) -> 0 | F31: 0 | G31: 0 | H31: 278 | I31: 4 | J31: 239 | K31: 0 | L31: 0 | M31: =SUM(L31,K31,J31,I31,H31,G31,F31) -> 521 | O31: =E31+M31 -> 521 | Q31: ='Tab. 1'!B31 -> 521
A32: Bundesgebiet | B32: =SUM(B16:B31) -> 0 | C32: =SUM(C16:C31) -> 52 | D32: =SUM(D16:D31) -> 24 | E32: =SUM(E16:E31) -> 76 | F32: =SUM(F16:F31) -> 16 | G32: =SUM(G16:G31) -> 28 | H32: =SUM(H16:H31) -> 8739 | I32: =SUM(I16:I31) -> 557 | ... M32: =SUM(M16:M31) -> 13183 | O32: =E32+M32 -> 13259 | Q32: ='Tab. 1'!B32 -> 13259

Sheet Tab. 2b
A7: Längenstatistik der Straßen des überörtlichen Verkehrs, Stand: 1. Januar 2026
A9: Tabelle 2b: | B9: Länge der Bundesstraßen nach der Zahl der Fahrbahnen, Fahrstreifen und Baulasten - in km
A11: Land | B11: Abschnittslängen nach Fahrstreifenanzahl und Baulast | Y11: Kontrolle | AD11: Kontrolle
B12: 1-bahnige BStr. mit Fahrstreifenanzahl | L12: 2-bahnige BStr. mit Fahrstreifenanzahl | Y12: Ergebniss aus Tabelle 2b, Spalten 6a + 12a | AA12: Ergebniss aus Tabelle 1, Spalte 3a | AD12: Ergebniss aus Tabelle 2b, Spalten 6b + 12b | AF12: Ergebniss aus Tabelle 3a, Spalte 4
B13: 1 | D13: 2 | F13: 3 | H13: 4 u. mehr | J13: insgesamt | L13: 2 | N13: 3 | P13: 4 | R13: 5 | T13: 6 u. mehr | V13: insgesamt
B14: alle | C14: nur | D14: alle | E14: nur | F14: alle | G14: nur | H14: alle | I14: nur | J14: alle | K14: nur | L14: alle | M14: nur | N14: alle | O14: nur | P14: alle | Q14: nur | R14: alle | S14: nur | T14: alle | U14: nur | V14: alle | W14: nur
C15: HBL 1) | E15: HBL 1) | G15: HBL 1) | I15: HBL 1) | K15: HBL 1) | M15: HBL 1) | O15: HBL 1) | Q15: HBL 1) | S15: HBL 1) | U15: HBL 1) | W15: HBL 1)
A16: 1 | B16: 2a | C16: 2b | D16: 3a | E16: 3b | F16: 4a | G16: 4b | H16: 5a | I16: 5b | J16: 6a | K16: 6b | L16: 7a | M16: 7b | N16: 8a | O16: 8b | P16: 9a | Q16: 9b | R16: 10a | S16: 10b | T16: 11a | U16: 11b | V16: 12a | W16: 12b
A17: Baden Württemberg | B17: 4.551 | C17: 4.277 | D17: 3319.734 | E17: 3261.971 | F17: 208.748 | G17: 201.366 | H17: 55.898 | I17: 42.035 | J17: =SUM(B17,D17,F17,H17) -> 3588.931 | K17: =SUM(I17,G17,E17,C17) -> 3509.649 | L17: 21.249 | M17: 17.319 | N17: 19.346 | O17: 17.25 | P17: 514.402 | Q17: 452.096 | R17: 19.388 | S17: 14.167 | T17: 29.28 | U17: 16.369 | V17: =SUM(T17,R17,P17,N17,L17) -> 603.665 | W17: =SUM(U17,S17,Q17,O17,M17,) -> 517.201 | Y17: =J17+V17 -> 4192.596 | AA17: ='Tab. 1'!D16 -> 4192.597 | AD17: =K17+W17 -> 4026.85 | AF17: ='Tab. 3a'!D15 -> 4026.852
A18: Bayern | B18: 2 | C18: 1 | D18: 4981 | E18: 4950 | F18: 349 | G18: 344 | H18: 96 | I18: 62 | J18: =SUM(B18,D18,F18,H18) -> 5428 | K18: =SUM(I18,G18,E18,C18) -> 5357 | L18: 13 | M18: 11 | N18: 5 | O18: 5 | P18: 492 | Q18: 391 | R18: 9 | S18: 6 | T18: 16 | U18: 3 | V18: =SUM(T18,R18,P18,N18,L18) -> 535 | W18: =SUM(U18,S18,Q18,O18,M18,) -> 416 | Y18: =J18+V18 -> 5963 | AA18: ='Tab. 1'!D17 -> 5963 | AD18: =K18+W18 -> 5773 | AF18: ='Tab. 3a'!D16 -> 5773
A19: Berlin | B19: 0 | C19: 0 | D19: =12.235+E19 -> 25.235 | E19: 13 | F19: 3.987 | G19: 0 | H19: =32.428+I19 -> 34.428 | I19: 2 | J19: =SUM(B19,D19,F19,H19) -> 63.65 | K19: =SUM(I19,G19,E19,C19) -> 15 | L19: 1.808 | M19: 0 | N19: 0.147 | O19: 0 | P19: =33.9+4+Q19 -> 40.9 | Q19: 3 | R19: 1.063 | S19: 0 | T19: =59.762-4 -> 55.762 | U19: 0 | V19: =SUM(T19,R19,P19,N19,L19) -> 99.68 | W19: =SUM(U19,S19,Q19,O19,M19,) -> 3 | Y19: =J19+V19 -> 163.33 | AA19: ='Tab. 1'!D18 -> 163 | AD19: =K19+W19 -> 18 | AF19: ='Tab. 3a'!D17 -> 18
A20: Brandenburg | B20: 1 | C20: 1 | D20: 2436 | E20: 2408 | F20: 134 | G20: 130 | H20: 14 | I20: 10 | J20: =SUM(B20,D20,F20,H20) -> 2585 | K20: =SUM(I20,G20,E20,C20) -> 2549 | L20: 5 | M20: 5 | N20: 7 | O20: 7 | P20: 133 | Q20: 128 | R20: 1 | S20: 0 | T20: 0 | U20: 0 | V20: =SUM(T20,R20,P20,N20,L20) -> 146 | W20: =SUM(U20,S20,Q20,O20,M20,) -> 140 | Y20: =J20+V20 -> 2731 | AA20: ='Tab. 1'!D19 -> 2731 | AD20: =K20+W20 -> 2689 | AF20: ='Tab. 3a'!D18 -> 2690 | AH20: Differenz da Rundungsdifferenzen
A21: Bremen 2) | B21: 0 | C21: 0 | D21: 12 | E21: 8 | F21: 2 | G21: 2 | H21: 4 | I21: 1 | J21: =SUM(B21,D21,F21,H21) -> 18 | K21: =SUM(I21,G21,E21,C21) -> 11 | L21: 1 | M21: 1 | N21: 1 | O21: 1 | P21: 13 | Q21: 13 | R21: 0 | S21: 0 | T21: 1 | U21: 0 | V21: =SUM(T21,R21,P21,N21,L21) -> 16 | W21: =SUM(U21,S21,Q21,O21,M21,) -> 15 | Y21: =J21+V21 -> 34 | AA21: ='Tab. 1'!D20 -> 34 | AD21: =K21+W21 -> 26 | AF21: ='Tab. 3a'!D19 -> 26
A22: Hamburg | B22: 0 | C22: 0 | D22: 13 | E22: 3 | F22: 2 | G22: 0 | H22: 67 | I22: 0 | J22: =SUM(B22,D22,F22,H22) -> 82 | K22: =SUM(I22,G22,E22,C22) -> 3 | L22: 0 | M22: 0 | N22: 0 | O22: 0 | P22: 27 | Q22: 24 | R22: 2 | S22: 1 | T22: 5 | U22: 0 | V22: =SUM(T22,R22,P22,N22,L22) -> 34 | W22: =SUM(U22,S22,Q22,O22,M22,) -> 25 | Y22: =J22+V22 -> 116 | AA22: ='Tab. 1'!D21 -> 116 | AD22: =K22+W22 -> 28 | AF22: ='Tab. 3a'!D20 -> 27
A23: Hessen | B23: 12 | C23: 12 | D23: 2412 | E23: 2385 | F23: 161 | G23: 155 | H23: 0 | I23: 0 | J23: =SUM(B23,D23,F23,H23) -> 2585 | K23: =SUM(I23,G23,E23,C23) -> 2552 | L23: 0 | M23: 0 | N23: 0 | O23: 0 | P23: 345 | Q23: 289 | R23: 11 | S23: 5 | T23: 11 | U23: 2 | V23: =SUM(T23,R23,P23,N23,L23) -> 367 | W23: =SUM(U23,S23,Q23,O23,M23,) -> 296 | Y23: =J23+V23 -> 2952 | AA23: ='Tab. 1'!D22 -> 2952 | AD23: =K23+W23 -> 2848 | AF23: ='Tab. 3a'!D21 -> 2848
A24: Mecklenburg-Vorpommern | B24: 2.2 | C24: 2.2 | D24: 1809.854 | E24: 1800.867 | F24: 20.912 | G24: 20.912 | H24: 8.195 | I24: 4.802 | J24: =SUM(B24,D24,F24,H24) -> 1841.161 | K24: =SUM(I24,G24,E24,C24) -> 1828.781 | L24: 3.6 | M24: 3.409 | N24: 0.983 | O24: 0.983 | P24: 80.128 | Q24: 70.259 | R24: 0.509 | S24: 0.509 | T24: 0.471 | U24: 0.471 | V24: =SUM(T24,R24,P24,N24,L24) -> 85.691 | W24: =SUM(U24,S24,Q24,O24,M24,) -> 75.631 | Y24: =J24+V24 -> 1926.852 | AA24: ='Tab. 1'!D23 -> 1926.931 | AD24: =K24+W24 -> 1904.412 | AF24: ='Tab. 3a'!D22 -> 1904.491
A25: Niedersachsen 3) | B25: 5 | C25: 5 | D25: 3966 | E25: 3939 | F25: 211 | G25: 211 | H25: 76 | I25: 74 | J25: =SUM(B25,D25,F25,H25) -> 4258 | K25: =SUM(I25,G25,E25,C25) -> 4229 | L25: 15 | M25: 14 | N25: 10 | O25: 10 | P25: 359 | Q25: 337 | R25: 1 | S25: 1 | T25: 2 | U25: 2 | V25: =SUM(T25,R25,P25,N25,L25) -> 387 | W25: =SUM(U25,S25,Q25,O25,M25,) -> 364 | Y25: =J25+V25 -> 4645 | AA25: ='Tab. 1'!D24 -> 4645 | AD25: =K25+W25 -> 4593 | AF25: ='Tab. 3a'!D23 -> 4593
A26: Nordrhein-Westfalen | B26: 9 | C26: 3 | D26: 3535 | E26: 3330 | F26: 291 | G26: 285 | H26: 120 | I26: 42 | J26: =SUM(B26,D26,F26,H26) -> 3955 | K26: =SUM(I26,G26,E26,C26) -> 3660 | L26: 42 | M26: 28 | N26: 11 | O26: 10 | P26: 382 | Q26: 246 | R26: 11 | S26: 8 | T26: 17 | U26: 3 | V26: =SUM(T26,R26,P26,N26,L26) -> 463 | W26: =SUM(U26,S26,Q26,O26,M26,) -> 295 | Y26: =J26+V26 -> 4418 | AA26: ='Tab. 1'!D25 -> 4418 | AD26: =K26+W26 -> 3955 | AF26: ='Tab. 3a'!D24 -> 3955
A27: Rheinland-Pfalz | B27: 6 | C27: 5 | D27: 2376 | E27: 2348 | F27: 126 | G27: 122 | H27: 11 | I27: 7 | J27: =SUM(B27,D27,F27,H27) -> 2519 | K27: =SUM(I27,G27,E27,C27) -> 2482 | L27: 11 | M27: 11 | N27: 13 | O27: 12 | P27: 315 | Q27: 283 | R27: 1 | S27: 1 | T27: 6 | U27: 4 | V27: =SUM(T27,R27,P27,N27,L27) -> 346 | W27: =SUM(U27,S27,Q27,O27,M27,) -> 311 | Y27: =J27+V27 -> 2865 | AA27: ='Tab. 1'!D26 -> 2865 | AD27: =K27+W27 -> 2793 | AF27: ='Tab. 3a'!D25 -> 2793
A28: Saarland | B28: 4.182 | C28: 4.148 | D28: 267.449 | E28: 249.741 | F28: 22.787 | G28: 21.877 | H28: 2.292 | I28: 1.219 | J28: =SUM(B28,D28,F28,H28) -> 296.71 | K28: =SUM(I28,G28,E28,C28) -> 276.985 | L28: 5.146 | M28: 5.146 | N28: 1.892 | O28: 1.892 | P28: 6.066 | Q28: 5.326 | R28: 0.141 | S28: 0.141 | T28: 0 | U28: 0 | V28: =SUM(T28,R28,P28,N28,L28) -> 13.245 | W28: =SUM(U28,S28,Q28,O28,M28,) -> 12.505 | Y28: =J28+V28 -> 309.955 | AA28: ='Tab. 1'!D27 -> 309.962 | AD28: =K28+W28 -> 289.49 | AF28: ='Tab. 3a'!D26 -> 289.497
A29: Sachsen | B29: 2.563 | C29: 2.2825 | D29: 1972.98 | E29: 1908.562 | F29: 100.233 | G29: 95.6365 | H29: 36.026 | I29: 12.418 | J29: =SUM(B29,D29,F29,H29) -> 2111.802 | K29: =SUM(I29,G29,E29,C29) -> 2018.899 | L29: 6.035 | M29: 2.67 | N29: 3.069 | O29: 2.023 | P29: 155.956 | Q29: 95.26 | R29: 3.117 | S29: 0.419 | T29: 2.309 | U29: 0 | V29: =SUM(T29,R29,P29,N29,L29) -> 170.486 | W29: =SUM(U29,S29,Q29,O29,M29,) -> 100.372 | Y29: =J29+V29 -> 2282.288 | AA29: ='Tab. 1'!D28 -> 2282.288 | AD29: =K29+W29 -> 2119.271 | AF29: ='Tab. 3a'!D27 -> 2119.271
A30: Sachsen-Anhalt | B30: 6 | C30: 5 | D30: 1812 | E30: 1794 | F30: 46 | G30: 46 | H30: 40 | I30: 18 | J30: =SUM(B30,D30,F30,H30) -> 1904 | K30: =SUM(I30,G30,E30,C30) -> 1863 | L30: 5 | M30: 5 | N30: 1 | O30: 1 | P30: 109 | Q30: 103 | R30: 1 | S30: 1 | T30: 1 | U30: 1 | V30: =SUM(T30,R30,P30,N30,L30) -> 117 | W30: =SUM(U30,S30,Q30,O30,M30,) -> 111 | Y30: =J30+V30 -> 2021 | AA30: ='Tab. 1'!D29 -> 2021 | AD30: =K30+W30 -> 1974 | AF30: ='Tab. 3a'!D28 -> 1974
A31: Schleswig-Holstein | B31: 0 | C31: 0 | D31: 1382 | E31: 1366 | F31: 24 | G31: 23 | H31: 23 | I31: 17 | J31: =SUM(B31,D31,F31,H31) -> 1429 | K31: =SUM(I31,G31,E31,C31) -> 1406 | L31: 6 | M31: 6 | N31: 4 | O31: 4 | P31: 91 | Q31: 82 | R31: 2 | S31: 2 | T31: 2 | U31: 1 | V31: =SUM(T31,R31,P31,N31,L31) -> 105 | W31: =SUM(U31,S31,Q31,O31,M31,) -> 95 | Y31: =J31+V31 -> 1534 | AA31: ='Tab. 1'!D30 -> 1534 | AD31: =K31+W31 -> 1501 | AF31: ='Tab. 3a'!D29 -> 1501
A32: Thüringen | B32: 1 | C32: 1 | D32: 1364 | E32: 1348 | F32: 60 | G32: 60 | H32: 5 | I32: 5 | J32: =SUM(B32,D32,F32,H32) -> 1430 | K32: =SUM(I32,G32,E32,C32) -> 1414 | L32: 7 | M32: 6 | N32: 4 | O32: 4 | P32: 59 | Q32: 49 | R32: 0 | S32: 0 | T32: 0 | U32: 0 | V32: =SUM(T32,R32,P32,N32,L32) -> 70 | W32: =SUM(U32,S32,Q32,O32,M32,) -> 59 | Y32: =J32+V32 -> 1500 | AA32: ='Tab. 1'!D31 -> 1500 | AD32: =K32+W32 -> 1473 | AF32: ='Tab. 3a'!D30 -> 1473
A33: Bundesgebiet | B33: =SUM(B17:B32) -> 55.496 | C33: =SUM(C17:C32) -> 45.9075 | D33: =SUM(D17:D32) -> 31684.252 | E33: =SUM(E17:E32) -> 31113.141 | F33: =SUM(F17:F32) -> 1762.667 | G33: =SUM(G17:G32) -> 1717.7915 | H33: =SUM(H17:H32) -> 592.839 | I33: =SUM(I17:I32) -> 298.474 | J33: =SUM(B33,D33,F33,H33) -> 34095.254 | K33: =SUM(I33,G33,E33,C33) -> 33175.314 | L33: =SUM(L17:L32) -> 142.838 | M33: =SUM(M17:M32) -> 115.544 | N33: =SUM(N17:N32) -> 81.437 | O33: =SUM(O17:O32) -> 76.148 | P33: =SUM(P17:P32) -> 3122.452 | Q33: =SUM(Q17:Q32) -> 2570.941 | R33: =SUM(R17:R32) -> 63.218 | S33: =SUM(S17:S32) -> 40.236 | ... U33: =SUM(U17:U32) -> 32.84 | V33: =SUM(T33,R33,P33,N33,L33) -> 3558.767 | W33: =SUM(U33,S33,Q33,O33,M33,) -> 2835.709 | Y33: =J33+V33 -> 37654.021 | AA33: ='Tab. 1'!D32 -> 37653.778 | AD33: =K33+W33 -> 36011.023 | AF33: ='Tab. 3a'!D31 -> 36011.111
A35: Erläuterungen:
A36: 1) Hauptbaulast (Bund); in den Bundesländern Berlin, Hamburg, Bremen: Verwaltung durch Die Autobahn GmbH des Bundes
A37: 2) Stand 01.01.2024
A38: 3) Die vorläufigen Zahlen Niedersachsens entsprechen den Zahlen des Vorjahres. Aufgrund einer Migration der NLStBV IT Systeme konnte die Methodik der Statistik der vergangenen Jahre noch nicht exakt mit vergleichbaren Zahlen repliziert und damit keine Kontinuität der Statistik gewährleistet werden. gewährleistet werden.

Sheet Tab. 2c
A7: Längenstatistik der Straßen des überörtlichen Verkehrs, Stand: 1. Januar 2026
A9: Tabelle 2c: | B9: Länge der Äste nach der Zahl der Fahrstreifen an Bundesfernstraßen - in km
B10: Länge der Standstreifen an Bundesautobahnen - in km
A12: Land | B12: Bundesautobahnen | I12: Bundesstraßen
B13: Astlängen Bundesautobahnen mit Fahrstreifenanzahl | G13: Länge der Standstreifen Bundesautobahnen | I13: Astlängen Bundesstraßen mit Fahrstreifenanzahl
B14: 1 | C14: 2 | D14: 3 | E14: 4 u. mehr | F14: Astlängen insge- samt | G14: ein- seitig | H14: beid- seitig | I14: 1 | K14: 2 | M14: 3 u. mehr | O14: insgesamt
I16: alle | J16: nur | K16: alle | L16: nur | M16: alle | N16: nur | O16: alle | P16: nur
J17: HBL 1) | L17: HBL 1) | N17: HBL 1) | P17: HBL 1)
A18: 1 | B18: 2a | C18: 2b | D18: 2c | E18: 2d | F18: 2e | G18: 3a | H18: 3b | I18: 4a | J18: 4b | K18: 4c | L18: 4d | M18: 4e | N18: 4f | O18: 4g | P18: 4h
A19: Baden Württemberg | B19: 512 | C19: 110 | D19: 5 | E19: 2 | F19: 629 | G19: 196 | H19: 763 | I19: 790.291 | J19: 752.785 | K19: 130.288 | L19: 98.935 | M19: 4.536 | N19: 2.085 | O19: =SUM(I19+K19+M19) -> 925.115 | P19: =SUM(J19+L19+N19) -> 853.805
A20: Bayern | B20: 1306 | C20: 193 | D20: 4 | E20: 0 | F20: 1503 | G20: 440 | H20: 1957 | I20: 926 | J20: 895 | K20: 61 | L20: 34 | M20: 1 | N20: 1 | O20: =SUM(I20+K20+M20) -> 988 | P20: =SUM(J20+L20+N20) -> 930
A21: Berlin | B21: 45 | C21: 47 | D21: 4 | E21: 1 | F21: 97 | G21: 0 | H21: 65 | I21: 0 | J21: 0 | K21: =L21 -> 1 | L21: 1 | M21: 0 | N21: 0 | O21: =SUM(I21+K21+M21) -> 1 | P21: =SUM(J21+L21+N21) -> 1
A22: Brandenburg | B22: 306 | C22: 79 | D22: 4 | E22: 0 | F22: 389 | G22: 122 | H22: 585 | I22: 130 | J22: 128 | K22: 7 | L22: 6 | M22: 0 | N22: 0 | O22: =SUM(I22+K22+M22) -> 137 | P22: =SUM(J22+L22+N22) -> 134
A23: Bremen | B23: 76 | C23: 7 | D23: 0 | E23: 0 | F23: 83 | G23: 1 | H23: 60 | I23: 21 | J23: 19 | K23: 10 | L23: 7 | M23: 0 | N23: 0 | O23: =SUM(I23+K23+M23) -> 31 | P23: =SUM(J23+L23+N23) -> 26
A24: Hamburg | B24: 58 | C24: 38 | D24: 1 | E24: 0 | F24: 97 | G24: 15 | H24: 41 | I24: 16 | J24: 16 | K24: 7 | L24: 7 | M24: 0 | N24: 0 | O24: =SUM(I24+K24+M24) -> 23 | P24: =SUM(J24+L24+N24) -> 23
A25: Hessen | B25: 727 | C25: 113 | D25: 4 | E25: 0 | F25: 844 | G25: 155 | H25: 780 | I25: 389 | J25: 386 | K25: 51 | L25: 44 | M25: 7 | N25: 3 | O25: =SUM(I25+K25+M25) -> 447 | P25: =SUM(J25+L25+N25) -> 433
A26: Mecklenburg-Vorpommern | B26: 165 | C26: 8 | D26: 0 | E26: 0 | F26: 173 | G26: 32 | H26: 510 | I26: 76.143 | J26: 73.896 | K26: 7.898 | L26: 7.898 | M26: =0.281+0.008 -> 0.289 | N26: =0.281-0.008 -> 0.273 | O26: =SUM(I26+K26+M26) -> 84.33 | P26: =SUM(J26+L26+N26) -> 82.067
A27: Niedersachsen | B27: 836 | C27: 73 | D27: 2 | E27: 0 | F27: 911 | G27: 385 | H27: 1060 | I27: 567 | J27: 559 | K27: 33 | L27: 31 | M27: 2 | N27: 2 | O27: =SUM(I27+K27+M27) -> 602 | P27: =SUM(J27+L27+N27) -> 592
A28: Nordrhein-Westfalen | B28: 1822 | C28: 266 | D28: 6 | E28: 0 | F28: 2094 | G28: 341 | H28: 1608 | I28: 542 | J28: 469 | K28: 54 | L28: 25 | M28: 5 | N28: 2 | O28: =SUM(I28+K28+M28) -> 601 | P28: =SUM(J28+L28+N28) -> 496
A29: Rheinland-Pfalz | B29: 466 | C29: 65 | D29: 2 | E29: 0 | F29: 533 | G29: 94 | H29: 646 | I29: 410 | J29: 389 | K29: 70 | L29: 63 | M29: 1 | N29: 1 | O29: =SUM(I29+K29+M29) -> 481 | P29: =SUM(J29+L29+N29) -> 453
A30: Saarland | B30: 167 | C30: 10 | D30: 1 | E30: 0 | F30: 178 | G30: 44 | H30: 153 | I30: 41.547 | J30: 39.556 | K30: 2.24 | L30: 1.985 | M30: 0.09 | N30: 0.09 | O30: =SUM(I30+K30+M30) -> 43.877 | P30: =SUM(J30+L30+N30) -> 41.631
A31: Sachsen | B31: 251 | C31: 51 | D31: 1 | E31: 0 | F31: 303 | G31: 70 | H31: 463 | I31: 107.584 | J31: 95.247 | K31: 18.28 | L31: 8.573 | M31: 1.375 | N31: 0.047 | O31: =SUM(I31+K31+M31) -> 127.239 | P31: =SUM(J31+L31+N31) -> 103.867
A32: Sachsen-Anhalt | B32: 219 | C32: 35 | D32: 0 | E32: 0 | F32: 254 | G32: 50 | H32: 365 | I32: 102 | J32: 91 | K32: 13 | L32: 5 | M32: 0 | N32: 0 | O32: =SUM(I32+K32+M32) -> 115 | P32: =SUM(J32+L32+N32) -> 96
A33: Schleswig-Holstein | B33: 249 | C33: 25 | D33: 0 | E33: 0 | F33: 274 | G33: 85 | H33: 388 | I33: 221 | J33: 210 | K33: 18 | L33: 14 | M33: 1 | N33: 1 | O33: =SUM(I33+K33+M33) -> 240 | P33: =SUM(J33+L33+N33) -> 225
A34: Thüringen | B34: 214 | C34: 9 | D34: 0 | E34: 0 | F34: 223 | G34: 46 | H34: 403 | I34: 132 | J34: 127 | K34: 5 | L34: 4 | M34: 0 | N34: 0 | O34: =SUM(I34+K34+M34) -> 137 | P34: =SUM(J34+L34+N34) -> 131
A35: Bundesgebiet | B35: =SUM(B19:B34) -> 7419 | C35: =SUM(C19:C34) -> 1129 | D35: =SUM(D19:D34) -> 34 | E35: =SUM(E19:E34) -> 3 | F35: =SUM(F19:F34) -> 8585 | G35: =SUM(G19:G34) -> 2076 | H35: =SUM(H19:H34) -> 9847 | I35: =SUM(I19:I34) -> 4471.565 | ... N35: =SUM(N19:N34) -> 12.495 | O35: =SUM(M35,K35,I35) -> 4983.561 | P35: =SUM(N35,L35,J35) -> 4621.37
A37: Erläuterungen:
A38: 1) Hauptbaulast (Bund)
A39: 2) Stand 01.01.2024
A40: 3) Die vorläufigen Zahlen Niedersachsens entsprechen den Zahlen des Vorjahres. Aufgrund einer Migration der NLStBV IT Systeme konnte die Methodik der Statistik der vergangenen Jahre noch nicht exakt mit vergleichbaren Zahlen repliziert und damit keine Kontinuität der Statistik gewährleistet werden.

Sheet Tab. 2d-1. Seite
A7: Längenstatistik der Straßen des überörtlichen Verkehrs, Stand: 1. Januar 2026
A9: Tabelle 2d: | B9: Länge der Straßen des überörtlichen Verkehrs, die der Betriebsdienst des Landes betreut 1) - in km
A11: Land | B11: Länge der Bundesautobahnen nach der Zahl der Fahrbahnen und Fahrstreifen - in km
B12: 1-bahnige BAB mit Fahrstreifenanzahl | D12: 2-bahnige BAB mit Fahrstreifenanzahl | K12: BAB gesamt | L12: Astlängen | M12: BAB insgesamt
B14: 2 | C14: 3 u. mehr | D14: 2 | E14: 3 | F14: 4 | G14: 5 | H14: 6 | I14: 7 | J14: 8 u. mehr
A15: 1 | B15: 2a | C15: 2b | D15: 3a | E15: 3b | F15: 3c | G15: 3d | H15: 3e | I15: 3f | J15: 3g | K15: 4 | L15: 5 | M15: 6
A16: Baden Württemberg | B16: 5 | C16: 11 | D16: 0 | E16: 0 | F16: 0 | G16: 0 | H16: 0 | I16: 0 | J16: 0 | K16: =SUM(B16:J16) -> 16 | L16: 6 | M16: =SUM(K16:L16) -> 22
A17: Bayern | B17: 0 | C17: 0 | D17: 0 | E17: 1 | F17: 144 | G17: 0 | H17: 0 | I17: 0 | J17: 0 | K17: =SUM(B17:J17) -> 145 | L17: 71 | M17: =SUM(K17:L17) -> 216
A18: Berlin | B18: 0 | C18: 0 | D18: 0 | E18: 0 | F18: 0 | G18: 0 | H18: 0 | I18: 0 | J18: 0 | K18: =SUM(B18:J18) -> 0 | L18: 0 | M18: =SUM(K18:L18) -> 0
A19: Brandenburg | B19: 0 | C19: 0 | D19: 0 | E19: 0 | F19: 0 | G19: 0 | H19: 0 | I19: 0 | J19: 0 | K19: =SUM(B19:J19) -> 0 | L19: 0 | M19: =SUM(K19:L19) -> 0
A20: Bremen | B20: 0 | C20: 0 | D20: 0 | E20: 0 | F20: 0 | G20: 0 | H20: 0 | I20: 0 | J20: 0 | K20: =SUM(B20:J20) -> 0 | L20: 0 | M20: =SUM(K20:L20) -> 0
A21: Hamburg | B21: 0 | C21: 0 | D21: 0 | E21: 0 | F21: 0 | G21: 0 | H21: 0 | I21: 0 | J21: 0 | K21: =SUM(B21:J21) -> 0 | L21: 0 | M21: =SUM(K21:L21) -> 0
A22: Hessen | B22: 0 | C22: 0 | D22: 0 | E22: 0 | F22: 0 | G22: 0 | H22: 0 | I22: 0 | J22: 0 | K22: =SUM(B22:J22) -> 0 | L22: 0 | M22: =SUM(K22:L22) -> 0
A23: Mecklenburg-Vorpommern | B23: 0 | C23: 0 | D23: 0 | E23: 0 | F23: 0 | G23: 0 | H23: 0 | I23: 0 | J23: 0 | K23: =SUM(B23:J23) -> 0 | L23: 0 | M23: =SUM(K23:L23) -> 0
A24: Niedersachsen | B24: 0 | C24: 0 | D24: 0 | E24: 0 | F24: 0 | G24: 0 | H24: 0 | I24: 0 | J24: 0 | K24: =SUM(B24:J24) -> 0 | L24: 0 | M24: =SUM(K24:L24) -> 0
A25: Nordrhein-Westfalen | B25: 0 | C25: 0 | D25: 0 | E25: 0 | F25: 0 | G25: 0 | H25: 0 | I25: 0 | J25: 0 | K25: =SUM(B25:J25) -> 0 | L25: 0 | M25: =SUM(K25:L25) -> 0
A26: Rheinland-Pfalz | B26: 0 | C26: 0 | D26: 0 | E26: 0 | F26: 0 | G26: 0 | H26: 0 | I26: 0 | J26: 0 | K26: =SUM(B26:J26) -> 0 | L26: 0 | M26: =SUM(K26:L26) -> 0
A27: Saarland | B27: 0 | C27: 0 | D27: 0 | E27: 0 | F27: 0 | G27: 0 | H27: 0 | I27: 0 | J27: 0 | K27: =SUM(B27:J27) -> 0 | L27: 0 | M27: =SUM(K27:L27) -> 0
... A31: Thüringen | B31: 0 | C31: 0 | D31: 0 | E31: 0 | F31: 0 | G31: 0 | H31: 0 | I31: 0 | J31: 0 | K31: =SUM(B31:J31) -> 0 | L31: 0 | M31: =SUM(K31:L31) -> 0
A32: Bundesgebiet | B32: =SUM(B16:B31) -> 5 | C32: =SUM(C16:C31) -> 11 | D32: =SUM(D16:D31) -> 0 | E32: =SUM(E16:E31) -> 1 | F32: =SUM(F16:F31) -> 144 | G32: =SUM(G16:G31) -> 0 | H32: =SUM(H16:H31) -> 0 | I32: =SUM(I16:I31) -> 0 | ... M32: =SUM(M16:M31) -> 238
A34: Erläuterungen:
A35: 1) Hierunter fallen die Betriebsdienststrecken der Straßen des überörtl. Verkehrs, die vom Betriebsdienst des Landes bzw. von Dritten im Auftrag des Landes (z. B. Kommune, Unternehmen) betreut werden. Streckenabschnitte außerhalb der Landesgrenze, die im Auftrag für andere Bundesländer / Kommunen betreut werden, sind den eigenen Betriebsdienststrecken hinzuzurechnen und beim anderen Bundesland abzuziehen. ÖPP-Streckenabschnitte sind ebenfalls abzuziehen.

Sheet Tab. 2d-2. Seite
A8: noch Tabelle 2d:
A10: Land | B10: Länge der Bundesstraßen nach der Zahl der Fahrbahnen und Fahrstreifen - in km | N10: Landesstraßen in km 2) | O10: Kreisstraßen in km 3) | P10: Straßen des überörtlichen Verkehrs in km 4)
B11: 1-bahnige Bstr mit Fahrstreifenanzahl | F11: 2-bahnige Bstr mit Fahrstreifenanzahl | K11: Bstr gesamt | L11: Astlängen | M11: Bstr insgesamt | N11: insgesamt | O11: insgesamt | P11: insgesamt
B13: 1 | C13: 2 | D13: 3 | E13: 4 u. mehr | F13: 2 | G13: 3 | H13: 4 | I13: 5 | J13: 6 u. mehr
A14: 1 | B14: 7a | C14: 7b | D14: 7c | E14: 7d | F14: 8a | G14: 8b | H14: 8c | I14: 8d | J14: 8e | K14: 9 | L14: 10 | M14: 11 | N14: 12 | O14: 13 | P14: 14
A15: Baden Württemberg 5) | B15: 6.637 | C15: 3341.481 | D15: 210.007 | E15: 56.192 | F15: 21.249 | G15: 19.409 | H15: 514.41 | I15: 19.388 | J15: 29.28 | K15: =SUM(B15:J15) -> 4218.053 | L15: 925.18 | M15: =SUM(K15:L15) -> 5143.233 | N15: 10277.908 | O15: 12150.618 | P15: =O15+N15+M15+'Tab. 2d-1. Seite'!M16 -> 27593.759
A16: Bayern | B16: 1 | C16: 4950 | D16: 344 | E16: 62 | F16: 11 | G16: 5 | H16: 391 | I16: 6 | J16: 3 | K16: =SUM(B16:J16) -> 5773 | L16: 930 | M16: =SUM(K16:L16) -> 6703 | N16: 14137 | O16: 3325 | P16: =O16+N16+M16+'Tab. 2d-1. Seite'!M17 -> 24381
A17: Berlin 6) | B17: 0 | C17: 0 | D17: 0 | E17: 0 | F17: 0 | G17: 0 | H17: 0 | I17: 0 | J17: 0 | K17: =SUM(B17:J17) -> 0 | L17: 0 | M17: =SUM(K17:L17) -> 0 | N17: 0 | O17: 0 | P17: =O17+N17+M17+'Tab. 2d-1. Seite'!M18 -> 0
A18: Brandenburg | B18: 1 | C18: 2406 | D18: 130 | E18: 10 | F18: 5 | G18: 7 | H18: 128 | I18: 0 | J18: 0 | K18: =SUM(B18:J18) -> 2687 | L18: 137 | M18: =SUM(K18:L18) -> 2824 | N18: 5472 | O18: 214 | P18: =O18+N18+M18+'Tab. 2d-1. Seite'!M19 -> 8510
A19: Bremen 7) | B19: 0 | C19: 12 | D19: 2 | E19: 4 | F19: 1 | G19: 1 | H19: 13 | I19: 0 | J19: 1 | K19: =SUM(B19:J19) -> 34 | L19: 31 | M19: =SUM(K19:L19) -> 65 | N19: 0 | O19: 0 | P19: =O19+N19+M19+'Tab. 2d-1. Seite'!M20 -> 65
A20: Hamburg | B20: 0 | C20: 13 | D20: 3 | E20: 67 | F20: 0 | G20: 0 | H20: 26 | I20: 2 | J20: 5 | K20: =SUM(B20:J20) -> 116 | L20: 2 | M20: =SUM(K20:L20) -> 118 | N20: 0 | O20: 0 | P20: =O20+N20+M20+'Tab. 2d-1. Seite'!M21 -> 118
A21: Hessen | B21: 12 | C21: 2385 | D21: 155 | E21: 0 | F21: 0 | G21: 0 | H21: 289 | I21: 5 | J21: 2 | K21: =SUM(B21:J21) -> 2848 | L21: 432 | M21: =SUM(K21:L21) -> 3280 | N21: 6981 | O21: 4543 | P21: =O21+N21+M21+'Tab. 2d-1. Seite'!M22 -> 14804
A22: Mecklenburg-Vorpommern | B22: 2.2 | C22: 1800.909 | D22: 20.211 | E22: =5.411+0.055+0.0031 -> 5.4691 | F22: 4.084 | G22: 1.684 | H22: 69.65 | I22: 0.509 | J22: 0.464 | K22: =SUM(B22:J22) -> 1905.1801 | L22: 82.083 | M22: =SUM(K22:L22) -> 1987.2631 | N22: 3337.04 | O22: 1045.466 | P22: =O22+N22+M22+'Tab. 2d-1. Seite'!M23 -> 6369.7691
A23: Niedersachsen 8) | B23: 5 | C23: 3911 | D23: 209 | E23: 66 | F23: 14 | G23: 10 | H23: 336 | I23: 1 | J23: 2 | K23: =SUM(B23:J23) -> 4554 | L23: 589 | M23: =SUM(K23:L23) -> 5143 | N23: 8077 | O23: 4001 | P23: =O23+N23+M23+'Tab. 2d-1. Seite'!M24 -> 17221
A24: Nordrhein-Westfalen | B24: 3 | C24: 3324 | D24: 285 | E24: 41 | F24: 27 | G24: 10 | H24: 238 | I24: 8 | J24: 2 | K24: =SUM(B24:J24) -> 3938 | L24: 486 | M24: =SUM(K24:L24) -> 4424 | N24: 11872 | O24: 1028 | P24: =O24+N24+M24+'Tab. 2d-1. Seite'!M25 -> 17324
A25: Rheinland-Pfalz | B25: 5 | C25: 2348 | D25: 122 | E25: 7 | F25: 11 | G25: 12 | H25: 283 | I25: 1 | J25: 4 | K25: =SUM(B25:J25) -> 2793 | L25: 481 | M25: =SUM(K25:L25) -> 3274 | N25: 6989 | O25: 6971 | P25: =O25+N25+M25+'Tab. 2d-1. Seite'!M26 -> 17234
A26: Saarland | B26: 4.182 | C26: 267.449 | D26: 22.787 | E26: 2.292 | F26: 5.146 | G26: 1.892 | H26: 6.066 | I26: 0.141 | J26: 0 | K26: =SUM(B26:J26) -> 309.955 | L26: 44 | M26: =SUM(K26:L26) -> 353.955 | N26: 891 | O26: 628 | P26: =O26+N26+M26+'Tab. 2d-1. Seite'!M27 -> 1872.955
A27: Sachsen | B27: 2.2825 | C27: 1908.562 | D27: 95.6365 | E27: 12.418 | F27: 2.67 | G27: 2.023 | H27: 95.26 | I27: 0.419 | J27: 0 | K27: =SUM(B27:J27) -> 2119.271 | L27: 103.867 | M27: =SUM(K27:L27) -> 2223.138 | N27: 4587.942 | O27: 5436.733 | P27: =O27+N27+M27+'Tab. 2d-1. Seite'!M28 -> 12247.813
A28: Sachsen-Anhalt | B28: 6 | C28: 1812 | D28: 46 | E28: 40 | F28: 5 | G28: 1 | H28: 109 | I28: 1 | J28: 1 | K28: =SUM(B28:J28) -> 2021 | L28: 115 | M28: =SUM(K28:L28) -> 2136 | N28: 4100 | O28: 4323 | P28: =O28+N28+M28+'Tab. 2d-1. Seite'!M29 -> 10559
A29: Schleswig-Holstein | B29: 1 | C29: 1366 | D29: 23 | E29: 17 | F29: 6 | G29: 3 | H29: 82 | I29: 2 | J29: 1 | K29: =SUM(B29:J29) -> 1501 | L29: 225 | M29: =SUM(K29:L29) -> 1726 | N29: 3557 | O29: 2692 | P29: =O29+N29+M29+'Tab. 2d-1. Seite'!M30 -> 7975
A30: Thüringen | B30: 1 | C30: 1364 | D30: 60 | E30: 5 | F30: 7 | G30: 4 | H30: 59 | I30: 0 | J30: 0 | K30: =SUM(B30:J30) -> 1500 | L30: 137 | M30: =SUM(K30:L30) -> 1637 | N30: 4081 | O30: 0 | P30: =O30+N30+M30+'Tab. 2d-1. Seite'!M31 -> 5718
A31: Bundesgebiet | B31: =SUM(B15:B30) -> 50.3015 | C31: =SUM(C15:C30) -> 31209.401 | D31: =SUM(D15:D30) -> 1727.6415 | E31: =SUM(E15:E30) -> 395.3711 | F31: =SUM(F15:F30) -> 120.149 | G31: =SUM(G15:G30) -> 78.008 | H31: =SUM(H15:H30) -> 2639.386 | I31: =SUM(I15:I30) -> 46.457 | ... P31: =SUM(P15:P30) -> 171993.3
A33: Erläuterungen:
A34: 2) Landesstraßen sind in Bayern und Sachsen: Staatsstraßen; im Saarland: Landstraßen I. Ordnung
A35: 3) Kreisstraßen sind im Saarland: Landstraßen II. Ordnung
A36: 4) Summe aus BAB, BStr, LStr, KStr inkl. der Astlängen
A37: 5) Baden-Württemberg inklusive Landkreise
A38: 6) Betriebsdienst erfolgt durch Bezirke
A39: 7) Stand 01.01.2024
A40: 8) Die vorläufigen Zahlen Niedersachsens entsprechen den Zahlen des Vorjahres. Aufgrund einer Migration der NLStBV IT Systeme konnte die Methodik der Statistik der vergangenen Jahre noch nicht exakt mit vergleichbaren Zahlen repliziert und damit keine Kontinuität der Statistik gewährleistet werden.

Sheet Tab. 3a
A7: Längenstatistik der Straßen des überörtlichen Verkehrs, Stand: 1. Januar 2026
A9: Tabelle 3a: | B9: Länge der Bundestraßen, nach Baulasten gegliedert - in km | J9: Kontrolle
J10: Ergebnisse aus Tabelle 3, Spalte 7 | L10: Ergebnisse aus Tabelle 1, Spalten 3a
B11: Abschnittslängen
A12: Land | B12: Hauptbaulast 1) | E12: Gemeindebaulast | F12: Baulast | G12: insgesamt
B13: freie Strecke | C13: Ortsdurchfahrten | D13: insgesamt | F13: Dritter
A14: 1 | B14: 2 | C14: 3 | D14: 4 | E14: 5 | F14: 6 | G14: 7
A15: Baden Württemberg | B15: 3489.448 | C15: 537.404 | D15: =SUM(C15,B15) -> 4026.852 | E15: 165.206 | F15: 0.539 | G15: =SUM(F15,E15,D15) -> 4192.597 | J15: =G15 -> 4192.597 | L15: ='Tab. 1'!D16 -> 4192.597
A16: Bayern | B16: 5179 | C16: 594 | D16: =SUM(C16,B16) -> 5773 | E16: 189 | F16: 1 | G16: =SUM(F16,E16,D16) -> 5963 | J16: =G16 -> 5963 | L16: ='Tab. 1'!D17 -> 5963
A17: Berlin | B17: 18 | C17: 0 | D17: =SUM(C17,B17) -> 18 | E17: 145.453 | F17: 0 | G17: =SUM(F17,E17,D17) -> 163.453 | J17: =G17 -> 163.453 | L17: ='Tab. 1'!D18 -> 163
A18: Brandenburg | B18: 2163 | C18: 527 | D18: =SUM(C18,B18) -> 2690 | E18: 40 | F18: 1 | G18: =SUM(F18,E18,D18) -> 2731 | J18: =G18 -> 2731 | L18: ='Tab. 1'!D19 -> 2731
A19: Bremen 2) | B19: 26 | C19: 0 | D19: =SUM(C19,B19) -> 26 | E19: 8 | F19: 0 | G19: =SUM(F19,E19,D19) -> 34 | J19: =G19 -> 34 | L19: ='Tab. 1'!D20 -> 34
A20: Hamburg | B20: 27 | C20: 0 | D20: =SUM(C20,B20) -> 27 | E20: 84 | F20: 5 | G20: =SUM(F20,E20,D20) -> 116 | J20: =G20 -> 116 | L20: ='Tab. 1'!D21 -> 116
A21: Hessen | B21: 2467 | C21: 381 | D21: =SUM(C21,B21) -> 2848 | E21: 104 | F21: 0 | G21: =SUM(F21,E21,D21) -> 2952 | J21: =G21 -> 2952 | L21: ='Tab. 1'!D22 -> 2952
A22: Mecklenburg-Vorpommern | B22: 1606.836 | C22: 297.655 | D22: =SUM(C22,B22) -> 1904.491 | E22: 21.706 | F22: =0.414+0.32 -> 0.734 | G22: =SUM(F22,E22,D22) -> 1926.931 | J22: =G22 -> 1926.931 | L22: ='Tab. 1'!D23 -> 1926.931
A23: Niedersachsen 3) | B23: 4021 | C23: 572 | D23: =SUM(C23,B23) -> 4593 | E23: 51 | F23: 1 | G23: =SUM(F23,E23,D23) -> 4645 | J23: =G23 -> 4645 | L23: ='Tab. 1'!D24 -> 4645
A24: Nordrhein-Westfalen | B24: 3483 | C24: 472 | D24: =SUM(C24,B24) -> 3955 | E24: 461 | F24: 2 | G24: =SUM(F24,E24,D24) -> 4418 | J24: =G24 -> 4418 | L24: ='Tab. 1'!D25 -> 4418
A25: Rheinland-Pfalz | B25: 2432 | C25: 361 | D25: =SUM(C25,B25) -> 2793 | E25: 72 | F25: 0 | G25: =SUM(F25,E25,D25) -> 2865 | J25: =G25 -> 2865 | L25: ='Tab. 1'!D26 -> 2865
A26: Saarland | B26: 211.518 | C26: 77.979 | D26: =SUM(C26,B26) -> 289.497 | E26: 20.444 | F26: 0.021 | G26: =SUM(F26,E26,D26) -> 309.962 | J26: =G26 -> 309.962 | L26: ='Tab. 1'!D27 -> 309.962
A27: Sachsen | B27: 1481.223 | C27: 638.048 | D27: =SUM(C27,B27) -> 2119.271 | E27: 162.422 | F27: 0.595 | G27: =SUM(F27,E27,D27) -> 2282.288 | J27: =G27 -> 2282.288 | L27: ='Tab. 1'!D28 -> 2282.288
A28: Sachsen-Anhalt | B28: 1558 | C28: 416 | D28: =SUM(C28,B28) -> 1974 | E28: 46 | F28: 1 | G28: =SUM(F28,E28,D28) -> 2021 | J28: =G28 -> 2021 | L28: ='Tab. 1'!D29 -> 2021
A29: Schleswig-Holstein | B29: 1286 | C29: 215 | D29: =SUM(C29,B29) -> 1501 | E29: 32 | F29: 1 | G29: =SUM(F29,E29,D29) -> 1534 | J29: =G29 -> 1534 | L29: ='Tab. 1'!D30 -> 1534
A30: Thüringen | B30: 1119 | C30: 354 | D30: =SUM(C30,B30) -> 1473 | E30: 26 | F30: 1 | G30: =SUM(F30,E30,D30) -> 1500 | J30: =G30 -> 1500 | L30: ='Tab. 1'!D31 -> 1500
A31: Bundesgebiet | B31: =SUM(B15:B30) -> 30568.025 | C31: =SUM(C15:C30) -> 5443.086 | D31: =SUM(D15:D30) -> 36011.111 | E31: =SUM(E15:E30) -> 1628.231 | F31: =SUM(F15:F30) -> 14.889 | G31: =SUM(G15:G30) -> 37654.231 | J31: =SUM(J15:J30) -> 37654.231 | L31: ='Tab. 1'!D32 -> 37653.778
A33: Erläuterungen:
A34: 1) Hauptbaulast (Bund); in den Bundesländern Berlin, Hamburg, Bremen Verwaltung durch Die Autobahn GmbH des Bundes
A35: 2) Stand 01.01.2024
A36: 3) Die vorläufigen Zahlen Niedersachsens entsprechen den Zahlen des Vorjahres. Aufgrund einer Migration der NLStBV IT Systeme konnte die Methodik der Statistik der vergangenen Jahre noch nicht exakt mit vergleichbaren Zahlen repliziert und damit keine Kontinuität der Statistik gewährleistet werden.

Sheet Tab. 3b
A7: Längenstatistik der Straßen des überörtlichen Verkehrs, Stand: 1. Januar 2026
A9: Tabelle 3b: | B9: Länge der Landesstraßen 1), nach Baulasten gegliedert - in km | J9: Kontrolle
J10: Ergebnisse aus Tabelle 3, Spalte 7 | L10: Ergebnisse aus Tabelle 1, Spalten 4a
B11: Abschnittslängen
A12: Land | B12: Hauptbaulast 2) | E12: Gemeindebaulast | F12: Baulast | G12: insgesamt
B13: freie Strecke | C13: Ortsdurchfahrten | D13: insgesamt | F13: Dritter
A14: 1 | B14: 2 | C14: 3 | D14: 4 | E14: 5 | F14: 6 | G14: 7
A15: Baden Württemberg | B15: 7693.85 | C15: 1796.266 | D15: =SUM(C15,B15) -> 9490.116 | E15: 573.273 | F15: 1.694 | G15: =SUM(F15,E15,D15) -> 10065.083 | J15: =G15 -> 10065.083 | L15: ='Tab. 1'!F16 -> 10065.084
A16: Bayern | B16: 11735 | C16: 2402 | D16: =SUM(C16,B16) -> 14137 | E16: 398 | F16: 2 | G16: =SUM(F16,E16,D16) -> 14537 | J16: =G16 -> 14537 | L16: ='Tab. 1'!F17 -> 14537
A17: Berlin | B17: 0 | C17: 0 | D17: =SUM(C17,B17) -> 0 | E17: 0 | F17: 0 | G17: =SUM(F17,E17,D17) -> 0 | J17: =G17 -> 0 | L17: ='Tab. 1'!F18 -> 0
A18: Brandenburg | B18: 4003 | C18: 1465 | D18: =SUM(C18,B18) -> 5468 | E18: 51 | F18: 2 | G18: =SUM(F18,E18,D18) -> 5521 | J18: =G18 -> 5521 | L18: ='Tab. 1'!F19 -> 5521
A19: Bremen | B19: 0 | C19: 0 | D19: =SUM(C19,B19) -> 0 | E19: 0 | F19: 0 | G19: 0 | J19: =G19 -> 0 | L19: ='Tab. 1'!F20 -> 0
A20: Hamburg | B20: 0 | C20: 0 | D20: =SUM(C20,B20) -> 0 | E20: 0 | F20: 0 | G20: =SUM(F20,E20,D20) -> 0 | J20: =G20 -> 0 | L20: ='Tab. 1'!F21 -> 0
A21: Hessen | B21: 5600 | C21: 1297 | D21: =SUM(C21,B21) -> 6897 | E21: 287 | F21: 1 | G21: =SUM(F21,E21,D21) -> 7185 | J21: =G21 -> 7185 | L21: ='Tab. 1'!F22 -> 7185
A22: Mecklenburg-Vorpommern | B22: 2689.443 | C22: 639.528 | D22: =SUM(C22,B22) -> 3328.971 | E22: 46.82 | F22: =0.554+0.812 -> 1.366 | G22: =SUM(F22,E22,D22) -> 3377.157 | J22: =G22 -> 3377.157 | L22: ='Tab. 1'!F23 -> 3377.157
A23: Niedersachsen 3) | B23: 6416 | C23: 1582 | D23: =SUM(C23,B23) -> 7998 | E23: 240 | F23: 6 | G23: =SUM(F23,E23,D23) -> 8244 | J23: =G23 -> 8244 | L23: ='Tab. 1'!F24 -> 8244
A24: Nordrhein-Westfalen | B24: 9620 | C24: 1988 | D24: =SUM(C24,B24) -> 11608 | E24: 1440 | F24: 8 | G24: =SUM(F24,E24,D24) -> 13056 | J24: =G24 -> 13056 | L24: ='Tab. 1'!F25 -> 13056
A25: Rheinland-Pfalz | B25: 5554 | C25: 1434 | D25: =SUM(C25,B25) -> 6988 | E25: 113 | F25: 2 | G25: =SUM(F25,E25,D25) -> 7103 | J25: =G25 -> 7103 | L25: ='Tab. 1'!F26 -> 7103
A26: Saarland | B26: 500.948 | C26: 342.131 | D26: =SUM(C26,B26) -> 843.079 | E26: 28.274 | F26: 0.15 | G26: =SUM(F26,E26,D26) -> 871.503 | J26: =G26 -> 871.503 | L26: ='Tab. 1'!F27 -> 871.504
A27: Sachsen | B27: 2995.428 | C27: 1547.122 | D27: =SUM(C27,B27) -> 4542.55 | E27: 220.979 | F27: 1.662 | G27: =SUM(F27,E27,D27) -> 4765.191 | J27: =G27 -> 4765.191 | L27: ='Tab. 1'!F28 -> 4765.191
A28: Sachsen-Anhalt | B28: 2915 | C28: 1109 | D28: =SUM(C28,B28) -> 4024 | E28: 59 | F28: 2 | G28: =SUM(F28,E28,D28) -> 4085 | J28: =G28 -> 4085 | L28: ='Tab. 1'!F29 -> 4085
A29: Schleswig-Holstein | B29: 2850 | C29: 673 | D29: =SUM(C29,B29) -> 3523 | E29: 146 | F29: 3 | G29: =SUM(F29,E29,D29) -> 3672 | J29: =G29 -> 3672 | L29: ='Tab. 1'!F30 -> 3672
A30: Thüringen | B30: 2943.9 | C30: 1029.4 | D30: =SUM(C30,B30) -> 3973.3 | E30: 106.4 | F30: 1.3 | G30: =SUM(F30,E30,D30) -> 4081 | J30: =G30 -> 4081 | L30: ='Tab. 1'!F31 -> 4081
A31: Bundesgebiet | B31: =SUM(B15:B30) -> 65516.569 | C31: =SUM(C15:C30) -> 17304.447 | D31: =SUM(D15:D30) -> 82821.016 | E31: =SUM(E15:E30) -> 3709.746 | F31: =SUM(F15:F30) -> 32.172 | G31: =SUM(G15:G30) -> 86562.934 | J31: =SUM(J15:J30) -> 86562.934 | L31: ='Tab. 1'!F32 -> 86562.936
A33: Erläuterungen:
A34: 1) Landesstraßen sind in Bayern und Sachsen: Staatsstraßen, im Saarland: Landesstraßen I. Ordnung
A35: 2) Hauptbaulast (Land)
A36: 3) Die vorläufigen Zahlen Niedersachsens entsprechen den Zahlen des Vorjahres. Aufgrund einer Migration der NLStBV IT Systeme konnte die Methodik der Statistik der vergangenen Jahre noch nicht exakt mit vergleichbaren Zahlen repliziert und damit keine Kontinuität der Statistik gewährleistet werden.

Sheet Tab. 3c
A7: Längenstatistik der Straßen des überörtlichen Verkehrs, Stand: 1. Januar 2026
A9: Tabelle 3c: | B9: Länge der Kreisstraßen 1), nach Baulasten gegliedert - in km | J9: Kontrolle
J10: Ergebnisse aus Tabelle 3, Spalte 7 | L10: Ergebnisse aus Tabelle 1, Spalten 5a
B11: Abschnittslängen
A12: Land | B12: Hauptbaulast 2) | E12: Gemeindebaulast | F12: Baulast | G12: insgesamt
B13: freie Strecke | C13: Ortsdurchfahrten | D13: insgesamt | F13: Dritter
A14: 1 | B14: 2 | C14: 3 | D14: 4 | E14: 5 | F14: 6 | G14: 7
A15: Baden Württemberg | B15: 9195.285 | C15: 2203.319 | D15: =SUM(C15,B15) -> 11398.604 | E15: 689.798 | F15: 2.26 | G15: =SUM(F15,E15,D15) -> 12090.662 | J15: =G15 -> 12090.662 | L15: ='Tab. 1'!H16 -> 12090.663
A16: Bayern | B16: 15090 | C16: 3229 | D16: =SUM(C16,B16) -> 18319 | E16: 474 | F16: 4 | G16: =SUM(F16,E16,D16) -> 18797 | J16: =G16 -> 18797 | L16: ='Tab. 1'!H17 -> 18797
A17: Berlin | B17: 0 | C17: 0 | D17: =SUM(C17,B17) -> 0 | E17: 0 | F17: 0 | G17: =SUM(F17,E17,D17) -> 0 | J17: =G17 -> 0 | L17: ='Tab. 1'!H18 -> 0
A18: Brandenburg | B18: 2229 | C18: 782 | D18: =SUM(C18,B18) -> 3011 | E18: 1 | F18: 1 | G18: =SUM(F18,E18,D18) -> 3013 | J18: =G18 -> 3013 | L18: ='Tab. 1'!H19 -> 3013
A19: Bremen | B19: 0 | C19: 0 | D19: =SUM(C19,B19) -> 0 | E19: 0 | F19: 0 | G19: =SUM(F19,E19,D19) -> 0 | J19: =G19 -> 0 | L19: ='Tab. 1'!H20 -> 0
A20: Hamburg | B20: 0 | C20: 0 | D20: =SUM(C20,B20) -> 0 | E20: 0 | F20: 0 | G20: =SUM(F20,E20,D20) -> 0 | J20: =G20 -> 0 | L20: ='Tab. 1'!H21 -> 0
A21: Hessen | B21: 3609 | C21: 1193 | D21: =SUM(C21,B21) -> 4802 | E21: 86 | F21: 2 | G21: =SUM(F21,E21,D21) -> 4890 | J21: =G21 -> 4890 | L21: ='Tab. 1'!H22 -> 4890
A22: Mecklenburg-Vorpommern | B22: 3197.339 | C22: 884.111 | D22: =SUM(C22,B22) -> 4081.45 | E22: 19.973 | F22: 0 | G22: =SUM(F22,E22,D22) -> 4101.423 | J22: =G22 -> 4101.423 | L22: ='Tab. 1'!H23 -> 4101.423
A23: Niedersachsen 3) | B23: 10748 | C23: 2748 | D23: =SUM(C23,B23) -> 13496 | E23: 153 | F23: 6 | G23: =SUM(F23,E23,D23) -> 13655 | J23: =G23 -> 13655 | L23: ='Tab. 1'!H24 -> 13655
A24: Nordrhein-Westfalen | B24: 7327 | C24: 2233 | D24: =SUM(C24,B24) -> 9560 | E24: 204 | F24: 5 | G24: =SUM(F24,E24,D24) -> 9769 | J24: =G24 -> 9769 | L24: ='Tab. 1'!H25 -> 9769
A25: Rheinland-Pfalz | B25: 5655 | C25: 1758 | D25: =SUM(C25,B25) -> 7413 | E25: 0 | F25: 2 | G25: =SUM(F25,E25,D25) -> 7415 | J25: =G25 -> 7415 | L25: ='Tab. 1'!H26 -> 7415
A26: Saarland | B26: 361.321 | C26: 240.296 | D26: =SUM(C26,B26) -> 601.617 | E26: 20.926 | F26: 0.121 | G26: =SUM(F26,E26,D26) -> 622.664 | J26: =G26 -> 622.664 | L26: ='Tab. 1'!H27 -> 622.664
... A30: Thüringen | B30: 2327 | C30: 949 | D30: =SUM(C30,B30) -> 3276 | E30: 30 | F30: 0 | G30: =SUM(F30,E30,D30) -> 3306 | J30: =G30 -> 3306 | L30: ='Tab. 1'!H31 -> 3306
A31: Bundesgebiet | B31: =SUM(B15:B30) -> 69566.12 | C31: =SUM(C15:C30) -> 19865.905 | D31: =SUM(D15:D30) -> 89432.025 | E31: =SUM(E15:E30) -> 2371.8085 | F31: =SUM(F15:F30) -> 27.337 | G31: =SUM(G15:G30) -> 91831.17 | J31: =SUM(J15:J30) -> 91831.17 | L31: ='Tab. 1'!H32 -> 91831.172
A33: Erläuterungen:
A34: 1) Kreisstraßen sind im Saarland: Landesstraßen II. Ordnung
A35: 2) Hauptbaulast (Kreis)
A36: 3) Die vorläufigen Zahlen Niedersachsens entsprechen den Zahlen des Vorjahres. Aufgrund einer Migration der NLStBV IT Systeme konnte die Methodik der Statistik der vergangenen Jahre noch nicht exakt mit vergleichbaren Zahlen repliziert und damit keine Kontinuität der Statistik gewährleistet werden.

Sheet Tabelle 4a
A7: Längenstatistik der Straßen des überörtlichen Verkehrs, Stand: 1. Januar 2026
A9: Tabelle 4a: | D9: Länge der mit Radwegen versehenen Bundesstraßen - in km
A11: Land | C11: Rad- wege- typ 1) | D11: freie Strecke | G11: Ortsdurchfahrten | M11: insgesamt
G12: in Hauptbaulast | J12: in Gemeindebaulast
D13: einseitig | E13: beidseitig | F13: alle | G13: einseitig | H13: beidseitig | I13: alle | J13: einseitig | K13: beidseitig | L13: alle | M13: einseitig | N13: beidseitig | O13: alle
A14: 1 | C14: 2 | D14: 3a | E14: 3b | F14: 3c | G14: 4a | H14: 4b | I14: 4c | J14: 5a | K14: 5b | L14: 5c | M14: 6a | N14: 6b | O14: 6c
A15: Baden- Württemberg | C15: a | D15: 40.276 | E15: 13.018 | F15: =SUM(E15,D15) -> 53.294 | G15: 26.186 | H15: 16.735 | I15: =SUM(H15,G15) -> 42.921 | J15: 0.91 | K15: 3.024 | L15: =SUM(J15,K15) -> 3.934 | M15: =SUM(J15,G15,D15) -> 67.372 | N15: =SUM(K15,H15,E15) -> 32.777 | O15: =SUM(M15,N15) -> 100.149
C16: b | D16: 433.504 | E16: 22.075 | F16: =SUM(E16,D16) -> 455.579 | G16: 100.176 | H16: 29.305 | I16: =SUM(H16,G16) -> 129.481 | J16: 0.156 | K16: 1.32 | L16: =SUM(J16,K16) -> 1.476 | M16: =SUM(J16,G16,D16) -> 533.836 | N16: =SUM(K16,H16,E16) -> 52.7 | O16: =SUM(M16,N16) -> 586.536
C17: c | D17: 3.425 | E17: 16.018 | F17: =SUM(E17,D17) -> 19.443 | G17: 2.61 | H17: 3.953 | I17: =SUM(H17,G17) -> 6.563 | J17: 0.19 | K17: 0 | L17: =SUM(J17,K17) -> 0.19 | M17: =SUM(J17,G17,D17) -> 6.225 | N17: =SUM(K17,H17,E17) -> 19.971 | O17: =SUM(M17,N17) -> 26.196
A18: Bayern | C18: a | D18: 62 | E18: 1 | F18: =SUM(E18,D18) -> 63 | G18: 16 | H18: 24 | I18: =SUM(H18,G18) -> 40 | J18: 29 | K18: 92 | L18: =SUM(J18,K18) -> 121 | M18: =SUM(J18,G18,D18) -> 107 | N18: =SUM(K18,H18,E18) -> 117 | O18: =SUM(M18,N18) -> 224
C19: b | D19: 1303 | E19: 47 | F19: =SUM(E19,D19) -> 1350 | G19: 176 | H19: 56 | I19: =SUM(H19,G19) -> 232 | J19: 44 | K19: 45 | L19: =SUM(J19,K19) -> 89 | M19: =SUM(J19,G19,D19) -> 1523 | N19: =SUM(K19,H19,E19) -> 148 | O19: =SUM(M19,N19) -> 1671
C20: c | D20: 939 | E20: 79 | F20: =SUM(E20,D20) -> 1018 | G20: 32 | H20: 1 | I20: =SUM(H20,G20) -> 33 | J20: 5 | K20: 0 | L20: =SUM(J20,K20) -> 5 | M20: =SUM(J20,G20,D20) -> 976 | N20: =SUM(K20,H20,E20) -> 80 | O20: =SUM(M20,N20) -> 1056
A21: Berlin | C21: a | D21: 1 | E21: 6 | F21: =SUM(E21,D21) -> 7 | G21: 0 | H21: 0 | I21: =SUM(H21,G21) -> 0 | J21: =15-1.17+5.31-1.7 -> 17.44 | K21: =62.953-3.953+0-8.14+11-11.185+12.585+2 -> 65.26 | L21: =SUM(J21,K21) -> 82.7 | M21: =SUM(J21,G21,D21) -> 18.44 | N21: =SUM(K21,H21,E21) -> 71.26 | O21: =SUM(M21,N21) -> 89.7
C22: b | D22: 7 | E22: 3 | F22: =SUM(E22,D22) -> 10 | G22: 0 | H22: 0 | I22: =SUM(H22,G22) -> 0 | J22: =2-0+1.44-1 -> 2.44 | K22: =3-0+0 -> 3 | L22: =SUM(J22,K22) -> 5.44 | M22: =SUM(J22,G22,D22) -> 9.44 | N22: =SUM(K22,H22,E22) -> 6 | O22: =SUM(M22,N22) -> 15.44
C23: c | F23: =SUM(E23,D23) -> 0 | G23: 0 | H23: 0 | I23: =SUM(H23,G23) -> 0 | J23: =3.26-1.26+1.85+1 -> 4.85 | K23: =14.76-0.76+2 -> 16 | L23: =SUM(J23,K23) -> 20.85 | M23: =SUM(J23,G23,D23) -> 4.85 | N23: =SUM(K23,H23,E23) -> 16 | O23: =SUM(M23,N23) -> 20.85
A24: Brandenburg | C24: a | D24: 14 | E24: 0 | F24: =SUM(E24,D24) -> 14 | G24: 30 | H24: 47 | I24: =SUM(H24,G24) -> 77 | J24: 30 | K24: 8 | L24: =SUM(J24,K24) -> 38 | M24: =SUM(J24,G24,D24) -> 74 | N24: =SUM(K24,H24,E24) -> 55 | O24: =SUM(M24,N24) -> 129
C25: b | D25: 713 | E25: 14 | F25: =SUM(E25,D25) -> 727 | G25: 25 | H25: 22 | I25: =SUM(H25,G25) -> 47 | J25: 103 | K25: 54 | L25: =SUM(J25,K25) -> 157 | M25: =SUM(J25,G25,D25) -> 841 | N25: =SUM(K25,H25,E25) -> 90 | O25: =SUM(M25,N25) -> 931
C26: c | D26: 0 | E26: 0 | F26: =SUM(E26,D26) -> 0 | G26: 0 | H26: 0 | I26: =SUM(H26,G26) -> 0 | J26: 0 | K26: 0 | L26: =SUM(J26,K26) -> 0 | M26: =SUM(J26,G26,D26) -> 0 | N26: =SUM(K26,H26,E26) -> 0 | O26: =SUM(M26,N26) -> 0
A27: Bremen | C27: a | D27: 4 | E27: 4 | F27: =SUM(E27,D27) -> 8 | G27: 0 | H27: 0 | I27: =SUM(H27,G27) -> 0 | J27: 3 | K27: 13 | L27: =SUM(J27,K27) -> 16 | M27: =SUM(J27,G27,D27) -> 7 | N27: =SUM(K27,H27,E27) -> 17 | O27: =SUM(M27,N27) -> 24
C28: b | D28: 0 | E28: 1 | F28: =SUM(E28,D28) -> 1 | G28: 0 | H28: 0 | I28: =SUM(H28,G28) -> 0 | J28: 1 | K28: 1 | L28: =SUM(J28,K28) -> 2 | M28: =SUM(J28,G28,D28) -> 1 | N28: =SUM(K28,H28,E28) -> 2 | O28: =SUM(M28,N28) -> 3
C29: c | D29: 0 | E29: 0 | F29: =SUM(E29,D29) -> 0 | G29: 0 | H29: 0 | I29: =SUM(H29,G29) -> 0 | J29: 0 | K29: 1 | L29: =SUM(J29,K29) -> 1 | M29: =SUM(J29,G29,D29) -> 0 | N29: =SUM(K29,H29,E29) -> 1 | O29: =SUM(M29,N29) -> 1
A30: Hamburg | C30: a | D30: 1 | E30: 0 | F30: =SUM(E30,D30) -> 1 | G30: 0 | H30: 0 | I30: =SUM(H30,G30) -> 0 | J30: 16 | K30: 27 | L30: =SUM(J30,K30) -> 43 | M30: =SUM(J30,G30,D30) -> 17 | N30: =SUM(K30,H30,E30) -> 27 | O30: =SUM(M30,N30) -> 44
C31: b | D31: 0 | E31: 0 | F31: =SUM(E31,D31) -> 0 | G31: 0 | H31: 0 | I31: =SUM(H31,G31) -> 0 | J31: 0 | K31: 0 | L31: =SUM(J31,K31) -> 0 | M31: =SUM(J31,G31,D31) -> 0 | N31: =SUM(K31,H31,E31) -> 0 | O31: =SUM(M31,N31) -> 0
C32: c | D32: 0 | E32: 0 | F32: =SUM(E32,D32) -> 0 | G32: 0 | H32: 0 | I32: =SUM(H32,G32) -> 0 | J32: 0 | K32: 0 | L32: =SUM(J32,K32) -> 0 | M32: =SUM(J32,G32,D32) -> 0 | N32: =SUM(K32,H32,E32) -> 0 | O32: =SUM(M32,N32) -> 0
A33: Hessen | C33: a | D33: 18 | E33: 2 | F33: =SUM(E33,D33) -> 20 | G33: 18 | H33: 16 | I33: =SUM(H33,G33) -> 34 | J33: 10 | K33: 18 | L33: =SUM(J33,K33) -> 28 | M33: =SUM(J33,G33,D33) -> 46 | N33: =SUM(K33,H33,E33) -> 36 | O33: =SUM(M33,N33) -> 82
C34: b | D34: 319 | E34: 13 | F34: =SUM(E34,D34) -> 332 | G34: 36 | H34: 9 | I34: =SUM(H34,G34) -> 45 | J34: 6 | K34: 4 | L34: =SUM(J34,K34) -> 10 | M34: =SUM(J34,G34,D34) -> 361 | N34: =SUM(K34,H34,E34) -> 26 | O34: =SUM(M34,N34) -> 387
C35: c | D35: 59 | E35: 171 | F35: =SUM(E35,D35) -> 230 | G35: 8 | H35: 14 | I35: =SUM(H35,G35) -> 22 | J35: 1 | K35: 2 | L35: =SUM(J35,K35) -> 3 | M35: =SUM(J35,G35,D35) -> 68 | N35: =SUM(K35,H35,E35) -> 187 | O35: =SUM(M35,N35) -> 255
A36: Mecklenburg-Vorpommern | C36: a | D36: =141.811+0.022 -> 141.833 | E36: 4.433 | F36: =SUM(E36,D36) -> 146.266 | G36: 47.725 | H36: 27.418 | I36: =SUM(H36,G36) -> 75.143 | J36: 1.339 | K36: 0.589 | L36: =SUM(J36,K36) -> 1.928 | M36: =SUM(J36,G36,D36) -> 190.897 | N36: =SUM(K36,H36,E36) -> 32.44 | O36: =SUM(M36,N36) -> 223.337
C37: b | D37: =590.075+0.15 -> 590.225 | E37: 12.097 | F37: =SUM(E37,D37) -> 602.322 | G37: 133.936 | H37: 29.649 | I37: =SUM(H37,G37) -> 163.585 | J37: 1.518 | K37: 8 | L37: =SUM(J37,K37) -> 9.518 | M37: =SUM(J37,G37,D37) -> 725.679 | N37: =SUM(K37,H37,E37) -> 49.746 | O37: =SUM(M37,N37) -> 775.425
C38: c | D38: 0 | E38: 0 | F38: =SUM(E38,D38) -> 0 | G38: 0 | H38: 0 | I38: =SUM(H38,G38) -> 0 | J38: 0 | K38: 0 | L38: =SUM(J38,K38) -> 0 | M38: =SUM(J38,G38,D38) -> 0 | N38: =SUM(K38,H38,E38) -> 0 | O38: =SUM(M38,N38) -> 0
A39: Niedersachsen 2) | C39: a | D39: 47 | E39: 3 | F39: =SUM(E39,D39) -> 50 | G39: 51 | H39: 57 | I39: =SUM(H39,G39) -> 108 | J39: 5 | K39: 4 | L39: =SUM(J39,K39) -> 9 | M39: =SUM(J39,G39,D39) -> 103 | N39: =SUM(K39,H39,E39) -> 64 | O39: =SUM(M39,N39) -> 167
C40: b | D40: 2303 | E40: 170 | F40: =SUM(E40,D40) -> 2473 | G40: 200 | H40: 77 | I40: =SUM(H40,G40) -> 277 | J40: 2 | K40: 4 | L40: =SUM(J40,K40) -> 6 | M40: =SUM(J40,G40,D40) -> 2505 | N40: =SUM(K40,H40,E40) -> 251 | O40: =SUM(M40,N40) -> 2756
C41: c | D41: 7 | E41: 14 | F41: =SUM(E41,D41) -> 21 | G41: 2 | H41: 12 | I41: =SUM(H41,G41) -> 14 | J41: 0 | K41: 0 | L41: =SUM(J41,K41) -> 0 | M41: =SUM(J41,G41,D41) -> 9 | N41: =SUM(K41,H41,E41) -> 26 | O41: =SUM(M41,N41) -> 35
A42: Nordrhein-Westfalen | C42: a | D42: 27 | E42: 26 | F42: =SUM(E42,D42) -> 53 | G42: 29 | H42: 96 | I42: =SUM(H42,G42) -> 125 | J42: 18 | K42: 31 | L42: =SUM(J42,K42) -> 49 | M42: =SUM(J42,G42,D42) -> 74 | N42: =SUM(K42,H42,E42) -> 153 | O42: =SUM(M42,N42) -> 227
C43: b | D43: 1199 | E43: 141 | F43: =SUM(E43,D43) -> 1340 | G43: 100 | H43: 51 | I43: =SUM(H43,G43) -> 151 | J43: 23 | K43: 22 | L43: =SUM(J43,K43) -> 45 | M43: =SUM(J43,G43,D43) -> 1322 | N43: =SUM(K43,H43,E43) -> 214 | O43: =SUM(M43,N43) -> 1536
C44: c | D44: 120 | E44: 649 | F44: =SUM(E44,D44) -> 769 | G44: 6 | H44: 24 | I44: =SUM(H44,G44) -> 30 | J44: 2 | K44: 4 | L44: =SUM(J44,K44) -> 6 | M44: =SUM(J44,G44,D44) -> 128 | N44: =SUM(K44,H44,E44) -> 677 | O44: =SUM(M44,N44) -> 805
A45: Rheinland-Pfalz | C45: a | D45: 6 | E45: 0 | F45: =SUM(E45,D45) -> 6 | G45: 0 | H45: 0 | I45: =SUM(H45,G45) -> 0 | J45: 1 | K45: 1 | L45: =SUM(J45,K45) -> 2 | M45: =SUM(J45,G45,D45) -> 7 | N45: =SUM(K45,H45,E45) -> 1 | O45: =SUM(M45,N45) -> 8
C46: b | D46: 564 | E46: 24 | F46: =SUM(E46,D46) -> 588 | G46: 42 | H46: 11 | I46: =SUM(H46,G46) -> 53 | J46: 6 | K46: 3 | L46: =SUM(J46,K46) -> 9 | M46: =SUM(J46,G46,D46) -> 612 | N46: =SUM(K46,H46,E46) -> 38 | O46: =SUM(M46,N46) -> 650
C47: c | D47: 108 | E47: 47 | F47: =SUM(E47,D47) -> 155 | G47: 3 | H47: 7 | I47: =SUM(H47,G47) -> 10 | J47: 1 | K47: 0 | L47: =SUM(J47,K47) -> 1 | M47: =SUM(J47,G47,D47) -> 112 | N47: =SUM(K47,H47,E47) -> 54 | O47: =SUM(M47,N47) -> 166
A48: Saarland | C48: a | D48: 0.163 | E48: 0.115 | F48: =SUM(E48,D48) -> 0.278 | G48: 1.291 | H48: 0.556 | I48: =SUM(H48,G48) -> 1.847 | J48: 0 | K48: 0 | L48: =SUM(J48,K48) -> 0 | M48: =SUM(J48,G48,D48) -> 1.454 | N48: =SUM(K48,H48,E48) -> 0.671 | O48: =SUM(M48,N48) -> 2.125
C49: b | D49: 41.641 | E49: 7.768 | F49: =SUM(E49,D49) -> 49.409 | G49: 8.428 | H49: 7.7784 | I49: =SUM(H49,G49) -> 16.2064 | J49: 0.008 | K49: 0 | L49: =SUM(J49,K49) -> 0.008 | M49: =SUM(J49,G49,D49) -> 50.077 | N49: =SUM(K49,H49,E49) -> 15.5464 | O49: =SUM(M49,N49) -> 65.6234
C50: c | D50: 9.395 | E50: 19.971 | F50: =SUM(E50,D50) -> 29.366 | G50: 2.915 | H50: 2.078 | I50: =SUM(H50,G50) -> 4.993 | J50: 0 | K50: 0 | L50: =SUM(J50,K50) -> 0 | M50: =SUM(J50,G50,D50) -> 12.31 | N50: =SUM(K50,H50,E50) -> 22.049 | O50: =SUM(M50,N50) -> 34.359
A51: Sachsen | C51: a | D51: 129 | E51: 1 | F51: =SUM(E51,D51) -> 130 | G51: 55 | H51: 24.6 | I51: =SUM(H51,G51) -> 79.6 | J51: 54.64 | K51: 55 | L51: =SUM(J51,K51) -> 109.64 | M51: =SUM(J51,G51,D51) -> 238.64 | N51: =SUM(K51,H51,E51) -> 80.6 | O51: =SUM(M51,N51) -> 319.24
C52: b | D52: 235.9 | E52: 1 | F52: =SUM(E52,D52) -> 236.9 | G52: 79.2 | H52: 23.259 | I52: =SUM(H52,G52) -> 102.459 | J52: 138.56 | K52: 60 | L52: =SUM(J52,K52) -> 198.56 | M52: =SUM(J52,G52,D52) -> 453.66 | N52: =SUM(K52,H52,E52) -> 84.259 | O52: =SUM(M52,N52) -> 537.919
C53: c | D53: 30 | E53: 0 | F53: =SUM(E53,D53) -> 30 | G53: 4 | H53: 1.8 | I53: =SUM(H53,G53) -> 5.8 | J53: 17 | K53: 6 | L53: =SUM(J53,K53) -> 23 | M53: =SUM(J53,G53,D53) -> 51 | N53: =SUM(K53,H53,E53) -> 7.8 | O53: =SUM(M53,N53) -> 58.8
A54: Sachsen-Anhalt | C54: a | D54: 176.5 | E54: 1 | F54: =SUM(E54,D54) -> 177.5 | G54: 47 | H54: 58 | I54: =SUM(H54,G54) -> 105 | J54: 1 | K54: 2 | L54: =SUM(J54,K54) -> 3 | M54: =SUM(J54,G54,D54) -> 224.5 | N54: =SUM(K54,H54,E54) -> 61 | O54: =SUM(M54,N54) -> 285.5
C55: b | D55: 213 | E55: 13 | F55: =SUM(E55,D55) -> 226 | G55: 103 | H55: 26 | I55: =SUM(H55,G55) -> 129 | J55: 5 | K55: 1 | L55: =SUM(J55,K55) -> 6 | M55: =SUM(J55,G55,D55) -> 321 | N55: =SUM(K55,H55,E55) -> 40 | O55: =SUM(M55,N55) -> 361
C56: c | D56: 0 | E56: 0 | F56: =SUM(E56,D56) -> 0 | G56: 0 | H56: 0 | I56: =SUM(H56,G56) -> 0 | J56: 0 | K56: 0 | L56: =SUM(J56,K56) -> 0 | M56: =SUM(J56,G56,D56) -> 0 | N56: =SUM(K56,H56,E56) -> 0 | O56: =SUM(M56,N56) -> 0
A57: Schleswig-Holstein | C57: a | D57: 7 | E57: 0 | F57: =SUM(E57,D57) -> 7 | G57: 18 | H57: 28 | I57: =SUM(H57,G57) -> 46 | J57: 13 | K57: 14 | L57: =SUM(J57,K57) -> 27 | M57: =SUM(J57,G57,D57) -> 38 | N57: =SUM(K57,H57,E57) -> 42 | O57: =SUM(M57,N57) -> 80
C58: b | D58: 876 | E58: 24 | F58: =SUM(E58,D58) -> 900 | G58: 98 | H58: 52 | I58: =SUM(H58,G58) -> 150 | J58: 6 | K58: 3 | L58: =SUM(J58,K58) -> 9 | M58: =SUM(J58,G58,D58) -> 980 | N58: =SUM(K58,H58,E58) -> 79 | O58: =SUM(M58,N58) -> 1059
C59: c | D59: 17 | E59: 31 | F59: =SUM(E59,D59) -> 48 | G59: 3 | H59: 0 | I59: =SUM(H59,G59) -> 3 | J59: 1 | K59: 0 | L59: =SUM(J59,K59) -> 1 | M59: =SUM(J59,G59,D59) -> 21 | N59: =SUM(K59,H59,E59) -> 31 | O59: =SUM(M59,N59) -> 52
A60: Thüringen | C60: a | D60: 50 | E60: 1 | F60: =SUM(E60,D60) -> 51 | G60: 37 | H60: 13 | I60: =SUM(H60,G60) -> 50 | J60: 3 | K60: 2 | L60: =SUM(J60,K60) -> 5 | M60: =SUM(J60,G60,D60) -> 90 | N60: =SUM(K60,H60,E60) -> 16 | O60: =SUM(M60,N60) -> 106
C61: b | D61: 86 | E61: 11 | F61: =SUM(E61,D61) -> 97 | G61: 84 | H61: 21 | I61: =SUM(H61,G61) -> 105 | J61: 5 | K61: 1 | L61: =SUM(J61,K61) -> 6 | M61: =SUM(J61,G61,D61) -> 175 | N61: =SUM(K61,H61,E61) -> 33 | O61: =SUM(M61,N61) -> 208
C62: c | D62: 26 | E62: 5 | F62: =SUM(E62,D62) -> 31 | G62: 17 | H62: 0 | I62: =SUM(H62,G62) -> 17 | J62: 0 | K62: 0 | L62: =SUM(J62,K62) -> 0 | M62: =SUM(J62,G62,D62) -> 43 | N62: =SUM(K62,H62,E62) -> 5 | O62: =SUM(M62,N62) -> 48
A63: Bundesgebiet | C63: a | D63: =D15+D18+D21+D24+D27+D30+D33+D36+D39+D42+D45+D48+D51+D54+D57+D60 -> 724.772 | E63: =E15+E18+E21+E24+E27+E30+E33+E36+E39+E42+E45+E48+E51+E54+E57+E60 -> 62.566 | F63: =SUM(E63,D63) -> 787.338 | G63: =G15+G18+G21+G24+G27+G30+G33+G36+G39+G42+G45+G48+G51+G54+G57+G60 -> 376.202 | H63: =H15+H18+H21+H24+H27+H30+H33+H36+H39+H42+H45+H48+H51+H54+H57+H60 -> 408.309 | I63: =SUM(H63,G63) -> 784.511 | J63: =J15+J18+J21+J24+J27+J30+J33+J36+J39+J42+J45+J48+J51+J54+J57+J60 -> 203.329 | K63: =K15+K18+K21+K24+K27+K30+K33+K36+K39+K42+K45+K48+K51+K54+K57+K60 -> 335.873 | L63: =SUM(J63,K63) -> 539.202 | M63: =SUM(J63,G63,D63) -> 1304.303 | N63: =SUM(K63,H63,E63) -> 806.748 | O63: =SUM(M63,N63) -> 2111.051
C64: b | D64: =D16+D19+D22+D25+D28+D31+D34+D37+D40+D43+D46+D49+D52+D55+D58+D61 -> 8884.27 | E64: =E16+E19+E22+E25+E28+E31+E34+E37+E40+E43+E46+E49+E52+E55+E58+E61 -> 503.94 | F64: =SUM(E64,D64) -> 9388.21 | G64: =G16+G19+G22+G25+G28+G31+G34+G37+G40+G43+G46+G49+G52+G55+G58+G61 -> 1185.74 | H64: =H16+H19+H22+H25+H28+H31+H34+H37+H40+H43+H46+H49+H52+H55+H58+H61 -> 414.9914 | I64: =SUM(H64,G64) -> 1600.7314 | J64: =J16+J19+J22+J25+J28+J31+J34+J37+J40+J43+J46+J49+J52+J55+J58+J61 -> 343.682 | K64: =K16+K19+K22+K25+K28+K31+K34+K37+K40+K43+K46+K49+K52+K55+K58+K61 -> 210.32 | L64: =SUM(J64,K64) -> 554.002 | M64: =SUM(J64,G64,D64) -> 10413.692 | N64: =SUM(K64,H64,E64) -> 1129.2514 | O64: =SUM(M64,N64) -> 11542.943
C65: c | D65: =D17+D20+D23+D26+D29+D32+D35+D38+D41+D44+D47+D50+D53+D56+D59+D62 -> 1318.82 | E65: =E17+E20+E23+E26+E29+E32+E35+E38+E41+E44+E47+E50+E53+E56+E59+E62 -> 1031.989 | F65: =SUM(E65,D65) -> 2350.809 | G65: =G17+G20+G23+G26+G29+G32+G35+G38+G41+G44+G47+G50+G53+G56+G59+G62 -> 80.525 | H65: =H17+H20+H23+H26+H29+H32+H35+H38+H41+H44+H47+H50+H53+H56+H59+H62 -> 65.831 | I65: =SUM(H65,G65) -> 146.356 | J65: =J17+J20+J23+J26+J29+J32+J35+J38+J41+J44+J47+J50+J53+J56+J59+J62 -> 32.04 | K65: =K17+K20+K23+K26+K29+K32+K35+K38+K41+K44+K47+K50+K53+K56+K59+K62 -> 29 | L65: =SUM(J65,K65) -> 61.04 | M65: =SUM(J65,G65,D65) -> 1431.385 | N65: =SUM(K65,H65,E65) -> 1126.82 | O65: =SUM(M65,N65) -> 2558.205
A67: Erläuterungen:
A68: 1) a) Radwege | C68: b) Radwege, die auch vom Fußgänger mitbenutzt werden
A69: c) Mehrzweckstreifen, die auch vom Radfahrer mitbenutzt werden (in Brandenburg und Bayern: auch als baulich getrennter, straßenparallelverlaufender Weg)
A70: 2) Die vorläufigen Zahlen Niedersachsens entsprechen den Zahlen des Vorjahres. Aufgrund einer Migration der NLStBV IT Systeme konnte die Methodik der Statistik der vergangenen Jahre noch nicht exakt mit vergleichbaren Zahlen repliziert und damit keine Kontinuität der Statistik gewährleistet werden.
A71: 3) Stand 01.01.2024

Sheet Tabelle 4b
A7: Längenstatistik der Straßen des überörtlichen Verkehrs, Stand: 1. Januar 2026
A9: Tabelle 4b: | D9: Länge der mit Radwegen versehenen Landesstraßen - in km
A11: Land | C11: Rad- wege- typ 1) | D11: freie Strecke | G11: Ortsdurchfahrten | M11: insgesamt
G12: in Hauptbaulast | J12: in Gemeindebaulast
D13: einseitig | E13: beidseitig | F13: alle | G13: einseitig | H13: beidseitig | I13: alle | J13: einseitig | K13: beidseitig | L13: alle | M13: einseitig | N13: beidseitig | O13: alle
A14: 1 | C14: 2 | D14: 3a | E14: 3b | F14: 3c | G14: 4a | H14: 4b | I14: 4c | J14: 5a | K14: 5b | L14: 5c | M14: 6a | N14: 6b | O14: 6c
A15: Baden- Württemberg | C15: a | D15: 53.42 | E15: 5.873 | F15: =SUM(E15,D15) -> 59.293 | G15: 25.005 | H15: 13.166 | I15: =SUM(H15,G15) -> 38.171 | J15: 1.366 | K15: 1.222 | L15: =SUM(J15,K15) -> 2.588 | M15: =SUM(J15,G15,D15) -> 79.791 | N15: =SUM(K15,H15,E15) -> 20.261 | O15: =SUM(M15,N15) -> 100.052
C16: b | D16: 1130.106 | E16: 42.773 | F16: =SUM(E16,D16) -> 1172.879 | G16: 162.102 | H16: 24.528 | I16: =SUM(H16,G16) -> 186.63 | J16: 7.987 | K16: 3.186 | L16: =SUM(J16,K16) -> 11.173 | M16: =SUM(J16,G16,D16) -> 1300.195 | N16: =SUM(K16,H16,E16) -> 70.487 | O16: =SUM(M16,N16) -> 1370.682
C17: c | D17: 2.022 | E17: 1.858 | F17: =SUM(E17,D17) -> 3.88 | G17: 6.579 | H17: 4.665 | I17: =SUM(H17,G17) -> 11.244 | J17: 0.191 | K17: 1.504 | L17: =SUM(J17,K17) -> 1.695 | M17: =SUM(J17,G17,D17) -> 8.792 | N17: =SUM(K17,H17,E17) -> 8.027 | O17: =SUM(M17,N17) -> 16.819
A18: Bayern | C18: a | D18: 101 | E18: 6 | F18: =SUM(E18,D18) -> 107 | G18: 7 | H18: 10 | I18: =SUM(H18,G18) -> 17 | J18: 34 | K18: 73 | L18: =SUM(K18,J18) -> 107 | M18: =SUM(J18,G18,D18) -> 142 | N18: =SUM(K18,H18,E18) -> 89 | O18: =SUM(M18,N18) -> 231
C19: b | D19: 2394 | E19: 44 | F19: =SUM(E19,D19) -> 2438 | G19: 303 | H19: 76 | I19: =SUM(H19,G19) -> 379 | J19: 118 | K19: 56 | L19: =SUM(K19,J19) -> 174 | M19: =SUM(J19,G19,D19) -> 2815 | N19: =SUM(K19,H19,E19) -> 176 | O19: =SUM(M19,N19) -> 2991
C20: c | D20: 976 | E20: 35 | F20: =SUM(E20,D20) -> 1011 | G20: 48 | H20: 2 | I20: =SUM(H20,G20) -> 50 | J20: 6 | K20: 7 | L20: =SUM(K20,J20) -> 13 | M20: =SUM(J20,G20,D20) -> 1030 | N20: =SUM(K20,H20,E20) -> 44 | O20: =SUM(M20,N20) -> 1074
A21: Brandenburg | C21: a | D21: 23 | E21: 1 | F21: =SUM(E21,D21) -> 24 | G21: 43 | H21: 37 | I21: =SUM(H21,G21) -> 80 | J21: 24 | K21: 14 | L21: =SUM(K21,J21) -> 38 | M21: =SUM(J21,G21,D21) -> 90 | N21: =SUM(K21,H21,E21) -> 52 | O21: =SUM(M21,N21) -> 142
C22: b | D22: 684 | E22: 10 | F22: =SUM(E22,D22) -> 694 | G22: 5 | H22: 1 | I22: =SUM(H22,G22) -> 6 | J22: 171 | K22: 50 | L22: =SUM(K22,J22) -> 221 | M22: =SUM(J22,G22,D22) -> 860 | N22: =SUM(K22,H22,E22) -> 61 | O22: =SUM(M22,N22) -> 921
C23: c | D23: 0 | E23: 0 | F23: =SUM(E23,D23) -> 0 | G23: 0 | H23: 0 | I23: =SUM(H23,G23) -> 0 | J23: 0 | K23: 0 | L23: =SUM(K23,J23) -> 0 | M23: =SUM(J23,G23,D23) -> 0 | N23: =SUM(K23,H23,E23) -> 0 | O23: =SUM(M23,N23) -> 0
A24: Hessen | C24: a | D24: 21 | E24: 9 | F24: =SUM(E24,D24) -> 30 | G24: 17 | H24: 12 | I24: =SUM(H24,G24) -> 29 | J24: 19 | K24: 21 | L24: =SUM(K24,J24) -> 40 | M24: =SUM(J24,G24,D24) -> 57 | N24: =SUM(K24,H24,E24) -> 42 | O24: =SUM(M24,N24) -> 99
C25: b | D25: 540 | E25: 21 | F25: =SUM(E25,D25) -> 561 | G25: 56 | H25: 9 | I25: =SUM(H25,G25) -> 65 | J25: 15 | K25: 2 | L25: =SUM(K25,J25) -> 17 | M25: =SUM(J25,G25,D25) -> 611 | N25: =SUM(K25,H25,E25) -> 32 | O25: =SUM(M25,N25) -> 643
C26: c | D26: 18 | E26: 49 | F26: =SUM(E26,D26) -> 67 | G26: 5 | H26: 7 | I26: =SUM(H26,G26) -> 12 | J26: 4 | K26: 6 | L26: =SUM(K26,J26) -> 10 | M26: =SUM(J26,G26,D26) -> 27 | N26: =SUM(K26,H26,E26) -> 62 | O26: =SUM(M26,N26) -> 89
A27: Mecklenburg-Vorpommern | C27: a | D27: =0.075+186.719 -> 186.794 | E27: 1.704 | F27: =SUM(E27,D27) -> 188.498 | G27: 73.789 | H27: 26.336 | I27: =SUM(H27,G27) -> 100.125 | J27: 3.639 | K27: 2.617 | L27: =SUM(J27,K27) -> 6.256 | M27: =SUM(J27,G27,D27) -> 264.222 | N27: =SUM(K27,H27,E27) -> 30.657 | O27: =SUM(M27,N27) -> 294.879
C28: b | D28: =0.096+593.381 -> 593.477 | E28: 5.323 | F28: =SUM(E28,D28) -> 598.8 | G28: 168.755 | H28: 21.743 | I28: =SUM(H28,G28) -> 190.498 | J28: 7.49 | K28: 1.12 | L28: =SUM(J28,K28) -> 8.61 | M28: =SUM(J28,G28,D28) -> 769.722 | N28: =SUM(K28,H28,E28) -> 28.186 | O28: =SUM(M28,N28) -> 797.908
C29: c | D29: 0 | E29: 0 | F29: =SUM(E29,D29) -> 0 | G29: 0 | H29: 0 | I29: =SUM(H29,G29) -> 0 | J29: 0 | K29: 0 | L29: =SUM(J29,K29) -> 0 | M29: =SUM(J29,G29,D29) -> 0 | N29: =SUM(K29,H29,E29) -> 0 | O29: =SUM(M29,N29) -> 0
A30: Niedersachsen 2) | C30: a | D30: 145 | E30: 4 | F30: =SUM(E30,D30) -> 149 | G30: 124 | H30: 73 | I30: =SUM(H30,G30) -> 197 | J30: 16 | K30: 61 | L30: =SUM(K30,J30) -> 77 | M30: =SUM(J30,G30,D30) -> 285 | N30: =SUM(K30,H30,E30) -> 138 | O30: =SUM(M30,N30) -> 423
C31: b | D31: 3463 | E31: 95 | F31: =SUM(E31,D31) -> 3558 | G31: 547 | H31: 231 | I31: =SUM(H31,G31) -> 778 | J31: 26 | K31: 11 | L31: =SUM(K31,J31) -> 37 | M31: =SUM(J31,G31,D31) -> 4036 | N31: =SUM(K31,H31,E31) -> 337 | O31: =SUM(M31,N31) -> 4373
C32: c | D32: 2 | E32: 6 | F32: =SUM(E32,D32) -> 8 | G32: 1 | H32: 5 | I32: =SUM(H32,G32) -> 6 | J32: 1 | K32: 1 | L32: =SUM(K32,J32) -> 2 | M32: =SUM(J32,G32,D32) -> 4 | N32: =SUM(K32,H32,E32) -> 12 | O32: =SUM(M32,N32) -> 16
A33: Nordrhein-Westfalen | C33: a | D33: 81 | E33: 103 | F33: =SUM(E33,D33) -> 184 | G33: 109 | H33: 266 | I33: =SUM(H33,G33) -> 375 | J33: 85 | K33: 170 | L33: =SUM(J33,K33) -> 255 | M33: =SUM(J33,G33,D33) -> 275 | N33: =SUM(K33,H33,E33) -> 539 | O33: =SUM(M33,N33) -> 814
C34: b | D34: 3605 | E34: 357 | F34: =SUM(E34,D34) -> 3962 | G34: 299 | H34: 122 | I34: =SUM(H34,G34) -> 421 | J34: 112 | K34: 71 | L34: =SUM(J34,K34) -> 183 | M34: =SUM(J34,G34,D34) -> 4016 | N34: =SUM(K34,H34,E34) -> 550 | O34: =SUM(M34,N34) -> 4566
C35: c | D35: 83 | E35: 930 | F35: =SUM(E35,D35) -> 1013 | G35: 18 | H35: 45 | I35: =SUM(H35,G35) -> 63 | J35: 5 | K35: 27 | L35: =SUM(J35,K35) -> 32 | M35: =SUM(J35,G35,D35) -> 106 | N35: =SUM(K35,H35,E35) -> 1002 | O35: =SUM(M35,N35) -> 1108
A36: Rheinland-Pfalz | C36: a | D36: 6 | E36: 0 | F36: =SUM(E36,D36) -> 6 | G36: 4 | H36: 0 | I36: =SUM(H36,G36) -> 4 | J36: 2 | K36: 2 | L36: =SUM(J36,K36) -> 4 | M36: =SUM(J36,G36,D36) -> 12 | N36: =SUM(K36,H36,E36) -> 2 | O36: =SUM(M36,N36) -> 14
C37: b | D37: 549 | E37: 10 | F37: =SUM(E37,D37) -> 559 | G37: 40 | H37: 16 | I37: =SUM(H37,G37) -> 56 | J37: 5 | K37: 3 | L37: =SUM(J37,K37) -> 8 | M37: =SUM(J37,G37,D37) -> 594 | N37: =SUM(K37,H37,E37) -> 29 | O37: =SUM(M37,N37) -> 623
C38: c | D38: 20 | E38: 1 | F38: =SUM(E38,D38) -> 21 | G38: 0 | H38: 0 | I38: =SUM(H38,G38) -> 0 | J38: 0 | K38: 0 | L38: =SUM(J38,K38) -> 0 | M38: =SUM(J38,G38,D38) -> 20 | N38: =SUM(K38,H38,E38) -> 1 | O38: =SUM(M38,N38) -> 21
A39: Saarland | C39: a | D39: 3.794 | E39: 5.94 | F39: =SUM(E39,D39) -> 9.734 | G39: 8.377 | H39: 7.897 | I39: =SUM(H39,G39) -> 16.274 | J39: 0 | K39: 0 | L39: =SUM(J39,K39) -> 0 | M39: =SUM(J39,G39,D39) -> 12.171 | N39: =SUM(K39,H39,E39) -> 13.837 | O39: =SUM(M39,N39) -> 26.008
C40: b | D40: 102.716 | E40: 20.127 | F40: =SUM(E40,D40) -> 122.843 | G40: 25.983 | H40: 14.041 | I40: =SUM(H40,G40) -> 40.024 | J40: 0 | K40: 2.221 | L40: =SUM(J40,K40) -> 2.221 | M40: =SUM(J40,G40,D40) -> 128.699 | N40: =SUM(K40,H40,E40) -> 36.389 | O40: =SUM(M40,N40) -> 165.088
C41: c | D41: 25.283 | E41: 15.341 | F41: =SUM(E41,D41) -> 40.624 | G41: 17.389 | H41: 11.976 | I41: =SUM(H41,G41) -> 29.365 | J41: 0.505 | K41: 0.126 | L41: =SUM(J41,K41) -> 0.631 | M41: =SUM(J41,G41,D41) -> 43.177 | N41: =SUM(K41,H41,E41) -> 27.443 | O41: =SUM(M41,N41) -> 70.62
A42: Sachsen | C42: a | D42: 108.98 | E42: 0 | F42: =SUM(E42,D42) -> 108.98 | G42: 29.32 | H42: 8 | I42: =SUM(H42,G42) -> 37.32 | J42: 48.3 | K42: 39.7 | L42: =SUM(J42,K42) -> 88 | M42: =SUM(J42,G42,D42) -> 186.6 | N42: =SUM(K42,H42,E42) -> 47.7 | O42: =SUM(M42,N42) -> 234.3
C43: b | D43: 201.81 | E43: 3 | F43: =SUM(E43,D43) -> 204.81 | G43: 51.11 | H43: 6 | I43: =SUM(H43,G43) -> 57.11 | J43: 113.794 | K43: 27 | L43: =SUM(J43,K43) -> 140.794 | M43: =SUM(J43,G43,D43) -> 366.714 | N43: =SUM(K43,H43,E43) -> 36 | O43: =SUM(M43,N43) -> 402.714
C44: c | D44: 6 | E44: 4 | F44: =SUM(E44,D44) -> 10 | G44: 2 | H44: 5 | I44: =SUM(H44,G44) -> 7 | J44: 12 | K44: 18 | L44: =SUM(J44,K44) -> 30 | M44: =SUM(J44,G44,D44) -> 20 | N44: =SUM(K44,H44,E44) -> 27 | O44: =SUM(M44,N44) -> 47
A45: Sachsen-Anhalt | C45: a | D45: 154 | E45: 3 | F45: =SUM(E45,D45) -> 157 | G45: 81 | H45: 40 | I45: =SUM(H45,G45) -> 121 | J45: 3 | K45: 1 | L45: =SUM(J45,K45) -> 4 | M45: =SUM(J45,G45,D45) -> 238 | N45: =SUM(K45,H45,E45) -> 44 | O45: =SUM(M45,N45) -> 282
C46: b | D46: 205 | E46: 3 | F46: =SUM(E46,D46) -> 208 | G46: 155 | H46: 26 | I46: =SUM(H46,G46) -> 181 | J46: 8 | K46: 2 | L46: =SUM(J46,K46) -> 10 | M46: =SUM(J46,G46,D46) -> 368 | N46: =SUM(K46,H46,E46) -> 31 | O46: =SUM(M46,N46) -> 399
C47: c | D47: 0 | E47: 0 | F47: =SUM(E47,D47) -> 0 | G47: 0 | H47: 0 | I47: =SUM(H47,G47) -> 0 | J47: 0 | K47: 0 | L47: =SUM(J47,K47) -> 0 | M47: =SUM(J47,G47,D47) -> 0 | N47: =SUM(K47,H47,E47) -> 0 | O47: =SUM(M47,N47) -> 0
A48: Schleswig-Holstein | C48: a | D48: 48.791 | E48: 1 | F48: =SUM(E48,D48) -> 49.791 | G48: 18 | H48: 8 | I48: =SUM(H48,G48) -> 26 | J48: 29 | K48: 40 | L48: =SUM(J48,K48) -> 69 | M48: =SUM(J48,G48,D48) -> 95.791 | N48: =SUM(K48,H48,E48) -> 49 | O48: =SUM(M48,N48) -> 144.791
C49: b | D49: 1660 | E49: 18 | F49: =SUM(E49,D49) -> 1678 | G49: 355 | H49: 64 | I49: =SUM(H49,G49) -> 419 | J49: 41 | K49: 28 | L49: =SUM(J49,K49) -> 69 | M49: =SUM(J49,G49,D49) -> 2056 | N49: =SUM(K49,H49,E49) -> 110 | O49: =SUM(M49,N49) -> 2166
C50: c | D50: 4 | E50: 5 | F50: =SUM(E50,D50) -> 9 | G50: 1 | H50: 0 | I50: =SUM(H50,G50) -> 1 | J50: 0 | K50: 0 | L50: =SUM(J50,K50) -> 0 | M50: =SUM(J50,G50,D50) -> 5 | N50: =SUM(K50,H50,E50) -> 5 | O50: =SUM(M50,N50) -> 10
A51: Thüringen | C51: a | D51: 52 | E51: 4 | F51: =SUM(E51,D51) -> 56 | G51: 32 | H51: 2 | I51: =SUM(H51,G51) -> 34 | J51: 2 | K51: 1 | L51: =SUM(K51,J51) -> 3 | M51: =SUM(J51,G51,D51) -> 86 | N51: =SUM(K51,H51,E51) -> 7 | O51: =SUM(M51,N51) -> 93
C52: b | D52: 94 | E52: 0 | F52: =SUM(E52,D52) -> 94 | G52: 66 | H52: 11 | I52: =SUM(H52,G52) -> 77 | J52: 5 | K52: 1 | L52: =SUM(K52,J52) -> 6 | M52: =SUM(J52,G52,D52) -> 165 | N52: =SUM(K52,H52,E52) -> 12 | O52: =SUM(M52,N52) -> 177
C53: c | D53: 7 | E53: 0 | F53: =SUM(E53,D53) -> 7 | G53: 3 | H53: 0 | I53: =SUM(H53,G53) -> 3 | J53: 0 | K53: 0 | L53: =SUM(K53,J53) -> 0 | M53: =SUM(J53,G53,D53) -> 10 | N53: =SUM(K53,H53,E53) -> 0 | O53: =SUM(M53,N53) -> 10
A54: Bundesgebiet | C54: a | D54: =D15+D18+D21+D24+D27+D30+D33+D36+D39+D42+D45+D48+D51 -> 984.779 | E54: =E15+E18+E21+E24+E27+E30+E33+E36+E39+E42+E45+E48+E51 -> 144.517 | F54: =SUM(E54,D54) -> 1129.296 | G54: =G15+G18+G21+G24+G27+G30+G33+G36+G39+G42+G45+G48+G51 -> 571.491 | H54: =H15+H18+H21+H24+H27+H30+H33+H36+H39+H42+H45+H48+H51 -> 503.399 | I54: =SUM(H54,G54) -> 1074.89 | J54: =J15+J18+J21+J24+J27+J30+J33+J36+J39+J42+J45+J48+J51 -> 267.305 | K54: =K15+K18+K21+K24+K27+K30+K33+K36+K39+K42+K45+K48+K51 -> 426.539 | L54: =SUM(J54,K54) -> 693.844 | M54: =SUM(J54,G54,D54) -> 1823.575 | N54: =SUM(K54,H54,E54) -> 1074.455 | O54: =SUM(M54,N54) -> 2898.03
C55: b | D55: =D16+D19+D22+D25+D28+D31+D34+D37+D40+D43+D46+D49+D52 -> 15222.109 | E55: =E16+E19+E22+E25+E28+E31+E34+E37+E40+E43+E46+E49+E52 -> 629.223 | F55: =SUM(E55,D55) -> 15851.332 | G55: =G16+G19+G22+G25+G28+G31+G34+G37+G40+G43+G46+G49+G52 -> 2233.95 | H55: =H16+H19+H22+H25+H28+H31+H34+H37+H40+H43+H46+H49+H52 -> 622.312 | I55: =SUM(H55,G55) -> 2856.262 | J55: =J16+J19+J22+J25+J28+J31+J34+J37+J40+J43+J46+J49+J52 -> 630.271 | K55: =K16+K19+K22+K25+K28+K31+K34+K37+K40+K43+K46+K49+K52 -> 257.527 | L55: =SUM(J55,K55) -> 887.798 | M55: =SUM(J55,G55,D55) -> 18086.33 | N55: =SUM(K55,H55,E55) -> 1509.062 | O55: =SUM(M55,N55) -> 19595.392
C56: c | D56: =D17+D20+D23+D26+D29+D32+D35+D38+D41+D44+D47+D50+D53 -> 1143.305 | E56: =E17+E20+E23+E26+E29+E32+E35+E38+E41+E44+E47+E50+E53 -> 1047.199 | F56: =SUM(E56,D56) -> 2190.504 | G56: =G17+G20+G23+G26+G29+G32+G35+G38+G41+G44+G47+G50+G53 -> 101.968 | H56: =H17+H20+H23+H26+H29+H32+H35+H38+H41+H44+H47+H50+H53 -> 80.641 | I56: =SUM(H56,G56) -> 182.609 | J56: =J17+J20+J23+J26+J29+J32+J35+J38+J41+J44+J47+J50+J53 -> 28.696 | K56: =K17+K20+K23+K26+K29+K32+K35+K38+K41+K44+K47+K50+K53 -> 60.63 | L56: =SUM(J56,K56) -> 89.326 | M56: =SUM(J56,G56,D56) -> 1273.969 | N56: =SUM(K56,H56,E56) -> 1188.47 | O56: =SUM(M56,N56) -> 2462.439
A58: Erläuterungen:
A59: 1) a) Radwege | C59: b) Radwege, die auch vom Fußgänger mitbenutzt werden
A60: c) Mehrzweckstreifen, die auch vom Radfahrer mitbenutzt werden (in Brandenburg und Bayern: auch als baulich getrennter, straßenparallelverlaufender Weg)
A61: 2) Die vorläufigen Zahlen Niedersachsens entsprechen den Zahlen des Vorjahres. Aufgrund einer Migration der NLStBV IT Systeme konnte die Methodik der Statistik der vergangenen Jahre noch nicht exakt mit vergleichbaren Zahlen repliziert und damit keine Kontinuität der Statistik gewährleistet werden.

Sheet Tabelle 4c
A7: Längenstatistik der Straßen des überörtlichen Verkehrs, Stand: 1. Januar 2026
A9: Tabelle 4c: | D9: Länge der mit Radwegen versehenen Kreisstraßen - in km
A11: Land | C11: Rad- wege- typ 1) | D11: freie Strecke | G11: Ortsdurchfahrten | M11: insgesamt
G12: in Hauptbaulast | J12: in Gemeindebaulast
D13: einseitig | E13: beidseitig | F13: alle | G13: einseitig | H13: beidseitig | I13: alle | J13: einseitig | K13: beidseitig | L13: alle | M13: einseitig | N13: beidseitig | O13: alle
A14: 1 | C14: 2 | D14: 3a | E14: 3b | F14: 3c | G14: 4a | H14: 4b | I14: 4c | J14: 5a | K14: 5b | L14: 5c | M14: 6a | N14: 6b | O14: 6c
A15: Baden- Württemberg | C15: a | D15: 64.23 | E15: 1.346 | F15: =SUM(E15,D15) -> 65.576 | G15: 13.674 | H15: 3.409 | I15: =SUM(H15,G15) -> 17.083 | J15: 0 | K15: 0 | L15: =SUM(J15,K15) -> 0 | M15: =SUM(J15,G15,D15) -> 77.904 | N15: =SUM(K15,H15,E15) -> 4.755 | O15: =SUM(M15,N15) -> 82.659
C16: b | D16: 1064.477 | E16: 34.643 | F16: =SUM(E16,D16) -> 1099.12 | G16: 128.714 | H16: 16.974 | I16: =SUM(H16,G16) -> 145.688 | J16: 3.768 | K16: 0.007 | L16: =SUM(J16,K16) -> 3.775 | M16: =SUM(J16,G16,D16) -> 1196.959 | N16: =SUM(K16,H16,E16) -> 51.624 | O16: =SUM(M16,N16) -> 1248.583
C17: c | D17: 2.214 | E17: 1.266 | F17: =SUM(E17,D17) -> 3.48 | G17: 5.481 | H17: 2.194 | I17: =SUM(H17,G17) -> 7.675 | J17: 0.188 | K17: 0.373 | L17: =SUM(J17,K17) -> 0.561 | M17: =SUM(J17,G17,D17) -> 7.883 | N17: =SUM(K17,H17,E17) -> 3.833 | O17: =SUM(M17,N17) -> 11.716
A18: Bayern | C18: a | D18: 66 | E18: 0 | F18: =SUM(E18,D18) -> 66 | G18: 3 | H18: 4 | I18: =SUM(H18,G18) -> 7 | J18: 14 | K18: 27 | L18: =SUM(K18,J18) -> 41 | M18: =SUM(J18,G18,D18) -> 83 | N18: =SUM(K18,H18,E18) -> 31 | O18: =SUM(M18,N18) -> 114
C19: b | D19: 2501 | E19: 20 | F19: =SUM(E19,D19) -> 2521 | G19: 194 | H19: 19 | I19: =SUM(H19,G19) -> 213 | J19: 116 | K19: 40 | L19: =SUM(K19,J19) -> 156 | M19: =SUM(J19,G19,D19) -> 2811 | N19: =SUM(K19,H19,E19) -> 79 | O19: =SUM(M19,N19) -> 2890
C20: c | D20: 149 | E20: 10 | F20: =SUM(E20,D20) -> 159 | G20: 5 | H20: 1 | I20: =SUM(H20,G20) -> 6 | J20: 1 | K20: 0 | L20: =SUM(K20,J20) -> 1 | M20: =SUM(J20,G20,D20) -> 155 | N20: =SUM(K20,H20,E20) -> 11 | O20: =SUM(M20,N20) -> 166
A21: Brandenburg | C21: a | D21: 30 | E21: 5 | F21: =SUM(E21,D21) -> 35 | G21: 16 | H21: 20 | I21: =SUM(H21,G21) -> 36 | J21: 4 | K21: 2 | L21: =SUM(K21,J21) -> 6 | M21: =SUM(J21,G21,D21) -> 50 | N21: =SUM(K21,H21,E21) -> 27 | O21: =SUM(M21,N21) -> 77
C22: b | D22: 216 | E22: 0 | F22: =SUM(E22,D22) -> 216 | G22: 16 | H22: 1 | I22: =SUM(H22,G22) -> 17 | J22: 28 | K22: 3 | L22: =SUM(K22,J22) -> 31 | M22: =SUM(J22,G22,D22) -> 260 | N22: =SUM(K22,H22,E22) -> 4 | O22: =SUM(M22,N22) -> 264
C23: c | D23: 3 | E23: 0 | F23: =SUM(E23,D23) -> 3 | G23: 0 | H23: 0 | I23: =SUM(H23,G23) -> 0 | J23: 3 | K23: 3 | L23: =SUM(K23,J23) -> 6 | M23: =SUM(J23,G23,D23) -> 6 | N23: =SUM(K23,H23,E23) -> 3 | O23: =SUM(M23,N23) -> 9
A24: Hessen | C24: a | D24: 12 | E24: 3 | F24: =SUM(E24,D24) -> 15 | G24: 21 | H24: 22 | I24: =SUM(H24,G24) -> 43 | J24: 3 | K24: 1 | L24: =SUM(K24,J24) -> 4 | M24: =SUM(J24,G24,D24) -> 36 | N24: =SUM(K24,H24,E24) -> 26 | O24: =SUM(M24,N24) -> 62
C25: b | D25: 242 | E25: 9 | F25: =SUM(E25,D25) -> 251 | G25: 43 | H25: 3 | I25: =SUM(H25,G25) -> 46 | J25: 6 | K25: 2 | L25: =SUM(K25,J25) -> 8 | M25: =SUM(J25,G25,D25) -> 291 | N25: =SUM(K25,H25,E25) -> 14 | O25: =SUM(M25,N25) -> 305
C26: c | D26: 6 | E26: 16 | F26: =SUM(E26,D26) -> 22 | G26: 6 | H26: 3 | I26: =SUM(H26,G26) -> 9 | J26: 0 | K26: 0 | L26: =SUM(K26,J26) -> 0 | M26: =SUM(J26,G26,D26) -> 12 | N26: =SUM(K26,H26,E26) -> 19 | O26: =SUM(M26,N26) -> 31
A27: Mecklenburg-Vorpommern | C27: a | D27: 61.895 | E27: 0 | F27: =SUM(E27,D27) -> 61.895 | G27: 21.062 | H27: 0 | I27: =SUM(H27,G27) -> 21.062 | J27: 10.107 | K27: 1 | L27: =SUM(K27,J27) -> 11.107 | M27: =SUM(J27,G27,D27) -> 93.064 | N27: =SUM(K27,H27,E27) -> 1 | O27: =SUM(M27,N27) -> 94.064
C28: b | D28: 252.754 | E28: 0.033 | F28: =SUM(E28,D28) -> 252.787 | G28: 84.518 | H28: 1.513 | I28: =SUM(H28,G28) -> 86.031 | J28: 20.718 | K28: 0 | L28: =SUM(K28,J28) -> 20.718 | M28: =SUM(J28,G28,D28) -> 357.99 | N28: =SUM(K28,H28,E28) -> 1.546 | O28: =SUM(M28,N28) -> 359.536
C29: c | D29: 175.753 | E29: 2 | F29: =SUM(E29,D29) -> 177.753 | G29: 19.093 | H29: 0 | I29: =SUM(H29,G29) -> 19.093 | J29: 0 | K29: 0 | L29: =SUM(K29,J29) -> 0 | M29: =SUM(J29,G29,D29) -> 194.846 | N29: =SUM(K29,H29,E29) -> 2 | O29: =SUM(M29,N29) -> 196.846
A30: Niedersachsen 2) | C30: a | D30: 513 | E30: 15 | F30: =SUM(E30,D30) -> 528 | G30: 160 | H30: 79 | I30: =SUM(H30,G30) -> 239 | J30: 6 | K30: 10 | L30: =SUM(K30,J30) -> 16 | M30: =SUM(J30,G30,D30) -> 679 | N30: =SUM(K30,H30,E30) -> 104 | O30: =SUM(M30,N30) -> 783
C31: b | D31: 4517 | E31: 74 | F31: =SUM(E31,D31) -> 4591 | G31: 963 | H31: 175 | I31: =SUM(H31,G31) -> 1138 | J31: 23 | K31: 9 | L31: =SUM(K31,J31) -> 32 | M31: =SUM(J31,G31,D31) -> 5503 | N31: =SUM(K31,H31,E31) -> 258 | O31: =SUM(M31,N31) -> 5761
C32: c | D32: 3 | E32: 4 | F32: =SUM(E32,D32) -> 7 | G32: 4 | H32: 7 | I32: =SUM(H32,G32) -> 11 | J32: 0 | K32: 1.409 | L32: =SUM(K32,J32) -> 1.409 | M32: =SUM(J32,G32,D32) -> 7 | N32: =SUM(K32,H32,E32) -> 12.409 | O32: =SUM(M32,N32) -> 19.409
A33: Nordrhein-Westfalen | C33: a | D33: 37 | E33: 11 | F33: =SUM(E33,D33) -> 48 | G33: 34 | H33: 49 | I33: =SUM(H33,G33) -> 83 | J33: 10 | K33: 19 | L33: =SUM(J33,K33) -> 29 | M33: =SUM(J33,G33,D33) -> 81 | N33: =SUM(K33,H33,E33) -> 79 | O33: =SUM(M33,N33) -> 160
C34: b | D34: 1302 | E34: 58 | F34: =SUM(E34,D34) -> 1360 | G34: 156 | H34: 42 | I34: =SUM(H34,G34) -> 198 | J34: 14 | K34: 14 | L34: =SUM(J34,K34) -> 28 | M34: =SUM(J34,G34,D34) -> 1472 | N34: =SUM(K34,H34,E34) -> 114 | O34: =SUM(M34,N34) -> 1586
C35: c | D35: 10 | E35: 96 | F35: =SUM(E35,D35) -> 106 | G35: 7 | H35: 16 | I35: =SUM(H35,G35) -> 23 | J35: 2 | K35: 3 | L35: =SUM(J35,K35) -> 5 | M35: =SUM(J35,G35,D35) -> 19 | N35: =SUM(K35,H35,E35) -> 115 | O35: =SUM(M35,N35) -> 134
A36: Rheinland-Pfalz | C36: a | D36: 0 | E36: 1 | F36: =SUM(E36,D36) -> 1 | G36: 0 | H36: 0 | I36: =SUM(H36,G36) -> 0 | J36: 1 | K36: 0 | L36: =SUM(J36,K36) -> 1 | M36: =SUM(J36,G36,D36) -> 1 | N36: =SUM(K36,H36,E36) -> 1 | O36: =SUM(M36,N36) -> 2
C37: b | D37: 232 | E37: 5 | F37: 18 | G37: 18 | H37: 8 | I37: =SUM(H37,G37) -> 26 | J37: 8 | K37: 8 | L37: =SUM(J37,K37) -> 16 | M37: =SUM(J37,G37,D37) -> 258 | N37: =SUM(K37,H37,E37) -> 21 | O37: =SUM(M37,N37) -> 279
C38: c | D38: 15 | E38: 2 | F38: =SUM(E38,D38) -> 17 | G38: 0 | H38: 0 | I38: =SUM(H38,G38) -> 0 | J38: 0 | K38: 0 | L38: =SUM(J38,K38) -> 0 | M38: =SUM(J38,G38,D38) -> 15 | N38: =SUM(K38,H38,E38) -> 2 | O38: =SUM(M38,N38) -> 17
A39: Saarland | C39: a | D39: 0.032 | E39: 0 | F39: =SUM(E39,D39) -> 0.032 | G39: 1.247 | H39: 0.34 | I39: =SUM(H39,G39) -> 1.587 | J39: 0 | K39: 0 | L39: =SUM(J39,K39) -> 0 | M39: =SUM(J39,G39,D39) -> 1.279 | N39: =SUM(K39,H39,E39) -> 0.34 | O39: =SUM(M39,N39) -> 1.619
C40: b | D40: 49.234 | E40: 1.885 | F40: =SUM(E40,D40) -> 51.119 | G40: 6.594 | H40: 2.023 | I40: =SUM(H40,G40) -> 8.617 | J40: 1.391 | K40: 0 | L40: =SUM(J40,K40) -> 1.391 | M40: =SUM(J40,G40,D40) -> 57.219 | N40: =SUM(K40,H40,E40) -> 3.908 | O40: =SUM(M40,N40) -> 61.127
C41: c | D41: 15.284 | E41: 9.468 | F41: =SUM(E41,D41) -> 24.752 | G41: 7.178 | H41: 3.878 | I41: =SUM(H41,G41) -> 11.056 | J41: 0.627 | K41: 0.045 | L41: =SUM(J41,K41) -> 0.672 | M41: =SUM(J41,G41,D41) -> 23.089 | N41: =SUM(K41,H41,E41) -> 13.391 | O41: =SUM(M41,N41) -> 36.48
A42: Sachsen | C42: a | D42: 55.256 | E42: 0.03 | F42: =SUM(E42,D42) -> 55.286 | G42: 6 | H42: 4 | I42: =SUM(H42,G42) -> 10 | J42: 9.518 | K42: 8.68 | L42: =SUM(J42,K42) -> 18.198 | M42: =SUM(J42,G42,D42) -> 70.774 | N42: =SUM(K42,H42,E42) -> 12.71 | O42: =SUM(M42,N42) -> 83.484
C43: b | D43: 165.324 | E43: 1 | F43: =SUM(E43,D43) -> 166.324 | G43: 48 | H43: 3 | I43: =SUM(H43,G43) -> 51 | J43: 43.165 | K43: 3 | L43: =SUM(J43,K43) -> 46.165 | M43: =SUM(J43,G43,D43) -> 256.489 | N43: =SUM(K43,H43,E43) -> 7 | O43: =SUM(M43,N43) -> 263.489
C44: c | D44: 0 | E44: 0 | F44: =SUM(E44,D44) -> 0 | G44: 1 | H44: 1 | I44: =SUM(H44,G44) -> 2 | J44: 0 | K44: 2 | L44: =SUM(J44,K44) -> 2 | M44: =SUM(J44,G44,D44) -> 1 | N44: =SUM(K44,H44,E44) -> 3 | O44: =SUM(M44,N44) -> 4
A45: Sachsen-Anhalt | C45: a | D45: 99 | E45: 0 | F45: =SUM(E45,D45) -> 99 | G45: 14 | H45: 12 | I45: =SUM(H45,G45) -> 26 | J45: 3 | K45: 1 | L45: =SUM(J45,K45) -> 4 | M45: =SUM(J45,G45,D45) -> 116 | N45: =SUM(K45,H45,E45) -> 13 | O45: =SUM(M45,N45) -> 129
C46: b | D46: 162 | E46: 1 | F46: =SUM(E46,D46) -> 163 | G46: 24 | H46: 2 | I46: =SUM(H46,G46) -> 26 | J46: 28 | K46: 12 | L46: =SUM(J46,K46) -> 40 | M46: =SUM(J46,G46,D46) -> 214 | N46: =SUM(K46,H46,E46) -> 15 | O46: =SUM(M46,N46) -> 229
C47: c | D47: 7 | E47: 0 | F47: =SUM(E47,D47) -> 7 | G47: 5 | H47: 0 | I47: =SUM(H47,G47) -> 5 | J47: 3 | K47: 0 | L47: =SUM(J47,K47) -> 3 | M47: =SUM(J47,G47,D47) -> 15 | N47: =SUM(K47,H47,E47) -> 0 | O47: =SUM(M47,N47) -> 15
A48: Schleswig-Holstein | C48: a | D48: 171 | E48: 3 | F48: =SUM(E48,D48) -> 174 | G48: 45 | H48: 10 | I48: =SUM(H48,G48) -> 55 | J48: 60 | K48: 79 | L48: =SUM(J48,K48) -> 139 | M48: =SUM(J48,G48,D48) -> 276 | N48: =SUM(K48,H48,E48) -> 92 | O48: =SUM(M48,N48) -> 368
C49: b | D49: 1078 | E49: 9 | F49: =SUM(E49,D49) -> 1087 | G49: 297 | H49: 19 | I49: =SUM(H49,G49) -> 316 | J49: 37 | K49: 11 | L49: =SUM(J49,K49) -> 48 | M49: =SUM(J49,G49,D49) -> 1412 | N49: =SUM(K49,H49,E49) -> 39 | O49: =SUM(M49,N49) -> 1451
C50: c | D50: 2 | E50: 3 | F50: =SUM(E50,D50) -> 5 | G50: 1 | H50: 0 | I50: =SUM(H50,G50) -> 1 | J50: 2 | K50: 0 | L50: =SUM(J50,K50) -> 2 | M50: =SUM(J50,G50,D50) -> 5 | N50: =SUM(K50,H50,E50) -> 3 | O50: =SUM(M50,N50) -> 8
A51: Thüringen | C51: a | D51: 7 | E51: 0 | F51: =SUM(E51,D51) -> 7 | G51: 0 | H51: 0 | I51: =SUM(H51,G51) -> 0 | J51: 9 | K51: 6 | L51: =SUM(K51,J51) -> 15 | M51: =SUM(J51,G51,D51) -> 16 | N51: =SUM(K51,H51,E51) -> 6 | O51: =SUM(M51,N51) -> 22
C52: b | D52: 39 | E52: 0 | F52: =SUM(E52,D52) -> 39 | G52: 5 | H52: 0 | I52: =SUM(H52,G52) -> 5 | J52: 46 | K52: 23 | L52: =SUM(K52,J52) -> 69 | M52: =SUM(J52,G52,D52) -> 90 | N52: =SUM(K52,H52,E52) -> 23 | O52: =SUM(M52,N52) -> 113
C53: c | D53: 8 | E53: 0 | F53: =SUM(E53,D53) -> 8 | G53: 4 | H53: 0 | I53: =SUM(H53,G53) -> 4 | J53: 3 | K53: 0 | L53: =SUM(K53,J53) -> 3 | M53: =SUM(J53,G53,D53) -> 15 | N53: =SUM(K53,H53,E53) -> 0 | O53: =SUM(M53,N53) -> 15
A54: Bundesgebiet | C54: a | D54: =D15+D18+D21+D24+D27+D30+D33+D36+D39+D42+D45+D48+D51 -> 1116.413 | E54: =E15+E18+E21+E24+E27+E30+E33+E36+E39+E42+E45+E48+E51 -> 39.376 | F54: =SUM(E54,D54) -> 1155.789 | G54: =G15+G18+G21+G24+G27+G30+G33+G36+G39+G42+G45+G48+G51 -> 334.983 | H54: =H15+H18+H21+H24+H27+H30+H33+H36+H39+H42+H45+H48+H51 -> 203.749 | I54: =SUM(H54,G54) -> 538.732 | J54: =J15+J18+J21+J24+J27+J30+J33+J36+J39+J42+J45+J48+J51 -> 129.625 | K54: =K15+K18+K21+K24+K27+K30+K33+K36+K39+K42+K45+K48+K51 -> 154.68 | L54: =SUM(J54,K54) -> 284.305 | M54: =SUM(J54,G54,D54) -> 1581.021 | N54: =SUM(K54,H54,E54) -> 397.805 | O54: =SUM(M54,N54) -> 1978.826
C55: b | D55: =D16+D19+D22+D25+D28+D31+D34+D37+D40+D43+D46+D49+D52 -> 11820.789 | E55: =E16+E19+E22+E25+E28+E31+E34+E37+E40+E43+E46+E49+E52 -> 213.561 | F55: =SUM(E55,D55) -> 12034.35 | G55: =G16+G19+G22+G25+G28+G31+G34+G37+G40+G43+G46+G49+G52 -> 1983.826 | H55: =H16+H19+H22+H25+H28+H31+H34+H37+H40+H43+H46+H49+H52 -> 292.51 | I55: =SUM(H55,G55) -> 2276.336 | J55: =J16+J19+J22+J25+J28+J31+J34+J37+J40+J43+J46+J49+J52 -> 375.042 | K55: =K16+K19+K22+K25+K28+K31+K34+K37+K40+K43+K46+K49+K52 -> 125.007 | L55: =SUM(J55,K55) -> 500.049 | M55: =SUM(J55,G55,D55) -> 14179.657 | N55: =SUM(K55,H55,E55) -> 631.078 | O55: =SUM(M55,N55) -> 14810.735
C56: c | D56: =D17+D20+D23+D26+D29+D32+D35+D38+D41+D44+D47+D50+D53 -> 396.251 | E56: =E17+E20+E23+E26+E29+E32+E35+E38+E41+E44+E47+E50+E53 -> 143.734 | F56: =SUM(E56,D56) -> 539.985 | G56: =G17+G20+G23+G26+G29+G32+G35+G38+G41+G44+G47+G50+G53 -> 64.752 | H56: =H17+H20+H23+H26+H29+H32+H35+H38+H41+H44+H47+H50+H53 -> 34.072 | I56: =SUM(H56,G56) -> 98.824 | J56: =J17+J20+J23+J26+J29+J32+J35+J38+J41+J44+J47+J50+J53 -> 14.815 | K56: =K17+K20+K23+K26+K29+K32+K35+K38+K41+K44+K47+K50+K53 -> 9.827 | L56: =SUM(J56,K56) -> 24.642 | M56: =SUM(J56,G56,D56) -> 475.818 | N56: =SUM(K56,H56,E56) -> 187.633 | O56: =SUM(M56,N56) -> 663.451
A58: Erläuterungen:
A59: 1) a) Radwege | C59: b) Radwege, die auch vom Fußgänger mitbenutzt werden
A60: c) Mehrzweckstreifen, die auch vom Radfahrer mitbenutzt werden (in Brandenburg und Bayern: auch als baulich getrennter, straßenparallelverlaufender Weg)
A61: 2) Die vorläufigen Zahlen Niedersachsens entsprechen den Zahlen des Vorjahres. Aufgrund einer Migration der NLStBV IT Systeme konnte die Methodik der Statistik der vergangenen Jahre noch nicht exakt mit vergleichbaren Zahlen repliziert und damit keine Kontinuität der Statistik gewährleistet werden.

Sheet Tab. 5
A7: Längenstatistik der Straßen des überörtlichen Verkehrs, Stand: 1. Januar 2026
A9: Tabelle 5: | B9: Erneuerungsmaßnahmen an Bundesautobahnen - in km - im Jahre 2025
A11: Land | B11: Erneuerung im Tiefeinbau 1) | M11: Erneuerung im Hocheinbau 1) (volle Breite) 3)
B12: Ersatz der Deck- und Binderschicht | E12: Ersatz der Deckschicht | H12: Ersatz aller gebundenen Schichten | K12: Ersatz des gesamten Oberbaus
B13: volle Breite 3) | C13: Fahrstreifen | E13: volle Breite 3) | F13: Fahrstreifen | H13: volle Breite 3) | I13: Fahrstreifen | K13: volle Breite 3) | L13: Fahr- streifen | M13: Aufbringen einer Decke | N13: Aufbringen von mehr als einer Decke
C14: linker 2) | D14: rechter | F14: linker 2) | G14: rechter | I14: linker 2) | J14: rechter
A15: 1 | B15: 2a | C15: 2b | D15: 2c | E15: 3a | F15: 3b | G15: 3c | H15: 4a | I15: 4b | J15: 4c | K15: 5a | L15: 5b | M15: 6 | N15: 7
A16: Baden Württemberg | B16: 43 | C16: 0 | D16: 1 | E16: 12 | F16: 0 | G16: 9 | H16: 2 | I16: 0 | J16: 2 | K16: 7 | L16: 0 | M16: 0 | N16: 0
A17: Bayern | B17: 41 | C17: 9 | D17: 19 | E17: 26 | F17: 2 | G17: 13 | H17: 28 | I17: 0 | J17: 0 | K17: 128 | L17: 0 | M17: 0 | N17: 0
A18: Berlin | B18: 0 | C18: 0 | D18: 0 | E18: 0 | F18: 0 | G18: 0 | H18: 1 | I18: 0 | J18: 0 | K18: 0 | L18: 0 | M18: 0 | N18: 0
A19: Brandenburg | B19: 24 | C19: 0 | D19: 0 | E19: 0 | F19: 0 | G19: 0 | H19: 14 | I19: 0 | J19: 0 | K19: 6 | L19: 0 | M19: 0 | N19: 0
A20: Bremen | B20: 0 | C20: 0 | D20: 0 | E20: 0 | F20: 0 | G20: 0 | H20: 0 | I20: 0 | J20: 0 | K20: 0 | L20: 2 | M20: 0 | N20: 0
A21: Hamburg | B21: 5 | C21: 0 | D21: 0 | E21: 1 | F21: 0 | G21: 0 | H21: 0 | I21: 0 | J21: 0 | K21: 0 | L21: 0 | M21: 0 | N21: 0
A22: Hessen | B22: 14 | C22: 7 | D22: 18 | E22: 7 | F22: 0 | G22: 0 | H22: 4 | I22: 0 | J22: 0 | K22: 12 | L22: 0 | M22: 4 | N22: 2
A23: Mecklenburg-Vorpommern | B23: 19 | C23: 0 | D23: 0 | E23: 0 | F23: 0 | G23: 0 | H23: 9 | I23: 0 | J23: 0 | K23: 0 | L23: 0 | M23: 0 | N23: 11
A24: Niedersachsen | B24: 9 | C24: 2 | D24: 0 | E24: 0 | F24: 0 | G24: 0 | H24: 12 | I24: 0 | J24: 0 | K24: 9 | L24: 24 | M24: 12 | N24: 22
A25: Nordrhein-Westfalen | B25: 17 | C25: 32 | D25: 64 | E25: 25 | F25: 41 | G25: 7 | H25: 11 | I25: 10 | J25: 0 | K25: 6 | L25: 6 | M25: 23 | N25: 10
A26: Rheinland-Pfalz | B26: 21 | C26: 1 | D26: 0 | E26: 6 | F26: 0 | G26: 0 | H26: 0 | I26: 0 | J26: 0 | K26: 12 | L26: 0 | M26: 0 | N26: 0
A27: Saarland | B27: 26 | C27: 0 | D27: 5 | E27: 5 | F27: 0 | G27: 0 | H27: 0 | I27: 0 | J27: 0 | K27: 1 | L27: 1 | M27: 0 | N27: 0
... A31: Thüringen | B31: 0 | C31: 0 | D31: 0 | E31: 0 | F31: 0 | G31: 0 | H31: 13 | I31: 0 | J31: 0 | K31: 9 | L31: 0 | M31: 0 | N31: 0
A32: Bundesgebiet | B32: =SUM(B16:B31) -> 250 | C32: =SUM(C16:C31) -> 51 | D32: =SUM(D16:D31) -> 107 | E32: =SUM(E16:E31) -> 87 | F32: =SUM(F16:F31) -> 47 | G32: =SUM(G16:G31) -> 33 | H32: =SUM(H16:H31) -> 112 | I32: =SUM(I16:I31) -> 10 | ... N32: =SUM(N16:N31) -> 45
A34: Erläuterungen:
A35: 1) Längenerfassung auf Richtungsfahrbahn bezogen, ohne Anschluss- und Verbindungsäste
A36: 2) hierzu zählt auch der mittlere Fahrstreifen einer dreistreifigen Richtungsfahrbahn
A37: 3) einschließlich Standstreifen

Sheet Tab. 6
A7: Längenstatistik der Straßen des überörtlichen Verkehrs, Stand: 1. Januar 2026
A9: Tabelle 6: | B9: Längenänderungen an Bundesautobahnen 1) - in km - im Jahre 2025 | I9: Kontrolle
I10: Veränderung gegenüber dem Vorjahr (Tabelle 6, Spalten 2-7) | K10: Veränderung gegenüber dem Vorjahr (Tabelle 1, Spalte 2b)
A11: Land | B11: Zugang | E11: Abgang
B12: Neubau | C12: Aufstufung | D12: sonstige 2) | E12: Abstufung | F12: Einziehung | G12: sonstige 3)
A13: 1 | B13: 2 | C13: 3 | D13: 4 | E13: 5 | F13: 6 | G13: 7
A14: Baden Württemberg | B14: 0 | C14: 0 | D14: 0 | E14: 0 | F14: 0 | G14: 0 | I14: =(B14+C14+D14)-(E14+F14+G14) -> 0 | K14: ='Tab. 1'!C16 -> 0
A15: Bayern | B15: 0 | C15: 0 | D15: 0 | E15: 0 | F15: 0 | G15: 0 | I15: =(B15+C15+D15)-(E15+G15) -> 0 | K15: ='Tab. 1'!C17 -> 0
A16: Berlin | B16: 3 | C16: 0 | D16: 0 | E16: 0 | F16: 0 | G16: 0 | I16: =(B16+C16+D16)-(E16+G16) -> 3 | K16: ='Tab. 1'!C18 -> 3
A17: Brandenburg | B17: 0 | C17: 0 | D17: 0 | E17: 0 | F17: 0 | G17: 1 | I17: =(B17+C17+D17)-(E17+G17) -> -1 | K17: ='Tab. 1'!C19 -> -1
A18: Bremen | B18: 0 | C18: 0 | D18: 0 | E18: 0 | F18: 0 | G18: 0 | I18: =(B18+C18+D18)-(E18+G18) -> 0 | K18: ='Tab. 1'!C20 -> 0
A19: Hamburg | B19: 0 | C19: 0 | D19: 0 | E19: 0 | F19: 0 | G19: 0 | I19: =(B19+C19+D19)-(E19+G19) -> 0 | K19: ='Tab. 1'!C21 -> 0
A20: Hessen | B20: 30 | C20: 0 | D20: 0 | E20: 0 | F20: 0 | G20: 0 | I20: =(B20+C20+D20)-(E20+G20) -> 30 | K20: ='Tab. 1'!C22 -> 30
A21: Mecklenburg-Vorpommern | B21: 0 | C21: 0 | D21: 0 | E21: 0 | F21: 0 | G21: 0 | I21: =(B21+C21+D21)-(E21+G21) -> 0 | K21: ='Tab. 1'!C23 -> 0
A22: Niedersachsen | B22: 5 | C22: 0 | D22: 0 | E22: 0 | F22: 0 | G22: 1 | I22: =(B22+C22+D22)-(E22+G22) -> 4 | K22: ='Tab. 1'!C24 -> 4
A23: Nordrhein-Westfalen | B23: 0 | C23: 0 | D23: 0 | E23: 0 | F23: 0 | G23: 0 | I23: =(B23+C23+D23)-(E23+G23) -> 0 | K23: ='Tab. 1'!C25 -> 0
A24: Rheinland-Pfalz | B24: 0 | C24: 0 | D24: 0 | E24: 0 | F24: 0 | G24: 0 | I24: =(B24+C24+D24)-(E24+G24) -> 0 | K24: ='Tab. 1'!C26 -> 0
A25: Saarland | B25: 0 | C25: 0 | D25: 0 | E25: 0 | F25: 0 | G25: 0 | I25: =(B25+C25+D25)-(E25+G25) -> 0 | K25: ='Tab. 1'!C27 -> 0
A26: Sachsen | B26: 0 | C26: 0 | D26: 0 | E26: 0 | F26: 0 | G26: 0 | I26: =(B26+C26+D26)-(E26+G26) -> 0 | K26: ='Tab. 1'!C28 -> 0
... A29: Thüringen | B29: 0 | C29: 0 | D29: 0 | E29: 0 | F29: 0 | G29: 0 | I29: =(B29+C29+D29)-(E29+G29) -> 0 | K29: ='Tab. 1'!C31 -> 0
A30: Bundesgebiet | B30: =SUM(B14:B29) -> 38 | C30: =SUM(C14:C29) -> 0 | D30: =SUM(D14:D29) -> 0 | E30: =SUM(E14:E29) -> 0 | F30: =SUM(F14:F29) -> 0 | G30: =SUM(G14:G29) -> 2 | I30: =(B30+C30+D30)-(E30+F30+G30) -> 36 | K30: ='Tab. 1'!C32 -> 36
A32: Erläuterungen:
A33: 1) ohne Äste
A34: 2) u. a. Messdifferenzen, Fortführungen
A35: 3) Harmonisierung der Auswertemethodik bzgl. getrennt verlaufender Fahrbahnen, die nur mit der halben Länge gerechnet werden

Sheet Tab. 7
A7: Längenstatistik der Straßen des überörtlichen Verkehrs, Stand: 1. Januar 2026
A9: Tabelle 7: | B9: Längenänderungen an Bundesstraßen 1) - in km - im Jahre 2025 | K9: Kontrolle
K10: Veränderung gegenüber dem Vorjahr (Tabelle 7, Spalten 2-9) | M10: Veränderung gegenüber dem Vorjahr (Tabelle 1, Spalte 3b)
A11: Land | B11: Zugang | F11: Abgang
B12: Neubau | C12: Aufstufung | D12: Abstufung | E12: sonstige 2) | F12: Abstufung | G12: Aufstufung | H12: Einziehung | I12: sonstige 2)
A13: 1 | B13: 2 | C13: 3 | D13: 4 | E13: 5 | F13: 6 | G13: 7 | H13: 8 | I13: 9
A14: Baden Württemberg | B14: 0 | C14: 6.42 | D14: 0 | E14: -0.118 | F14: 37.262 | G14: 0 | H14: 0 | I14: 0 | K14: =(B14+C14+D14+E14)-(F14+G14+H14+I14) -> -30.96 | M14: ='Tab. 1'!E16 -> -30.96
A15: Bayern | B15: 3 | C15: 0 | D15: 0 | E15: 0 | F15: 2 | G15: 0 | H15: 0 | I15: 0 | K15: =(B15+C15+D15+E15)-(F15+G15+H15+I15) -> 1 | M15: ='Tab. 1'!E17 -> 1
A16: Berlin | B16: 0 | C16: 0 | D16: 0 | E16: 0 | F16: 0 | G16: 0 | H16: 0 | I16: 0 | K16: =(B16+C16+D16+E16)-(F16+G16+H16+I16) -> 0 | M16: ='Tab. 1'!E18 -> 0
A17: Brandenburg | B17: 7 | C17: 0 | D17: 0 | E17: 0 | F17: 11 | G17: 0 | H17: 5 | I17: 0 | K17: =(B17+C17+D17+E17)-(F17+G17+H17+I17) -> -9 | M17: ='Tab. 1'!E19 -> -9
A18: Bremen 3) | B18: 0 | C18: 0 | D18: 0 | E18: 0 | F18: 0 | G18: 0 | H18: 0 | I18: 0 | K18: =(B18+C18+D18+E18)-(F18+G18+H18+I18) -> 0 | M18: ='Tab. 1'!E20 -> 0
A19: Hamburg | B19: 0 | C19: 0 | D19: 0 | E19: 0 | F19: 0 | G19: 0 | H19: 0 | I19: 0 | K19: =(B19+C19+D19+E19)-(F19+G19+H19+I19) -> 0 | M19: ='Tab. 1'!E21 -> 0
A20: Hessen | B20: 6 | C20: 1 | D20: 0 | E20: 0 | F20: 29 | G20: 0 | H20: 0 | I20: 2 | K20: =(B20+C20+D20+E20)-(F20+G20+H20+I20) -> -24 | M20: ='Tab. 1'!E22 -> -24
A21: Mecklenburg-Vorpommern | B21: 0 | C21: 0 | D21: 0 | E21: 0 | F21: 0 | G21: 0 | H21: 0 | I21: -0.009 | K21: =(B21+C21+D21+E21)-(F21+G21+H21+I21) -> 0.009 | M21: ='Tab. 1'!E23 -> 0
A22: Niedersachsen 4) | B22: 0 | C22: 0 | D22: 0 | E22: 0 | F22: 0 | G22: 0 | H22: 0 | I22: 0 | K22: =(B22+C22+D22+E22)-(F22+G22+H22+I22) -> 0 | M22: ='Tab. 1'!E24 -> 0
A23: Nordrhein-Westfalen | B23: 7 | C23: 0 | D23: 0 | E23: 0 | F23: 5 | G23: 0 | H23: 1 | I23: 0 | K23: =(B23+C23+D23+E23)-(F23+G23+H23+I23) -> 1 | M23: ='Tab. 1'!E25 -> 1
A24: Rheinland-Pfalz | B24: 1 | C24: 0 | D24: 0 | E24: 0 | F24: 1 | G24: 0 | H24: 1 | I24: 0 | K24: =(B24+C24+D24+E24)-(F24+G24+H24+I24) -> -1 | M24: ='Tab. 1'!E26 -> -1
A25: Saarland | B25: 0 | C25: 0 | D25: 0 | E25: 0 | F25: 0 | G25: 0 | H25: 0 | I25: 0 | K25: =(B25+C25+D25+E25)-(F25+G25+H25+I25) -> 0 | M25: ='Tab. 1'!E27 -> 0
... A29: Thüringen | B29: 5 | C29: 0 | D29: 0 | E29: 0 | F29: 6 | G29: 0 | H29: 0 | I29: 0 | K29: =(B29+C29+D29+E29)-(F29+G29+H29+I29) -> -1 | M29: ='Tab. 1'!E31 -> -1
A30: Bundesgebiet | B30: =SUM(B14:B29) -> 35 | C30: =SUM(C14:C29) -> 7.42 | D30: =SUM(D14:D29) -> 0 | E30: =SUM(E14:E29) -> -0.118 | F30: =SUM(F14:F29) -> 96.862 | G30: =SUM(G14:G29) -> 1 | H30: =SUM(H14:H29) -> 7.4 | I30: =SUM(I14:I29) -> 1.991 | K30: =(B30+C30+E30+E30)-(F30+G30+H30+I30) -> -65.069 | M30: ='Tab. 1'!E32 -> -64.96
A32: Erläuterungen:
A33: 1) ohne Äste
A34: 2) u. a. Messdifferenzen, Fortführungen, Datenbankberichtigungen, Angaben über Rekultivierung oder Rundungsdifferenzen, keine Angaben
A35: 3) Stand 01.01.2024
A36: 4) Die vorläufigen Zahlen Niedersachsens entsprechen den Zahlen des Vorjahres. Aufgrund einer Migration der NLStBV IT Systeme konnte die Methodik der Statistik der vergangenen Jahre noch nicht exakt mit vergleichbaren Zahlen repliziert und damit keine Kontinuität der Statistik gewährleistet werden.

Sheet Tab. 8a
A7: Längenstatistik der Straßen des überörtlichen Verkehrs, Stand: 1. Januar 2026
A9: Tabelle 8a: | B9: Länge der Bundesautobahnen - in km - nach der befestigten Breite 1)
A11: Land | B11: Streckenlänge insgesamt | D11: Befestigte Breite 2) | Q11: Kontrolle
D12: unter 11 m | F12: 11 m bis unter 16 m | H12: 16 m bis unter 20 m | J12: 20 m bis unter 22 m | L12: 22 m bis unter 30 m | N12: 30 m und mehr | Q12: Ergebnis aus Tabelle 8a, Spalte 2a | S12: Ergebnis aus Tabelle 1, Spalte 2a
B13: absolut 3) 4) | C13: relativ % | D13: absolut | E13: relativ % | F13: absolut | G13: relativ % | H13: absolut | I13: relativ % | J13: absolut | K13: relativ % | L13: absolut | M13: relativ % | N13: absolut | O13: relativ %
A14: 1 | B14: 2a | C14: 2b | D14: 3a | E14: 3b | F14: 4a | G14: 4b | H14: 5a | I14: 5b | J14: 6a | K14: 6b | L14: 7a | M14: 7b | N14: 8a | O14: 8b
A15: Baden-Würtemberg | B15: 1085 | C15: =E15+G15+I15+K15+M15+O15 -> 1 | D15: 47 | E15: =D15/B15 -> 0.043317972 | F15: 84 | G15: =F15/B15 -> 0.077419355 | H15: 509 | I15: =H15/B15 -> 0.46912442 | J15: 50 | K15: =J15/B15 -> 0.046082949 | L15: 299 | M15: =L15/B15 -> 0.27557604 | N15: 96 | O15: =N15/B15 -> 0.088479263 | Q15: =B15 -> 1085 | S15: ='Tab. 1'!B16 -> 1057
A16: Bayern | B16: 2564 | C16: =E16+G16+I16+K16+M16+O16 -> 1 | D16: 6 | E16: =D16/B16 -> 0.0023400936 | F16: 18 | G16: =F16/B16 -> 0.0070202808 | H16: 163 | I16: =H16/B16 -> 0.063572543 | J16: 544 | K16: =J16/B16 -> 0.21216849 | L16: 1440 | M16: =L16/B16 -> 0.56162246 | N16: 393 | O16: =N16/B16 -> 0.15327613 | Q16: =B16 -> 2564 | S16: ='Tab. 1'!B17 -> 2554
A17: Berlin | B17: 79 | C17: =E17+G17+I17+K17+M17+O17 -> 1 | D17: 3 | E17: =D17/B17 -> 0.037974684 | F17: 5 | G17: =F17/B17 -> 0.063291139 | H17: 23 | I17: =H17/B17 -> 0.29113924 | J17: 0 | K17: =J17/B17 -> 0 | L17: 48 | M17: =L17/B17 -> 0.60759494 | N17: 0 | O17: =N17/B17 -> 0 | Q17: =B17 -> 79 | S17: ='Tab. 1'!B18 -> 76
A18: Brandenburg | B18: 806 | C18: =E18+G18+I18+K18+M18+O18 -> 1 | D18: 0 | E18: =D18/B18 -> 0 | F18: 5 | G18: =F18/B18 -> 0.0062034739 | H18: 118 | I18: =H18/B18 -> 0.14640199 | J18: 99 | K18: =J18/B18 -> 0.12282878 | L18: 558 | M18: =L18/B18 -> 0.69230769 | N18: 26 | O18: =N18/B18 -> 0.032258065 | Q18: =B18 -> 806 | S18: ='Tab. 1'!B19 -> 806
A19: Bremen | B19: 67 | C19: =E19+G19+I19+K19+M19+O19 -> 1 | D19: 1 | E19: =D19/B19 -> 0.014925373 | F19: 3 | G19: =F19/B19 -> 0.044776119 | H19: 6 | I19: =H19/B19 -> 0.089552239 | J19: 5 | K19: =J19/B19 -> 0.074626866 | L19: 42 | M19: =L19/B19 -> 0.62686567 | N19: 10 | O19: =N19/B19 -> 0.14925373 | Q19: =B19 -> 67 | S19: ='Tab. 1'!B20 -> 66
A20: Hamburg | B20: 86 | C20: =E20+G20+I20+K20+M20+O20 -> 1 | D20: 6 | E20: =D20/B20 -> 0.069767442 | F20: 0 | G20: =F20/B20 -> 0 | H20: 0 | I20: =H20/B20 -> 0 | J20: 33 | K20: =J20/B20 -> 0.38372093 | L20: 26 | M20: =L20/B20 -> 0.30232558 | N20: 21 | O20: =N20/B20 -> 0.24418605 | Q20: =B20 -> 86 | S20: ='Tab. 1'!B21 -> 74
A21: Hessen | B21: 1059 | C21: =E21+G21+I21+K21+M21+O21 -> 1 | D21: 17 | E21: =D21/B21 -> 0.01605288 | F21: 8 | G21: =F21/B21 -> 0.0075542965 | H21: 91 | I21: =H21/B21 -> 0.085930123 | J21: 132 | K21: =J21/B21 -> 0.12464589 | L21: 560 | M21: =L21/B21 -> 0.52880076 | N21: 251 | O21: =N21/B21 -> 0.23701605 | Q21: =B21 -> 1059 | S21: ='Tab. 1'!B22 -> 1049
A22: Mecklenburg-Vorpommern | B22: 578 | C22: =E22+G22+I22+K22+M22+O22 -> 1 | D22: 1 | E22: =D22/B22 -> 0.0017301038 | F22: 252 | G22: =F22/B22 -> 0.43598616 | H22: 323 | I22: =H22/B22 -> 0.55882353 | J22: 1 | K22: =J22/B22 -> 0.0017301038 | L22: 1 | M22: =L22/B22 -> 0.0017301038 | N22: 0 | O22: =N22/B22 -> 0 | Q22: =B22 -> 578 | S22: ='Tab. 1'!B23 -> 578
A23: Niedersachsen | B23: 1466 | C23: =E23+G23+I23+K23+M23+O23 -> 1 | D23: 11 | E23: =D23/B23 -> 0.0075034106 | F23: 55 | G23: =F23/B23 -> 0.037517053 | H23: 181 | I23: =H23/B23 -> 0.12346521 | J23: 382 | K23: =J23/B23 -> 0.26057299 | L23: 655 | M23: =L23/B23 -> 0.446794 | N23: 182 | O23: =N23/B23 -> 0.12414734 | Q23: =B23 -> 1466 | S23: ='Tab. 1'!B24 -> 1454
A24: Nordrhein-Westfalen | B24: 2261 | C24: =E24+G24+I24+K24+M24+O24 -> 1 | D24: 8 | E24: =D24/B24 -> 0.0035382574 | F24: 40 | G24: =F24/B24 -> 0.017691287 | H24: 284 | I24: =H24/B24 -> 0.12560814 | J24: 187 | K24: =J24/B24 -> 0.082706767 | L24: 1451 | M24: =L24/B24 -> 0.64175144 | N24: 291 | O24: =N24/B24 -> 0.12870411 | Q24: =B24 -> 2261 | S24: ='Tab. 1'!B25 -> 2252
A25: Rheinland-Pfalz | B25: 886 | C25: =E25+G25+I25+K25+M25+O25 -> 1 | D25: 39 | E25: =D25/B25 -> 0.044018059 | F25: 22 | G25: =F25/B25 -> 0.0248307 | H25: 103 | I25: =H25/B25 -> 0.11625282 | J25: 148 | K25: =J25/B25 -> 0.16704289 | L25: 538 | M25: =L25/B25 -> 0.60722348 | N25: 36 | O25: =N25/B25 -> 0.040632054 | Q25: =B25 -> 886 | S25: ='Tab. 1'!B26 -> 881
A26: Saarland | B26: 240 | C26: =E26+G26+I26+K26+M26+O26 -> 1 | D26: 0 | E26: =D26/B26 -> 0 | F26: 16 | G26: =F26/B26 -> 0.066666667 | H26: 54 | I26: =H26/B26 -> 0.225 | J26: 40 | K26: =J26/B26 -> 0.16666667 | L26: 128 | M26: =L26/B26 -> 0.53333333 | N26: 2 | O26: =N26/B26 -> 0.0083333333 | Q26: =B26 -> 240 | S26: ='Tab. 1'!B27 -> 240
... A30: Thüringen | B30: 521 | C30: =E30+G30+I30+K30+M30+O30 -> 1 | D30: 0 | E30: =D30/B30 -> 0 | F30: 4 | G30: =F30/B30 -> 0.0076775432 | H30: 28 | I30: =H30/B30 -> 0.053742802 | J30: 109 | K30: =J30/B30 -> 0.20921305 | L30: 307 | M30: =L30/B30 -> 0.58925144 | N30: 73 | O30: =N30/B30 -> 0.14011516 | Q30: =B30 -> 521 | S30: ='Tab. 1'!B31 -> 521
A31: Bundesgebiet | B31: =SUM(B15:B30) -> 13350 | C31: =E31+G31+I31+K31+M31+O31 -> 1 | D31: =SUM(D15:D30) -> 145 | E31: =D31/B31 -> 0.010861423 | F31: =SUM(F15:F30) -> 552 | G31: =F31/B31 -> 0.041348315 | H31: =SUM(H15:H30) -> 2323 | I31: =H31/B31 -> 0.17400749 | J31: =SUM(J15:J30) -> 1851 | K31: =J31/B31 -> 0.13865169 | L31: =SUM(L15:L30) -> 6838 | M31: =L31/B31 -> 0.51220974 | N31: =SUM(N15:N30) -> 1641 | O31: =N31/B31 -> 0.12292135 | Q31: =SUM(Q15:R30) -> 13350 | S31: ='Tab. 1'!B32 -> 13259
A33: Erläuterungen:
A34: 1) alle Baulasten, ohne Äste
A35: 2) Fahrbahnen einschl. befestigtem Rand- bzw. Seitenstreifen - in m
A36: 3) Differenz zur Gesamtlänge (siehe Tabelle 1, Spalte 2a) ergibt sich, da bei einzelnen BAB-Abschnitten noch keine Querschnittsdaten erfasst sind.
A37: 4) Differenz zu Tabelle 1, Spalte 2a ergibt sich, da in Tabelle 1 getrennt verlaufende Fahrbahnen nur mit der halben Länge gerechnet werden (z. B. Albaufstieg oder Tunnel mit 2 Röhren).

Sheet Tab. 8b
A7: Längenstatistik der Straßen des überörtlichen Verkehrs, Stand: 1. Januar 2026
A9: Tabelle 8b: | B9: Länge der Bundesstraßen - in km - nach der befestigten Breite 1)
A11: Land | B11: Streckenlänge insgesamt | D11: Befestigte Breite 2) | Q11: Kontrolle
D12: unter 5 m | F12: 5 m bis unter 6 m | H12: 6 m bis unter 7 m | J12: 7 m bis unter 9 m | L12: 9 m bis unter 12 m | N12: 12 m und mehr | Q12: Ergebnis aus Tabelle 8b, Spalte 2a | S12: Ergebnis aus Tabelle 1, Spalte 3a
B13: absolut | C13: relativ % | D13: absolut | E13: relativ % | F13: absolut | G13: relativ % | H13: absolut | I13: relativ % | J13: absolut | K13: relativ % | L13: absolut | M13: relativ % | N13: absolut | O13: relativ %
A14: 1 | B14: 2a | C14: 2b | D14: 3a | E14: 3b | F14: 4a | G14: 4b | H14: 5a | I14: 5b | J14: 6a | K14: 6b | L14: 7a | M14: 7b | N14: 8a | O14: 8b
A15: Baden Württemberg | B15: 4047 | C15: =E15+G15+I15+K15+M15+O15 -> 0.99992834 | D15: 10.203 | E15: =D15/B15 -> 0.0025211268 | F15: 36.746 | G15: =F15/B15 -> 0.0090798122 | H15: 699.735 | I15: =H15/B15 -> 0.17290215 | J15: 2079.316 | K15: =J15/B15 -> 0.51379194 | L15: 599.656 | M15: =L15/B15 -> 0.14817297 | N15: 621.054 | O15: =N15/B15 -> 0.15346034 | Q15: =B15 -> 4047 | S15: ='Tab. 1'!D16 -> 4192.597 | U15: Differenz ok da Fußzeile
A16: Bayern | B16: 5963 | C16: =E16+G16+I16+K16+M16+O16 -> 1 | D16: 0 | E16: =D16/B16 -> 0 | F16: 14 | G16: =F16/B16 -> 0.0023478115 | H16: 525 | I16: =H16/B16 -> 0.088042931 | J16: 3739 | K16: =J16/B16 -> 0.62703337 | L16: 813 | M16: =L16/B16 -> 0.13634077 | N16: 872 | O16: =N16/B16 -> 0.14623512 | Q16: =B16 -> 5963 | S16: ='Tab. 1'!D17 -> 5963
A17: Berlin | B17: =145+18 -> 163 | C17: =E17+G17+I17+K17+M17+O17 -> 1 | D17: 0 | E17: =D17/B17 -> 0 | F17: 0 | G17: =F17/B17 -> 0 | H17: 0 | I17: =H17/B17 -> 0 | J17: =6+12 -> 18 | K17: =J17/B17 -> 0.11042945 | L17: =9+2 -> 11 | M17: =L17/B17 -> 0.067484663 | N17: =130+4 -> 134 | O17: =N17/B17 -> 0.82208589 | Q17: =B17 -> 163 | S17: ='Tab. 1'!D18 -> 163
A18: Brandenburg | B18: 2716 | C18: =E18+G18+I18+K18+M18+O18 -> 1 | D18: 1 | E18: =D18/B18 -> 0.00036818851 | F18: 79 | G18: =F18/B18 -> 0.029086892 | H18: 933 | I18: =H18/B18 -> 0.34351988 | J18: 1224 | K18: =J18/B18 -> 0.45066274 | L18: 272 | M18: =L18/B18 -> 0.10014728 | N18: 207 | O18: =N18/B18 -> 0.076215022 | Q18: =B18 -> 2716 | S18: ='Tab. 1'!D19 -> 2731 | U18: Differenz ok da Fußzeile
A19: Bremen | B19: 34 | C19: =E19+G19+I19+K19+M19+O19 -> 1 | D19: 0 | E19: =D19/B19 -> 0 | F19: 0 | G19: =F19/B19 -> 0 | H19: 0 | I19: =H19/B19 -> 0 | J19: 11 | K19: =J19/B19 -> 0.32352941 | L19: 5 | M19: =L19/B19 -> 0.14705882 | N19: 18 | O19: =N19/B19 -> 0.52941176 | Q19: =B19 -> 34 | S19: ='Tab. 1'!D20 -> 34
A20: Hamburg | B20: 117 | C20: =E20+G20+I20+K20+M20+O20 -> 1 | D20: 0 | E20: =D20/B20 -> 0 | F20: 0 | G20: =F20/B20 -> 0 | H20: 2 | I20: =H20/B20 -> 0.017094017 | J20: 2 | K20: =J20/B20 -> 0.017094017 | L20: 4 | M20: =L20/B20 -> 0.034188034 | N20: 109 | O20: =N20/B20 -> 0.93162393 | Q20: =B20 -> 117 | S20: ='Tab. 1'!D21 -> 116
A21: Hessen | B21: 2940 | C21: =E21+G21+I21+K21+M21+O21 -> 1.0003401 | D21: 3 | E21: =D21/B21 -> 0.0010204082 | F21: 30 | G21: =F21/B21 -> 0.010204082 | H21: 429 | I21: =H21/B21 -> 0.14591837 | J21: 1335 | K21: =J21/B21 -> 0.45408163 | L21: 613 | M21: =L21/B21 -> 0.2085034 | N21: 531 | O21: =N21/B21 -> 0.18061224 | Q21: =B21 -> 2940 | S21: ='Tab. 1'!D22 -> 2952 | U21: Differenz ok da Fußzeile
A22: Mecklenburg-Vorpommern | B22: 1927 | C22: =E22+G22+I22+K22+M22+O22 -> 0.99996419 | D22: 9.564 | E22: =D22/B22 -> 0.0049631552 | F22: 107.879 | G22: =F22/B22 -> 0.055982875 | H22: 704.286 | I22: =H22/B22 -> 0.36548313 | J22: 829.311 | K22: =J22/B22 -> 0.43036378 | L22: 150.553 | M22: =L22/B22 -> 0.078128179 | N22: 125.338 | O22: =N22/B22 -> 0.065043072 | Q22: =B22 -> 1927 | S22: ='Tab. 1'!D23 -> 1926.931
A23: Niedersachsen | B23: 4645 | C23: =E23+G23+I23+K23+M23+O23 -> 1 | D23: 7 | E23: =D23/B23 -> 0.0015069968 | F23: 26 | G23: =F23/B23 -> 0.0055974166 | H23: 397 | I23: =H23/B23 -> 0.085468245 | J23: 2767 | K23: =J23/B23 -> 0.59569429 | L23: 752 | M23: =L23/B23 -> 0.16189451 | N23: 696 | O23: =N23/B23 -> 0.14983854 | Q23: =B23 -> 4645 | S23: ='Tab. 1'!D24 -> 4645
A24: Nordrhein-Westfalen | B24: 3987 | C24: =E24+G24+I24+K24+M24+O24 -> 1 | D24: 2 | E24: =D24/B24 -> 0.0005016303 | F24: 36 | G24: =F24/B24 -> 0.0090293454 | H24: 431 | I24: =H24/B24 -> 0.10810133 | J24: 1776 | K24: =J24/B24 -> 0.44544771 | L24: 979 | M24: =L24/B24 -> 0.24554803 | N24: 763 | O24: =N24/B24 -> 0.19137196 | Q24: =B24 -> 3987 | S24: ='Tab. 1'!D25 -> 4418 | U24: Differenz ok da Fußzeile
A25: Rheinland-Pfalz | B25: 2794 | C25: =E25+G25+I25+K25+M25+O25 -> 1 | D25: 6 | E25: =D25/B25 -> 0.0021474588 | F25: 78 | G25: =F25/B25 -> 0.027916965 | H25: 611 | I25: =H25/B25 -> 0.21868289 | J25: 1271 | K25: =J25/B25 -> 0.45490336 | L25: 421 | M25: =L25/B25 -> 0.15068003 | N25: 407 | O25: =N25/B25 -> 0.14566929 | Q25: =B25 -> 2794 | S25: ='Tab. 1'!D26 -> 2865 | U25: Differenz ok da Fußzeile
A26: Saarland | B26: =D26+F26+H26+J26+L26+N26 -> 306.764 | C26: =E26+G26+I26+K26+M26+O26 -> 1 | D26: 10.935 | E26: =D26/B26 -> 0.035646295 | F26: 8.846 | G26: =F26/B26 -> 0.0288365 | H26: 45.491 | I26: =H26/B26 -> 0.14829315 | J26: 168.305 | K26: =J26/B26 -> 0.54864652 | L26: 54.311 | M26: =L26/B26 -> 0.17704489 | N26: 18.876 | O26: =N26/B26 -> 0.061532644 | Q26: =B26 -> 306.764 | S26: ='Tab. 1'!D27 -> 309.962 | U26: Differenz ok da Fußzeile
A27: Sachsen | B27: 2266.873 | C27: =E27+G27+I27+K27+M27+O27 -> 1 | D27: 15.982 | E27: =D27/B27 -> 0.0070502406 | F27: 97.202 | G27: =F27/B27 -> 0.042879332 | H27: 591.113 | I27: =H27/B27 -> 0.26076141 | J27: 1038.563 | K27: =J27/B27 -> 0.45814785 | L27: 281.63 | M27: =L27/B27 -> 0.12423722 | N27: 242.383 | O27: =N27/B27 -> 0.10692394 | Q27: =B27 -> 2266.873 | S27: ='Tab. 1'!D28 -> 2282.288 | U27: Differenz ok da Fußzeile
A28: Sachsen-Anhalt | B28: 2021 | C28: =E28+G28+I28+K28+M28+O28 -> 1 | D28: 3 | E28: =D28/B28 -> 0.0014844137 | F28: 42 | G28: =F28/B28 -> 0.020781791 | H28: 466 | I28: =H28/B28 -> 0.23057892 | J28: 1093 | K28: =J28/B28 -> 0.54082138 | L28: 192 | M28: =L28/B28 -> 0.095002474 | N28: 225 | O28: =N28/B28 -> 0.11133102 | Q28: =B28 -> 2021 | S28: ='Tab. 1'!D29 -> 2021
A29: Schleswig-Holstein | B29: 1534 | C29: =E29+G29+I29+K29+M29+O29 -> 1 | D29: 4 | E29: =D29/B29 -> 0.0026075619 | F29: 5 | G29: =F29/B29 -> 0.0032594524 | H29: 244 | I29: =H29/B29 -> 0.15906128 | J29: 901 | K29: =J29/B29 -> 0.58735332 | L29: 210 | M29: =L29/B29 -> 0.136897 | N29: 170 | O29: =N29/B29 -> 0.11082138 | Q29: =B29 -> 1534 | S29: ='Tab. 1'!D30 -> 1534
A30: Thüringen | B30: 1500 | C30: =E30+G30+I30+K30+M30+O30 -> 1 | D30: 2 | E30: =D30/B30 -> 0.0013333333 | F30: 32 | G30: =F30/B30 -> 0.021333333 | H30: 475 | I30: =H30/B30 -> 0.31666667 | J30: 714 | K30: =J30/B30 -> 0.476 | L30: 168 | M30: =L30/B30 -> 0.112 | N30: 109 | O30: =N30/B30 -> 0.072666667 | Q30: =B30 -> 1500 | S30: ='Tab. 1'!D31 -> 1500
A31: Bundesgebiet | B31: =SUM(B15:B30) -> 36961.637 | C31: =E31+G31+I31+K31+M31+O31 -> 1.0000173 | D31: =SUM(D15:D30) -> 74.684 | E31: =D31/B31 -> 0.0020205815 | F31: =SUM(F15:F30) -> 592.673 | G31: =F31/B31 -> 0.016034815 | H31: =SUM(H15:H30) -> 6553.625 | I31: =H31/B31 -> 0.17730884 | J31: =SUM(J15:J30) -> 18966.495 | K31: =J31/B31 -> 0.51314002 | L31: =SUM(L15:L30) -> 5526.15 | M31: =L31/B31 -> 0.14951042 | N31: =SUM(N15:N30) -> 5248.651 | O31: =N31/B31 -> 0.14200267 | Q31: =SUM(Q15:R30) -> 36961.637 | S31: ='Tab. 1'!D32 -> 37653.778
A33: Erläuterungen:
A34: 1) alle Baulasten, ohne Äste
A35: 2) Fahrbahnen einschl. befestigtem Rand- bzw. Seitenstreifen - in m
A36: 3) Differenz zur Gesamtlänge (siehe Tabelle 1, Spalte 3a) ergibt sich aus den Streckenabschnitten, für die keine Querschnittsdaten vorliegen, z. B. in kreisfreien Städten und neue OU.
A37: 4) Differenz zu Tabelle 1, Spalte 3a ergibt sich, da in Tabelle 1 getrennt verlaufende Fahrbahnen nur mit der halben Länge gerechnet werden (z. B. Tunnel mit 2 Röhren).
A38: 5) Stand 01.01.2024
A39: 6) Die vorläufigen Zahlen Niedersachsens entsprechen den Zahlen des Vorjahres. Aufgrund einer Migration der NLStBV IT Systeme konnte die Methodik der Statistik der vergangenen Jahre noch nicht exakt mit vergleichbaren Zahlen repliziert und damit keine Kontinuität der Statistik gewährleistet werden.

Sheet Tab. 9a
A7: Längenstatistik der Straßen des überörtlichen Verkehrs, Stand: 1. Januar 2026
A9: Tabelle 9a: | B9: Befestigte Fläche der Bundesautobahnen 1) - in km²
A11: Land | B11: Strecken- länge insgesamt 3) 4) km | C11: Befestigte Breite 2) | K11: Kontrolle
C12: unter 11 m | D12: 11 m bis unter 16 m | E12: 16 m bis unter 20 m | F12: 20 m bis unter 22 m | G12: 22 m bis unter 30 m | H12: 30 m und mehr | I12: insgesamt | K12: Ergebnis aus Tabelle 9a, Spalte 2 | M12: Ergebnis aus Tabelle 1, Spalte 2a
A13: 1 | B13: 2 | C13: 3 | D13: 4 | E13: 5 | F13: 6 | G13: 7 | H13: 8 | I13: 9
A14: Baden-Würtemberg | B14: 1085 | C14: 0.395 | D14: 1.209 | E14: 8.704 | F14: 1.047 | G14: 7.541 | H14: 3.115 | I14: =SUM(C14:H14) -> 22.011 | K14: =B14 -> 1085 | M14: ='Tab. 1'!B16 -> 1057
A15: Bayern | B15: 2564 | C15: 0.051 | D15: 0.227 | E15: 2.95 | F15: 11.152 | G15: 35.768 | H15: 13.503 | I15: =SUM(C15:H15) -> 63.651 | K15: =B15 -> 2564 | M15: ='Tab. 1'!B17 -> 2554
A16: Berlin | B16: 79 | C16: 0.03 | D16: 0.044 | E16: 0.414 | F16: 0 | G16: 1.056 | H16: 0 | I16: =SUM(C16:H16) -> 1.544 | K16: =B16 -> 79 | M16: ='Tab. 1'!B18 -> 76
A17: Brandenburg | B17: 806 | C17: 0 | D17: 0.071 | E17: 2.145 | F17: 2.072 | G17: 13.9 | H17: 0.944 | I17: =SUM(C17:H17) -> 19.132 | K17: =B17 -> 806 | M17: ='Tab. 1'!B19 -> 806
A18: Bremen | B18: 67 | C18: 0.007 | D18: 0.045 | E18: 0.111 | F18: 0.105 | G18: 1.092 | H18: 0.325 | I18: =SUM(C18:H18) -> 1.685 | K18: =B18 -> 67 | M18: ='Tab. 1'!B20 -> 66
A19: Hamburg | B19: 86 | C19: 0.06 | D19: 0 | E19: 0 | F19: 0.693 | G19: 0.676 | H19: 0.651 | I19: =SUM(C19:H19) -> 2.08 | K19: =B19 -> 86 | M19: ='Tab. 1'!B21 -> 74
A20: Hessen | B20: 1059 | C20: 0.16 | D20: 0.19 | E20: 1.658 | F20: 2.8 | G20: 14.248 | H20: 8.059 | I20: =SUM(C20:H20) -> 27.115 | K20: =B20 -> 1059 | M20: ='Tab. 1'!B22 -> 1049
A21: Mecklenburg-Vorpommern | B21: 578 | C21: 0.009 | D21: 3.161 | E21: 5.827 | F21: 0.021 | G21: 0.027 | H21: 0 | I21: =SUM(C21:H21) -> 9.045 | K21: =B21 -> 578 | M21: ='Tab. 1'!B23 -> 578
A22: Niedersachsen | B22: 1466 | C22: 0.113 | D22: 0.609 | E22: 3.249 | F22: 7.633 | G22: 14.428 | H22: 5.702 | I22: =SUM(C22:H22) -> 31.734 | K22: =B22 -> 1466 | M22: ='Tab. 1'!B24 -> 1454
A23: Nordrhein-Westfalen | B23: 2261 | C23: 0.054 | D23: 0.546 | E23: 5.125 | F23: 3.859 | G23: 35.038 | H23: 8.95 | I23: =SUM(C23:H23) -> 53.572 | K23: =B23 -> 2261 | M23: ='Tab. 1'!B25 -> 2252
A24: Rheinland-Pfalz | B24: 886 | C24: 0.328 | D24: 0.277 | E24: 1.828 | F24: 3.044 | G24: 13.418 | H24: 1.224 | I24: =SUM(C24:H24) -> 20.119 | K24: =B24 -> 886 | M24: ='Tab. 1'!B26 -> 881
A25: Saarland | B25: 240 | C25: 0.005 | D25: 0.221 | E25: 0.971 | F25: 0.834 | G25: 3.031 | H25: 0.058 | I25: =SUM(C25:H25) -> 5.12 | K25: =B25 -> 240 | M25: ='Tab. 1'!B27 -> 240
... A29: Thüringen | B29: 521 | C29: 0 | D29: 0.06 | E29: 0.517 | F29: 2.258 | G29: 8.153 | H29: 2.298 | I29: =SUM(C29:H29) -> 13.286 | K29: =B29 -> 521 | M29: ='Tab. 1'!B31 -> 521
A30: Bundesgebiet | B30: =SUM(B14:B29) -> 13350 | C30: =SUM(C14:C29) -> 1.265 | D30: =SUM(D14:D29) -> 7.28 | E30: =SUM(E14:E29) -> 41.264 | F30: =SUM(F14:F29) -> 38.04 | G30: =SUM(G14:G29) -> 168.008 | H30: =SUM(H14:H29) -> 51.858 | I30: =C30+D30+E30+F30+G30+H30 -> 307.715 | K30: =SUM(L14:M29) -> 13259 | M30: ='Tab. 1'!B32 -> 13259
A32: Erläuterungen:
A33: 1) ohne Äste
A34: 2) Fahrbahnen einschl. befestigtem Rand- bzw. Seitenstreifen - in m
A35: 3) Differenz zur Gesamtlänge (siehe Tabelle 1, Spalte 2a) ergibt sich, da bei einzelnen BAB-Abschnitten noch keine Querschnittsdaten erfasst sind.
A36: 4) Differenz zu Tabelle 1, Spalte 2a ergibt sich, da in Tabelle 1 getrennt verlaufende Fahrbahnen nur mit der halben Länge gerechnet werden (z. B. Albaufstieg oder Tunnel mit 2 Röhren).

Sheet Tab. 9b
A7: Längenstatistik der Straßen des überörtlichen Verkehrs, Stand: 1. Januar 2026
A9: Tabelle 9b: | B9: Befestigte Fläche der Bundesstraßen 1) - in km²
A11: Land | B11: Strecken- länge insgesamt km | C11: Befestigte Breite 2) | L11: Kontrolle
C12: unter 5 m | D12: 5 m bis unter 6 m | E12: 6 m bis unter 7 m | F12: 7 m bis unter 9 m | G12: 9 m bis unter 12 m | H12: 12 m und mehr | I12: insgesamt | L12: Ergebnis aus Tabelle 9b, Spalte 2 | N12: Ergebnis aus Tabelle 1, Spalte 3a
A13: 1 | B13: 2 | C13: 3 | D13: 4 | E13: 5 | F13: 6 | G13: 7 | H13: 8 | I13: 9
A14: Baden Württemberg | B14: 4047 | C14: 0.011 | D14: 0.21 | E14: 4.489 | F14: 15.794 | G14: 6.291 | H14: 10.09 | I14: =SUM(C14:H14) -> 36.885 | L14: =B14 -> 4047 | N14: ='Tab. 1'!D16 -> 4192.597 | P14: Differenz ok da Fußzeile
A15: Bayern | B15: 5963 | C15: 0 | D15: 0.077 | E15: 3.344 | F15: 29.624 | G15: 8.767 | H15: 15.636 | I15: =SUM(C15:H15) -> 57.448 | L15: =B15 -> 5963 | N15: ='Tab. 1'!D17 -> 5963
A16: Berlin | B16: =145+18 -> 163 | C16: 0 | D16: 0 | E16: 0 | F16: 0.048 | G16: 0.092 | H16: 1.818 | I16: =SUM(C16:H16) -> 1.958 | L16: =B16 -> 163 | N16: ='Tab. 1'!D18 -> 163
A17: Brandenburg | B17: 2716 | C17: 0.001 | D17: 0.458 | E17: 6.053 | F17: 9.339 | G17: 2.893 | H17: 3.646 | I17: =SUM(C17:H17) -> 22.39 | L17: =B17 -> 2716 | N17: ='Tab. 1'!D19 -> 2731 | P17: Differenz ok da Fußzeile
A18: Bremen | B18: 34 | C18: 0 | D18: 0 | E18: 0 | F18: 0.086 | G18: 0.055 | H18: 0.247 | I18: =SUM(C18:H18) -> 0.388 | L18: =B18 -> 34 | N18: ='Tab. 1'!D20 -> 34
A19: Hamburg | B19: 116 | C19: 0 | D19: 0 | E19: 0.02 | F19: 0.02 | G19: 0.04 | H19: 2.116 | I19: =SUM(C19:H19) -> 2.196 | L19: =B19 -> 116 | N19: ='Tab. 1'!D21 -> 116
A20: Hessen | B20: 2940 | C20: 0.011 | D20: 0.17 | E20: 2.773 | F20: 10.459 | G20: 6.556 | H20: 8.85 | I20: =SUM(C20:H20) -> 28.819 | L20: =B20 -> 2940 | N20: ='Tab. 1'!D22 -> 2952 | P20: Differenz ok da Fußzeile
A21: Mecklenburg-Vorpommern | B21: 1927 | C21: 0.01 | D21: 0.61 | E21: 4.581 | F21: 6.313 | G21: 1.581 | H21: 2.809 | I21: =SUM(C21:H21) -> 15.904 | L21: =B21 -> 1927 | N21: ='Tab. 1'!D23 -> 1926.931
A22: Niedersachsen | B22: 4645 | C22: 0.032 | D22: 0.14 | E22: 2.583 | F22: 22.136 | G22: 8.276 | H22: 9.738 | I22: =SUM(C22:H22) -> 42.905 | L22: =B22 -> 4645 | N22: ='Tab. 1'!D24 -> 4645
A23: Nordrhein-Westfalen | B23: 3987 | C23: 0.007 | D23: 0.205 | E23: 2.787 | F23: 14.045 | G23: 10.557 | H23: 11.278 | I23: =SUM(C23:H23) -> 38.879 | L23: =B23 -> 3987 | N23: ='Tab. 1'!D25 -> 4418 | P23: Differenz ok da Fußzeile
A24: Rheinland-Pfalz | B24: 2794 | C24: 0 | D24: 1 | E24: 8 | F24: 20 | G24: 9 | H24: 13 | I24: =SUM(C24:H24) -> 51 | L24: =B24 -> 2794 | N24: ='Tab. 1'!D26 -> 2865 | P24: Differenz ok da Fußzeile
A25: Saarland | B25: 307 | C25: 0.103681 | D25: 0.05040205 | E25: 0.29810215 | F25: 1.3067484 | G25: 0.5758122 | H25: 0.26712863 | I25: =SUM(C25:H25) -> 2.6018744 | L25: =B25 -> 307 | N25: ='Tab. 1'!D27 -> 309.962 | P25: Differenz ok da Fußzeile
A26: Sachsen | B26: 2266.873 | C26: 0.042 | D26: 0.563 | E26: 3.919 | F26: 8.116 | G26: 2.963 | H26: 4.2 | I26: =SUM(C26:H26) -> 19.803 | L26: =B26 -> 2266.873 | N26: ='Tab. 1'!D28 -> 2282.288 | P26: Differenz ok da Fußzeile
A27: Sachsen-Anhalt | B27: 2021 | C27: 0.012 | D27: 0.241 | E27: 3.033 | F27: 8.419 | G27: 2.037 | H27: 3.511 | I27: =SUM(C27:H27) -> 17.253 | L27: =B27 -> 2021 | N27: ='Tab. 1'!D29 -> 2021
A28: Schleswig-Holstein | B28: 1534 | C28: 0.001 | D28: 0.027 | E28: 1.625 | F28: 6.943 | G28: 2.172 | H28: 2.723 | I28: =SUM(C28:H28) -> 13.491 | L28: =B28 -> 1534 | N28: ='Tab. 1'!D30 -> 1534
A29: Thüringen | B29: 1500 | C29: 0.007 | D29: 0.179 | E29: 3.079 | F29: 5.412 | G29: 1.78 | H29: 1.663 | I29: =SUM(C29:H29) -> 12.12 | L29: =B29 -> 1500 | N29: ='Tab. 1'!D31 -> 1500
A30: Bundesgebiet | B30: =SUM(B14:B29) -> 36960.873 | C30: =SUM(C14:C29) -> 0.237681 | D30: =SUM(D14:D29) -> 3.9304021 | E30: =SUM(E14:E29) -> 46.584102 | F30: =SUM(F14:F29) -> 158.06075 | G30: =SUM(G14:G29) -> 63.635812 | H30: =SUM(H14:H29) -> 91.592129 | I30: =SUM(I14:I29) -> 364.04087 | L30: =L14+L15+L16+L17+L18+L19+L20+L21+L22+L23+L24+L25+L26+L27+L28+L29 -> 36960.873 | N30: ='Tab. 1'!D32 -> 37653.778
A32: Erläuterungen:
A33: 1) ohne Äste
A34: 2) Fahrbahnen einschl. befestigtem Rand- bzw. Seitenstreifen - in m
A35: 3) Differenz zur Gesamtlänge (siehe Tabelle 1, Spalte 3a) ergibt sich aus den Streckenabschnitten, für die keine Querschnittsdaten vorliegen, z. B. in kreisf. Städten und neue OU.
A36: 4) Differenz zu Tabelle 1, Spalte 3a ergibt sich, da in Tabelle 1 getrennt verlaufende Fahrbahnen nur mit der halben Länge gerechnet werden (z. B. Tunnel mit 2 Röhren).
A37: 5) Die vorläufigen Zahlen Niedersachsens entsprechen den Zahlen des Vorjahres. Aufgrund einer Migration der NLStBV IT Systeme konnte die Methodik der Statistik der vergangenen Jahre noch nicht exakt mit vergleichbaren Zahlen repliziert und damit keine Kontinuität der Statistik gewährleistet werden.
A38: 6) Stand 01.01.2024
