Workbook

Sheet Tab. 1
A7: Längenstatistik der Straßen des überörtlichen Verkehrs, Stand: 1. Januar 2026
A9: Tabelle 1: | B9: Länge der Straßen des überörtlichen Verkehrs 1) - in km
B10: Längenänderungen gegenüber Vorjahr - in km
A12: Land | B12: Bundesautobahnen | D12: Bundesstraßen | F12: Landesstraßen 2) | H12: Kreisstraßen 3) | J12: Straßen des überörtlichen Verkehrs 4)
B13: insgesamt | C13: Änderungen ggü. Vorjahr | D13: insgesamt | E13: Änderungen ggü. Vorjahr | F13: insgesamt | G13: Änderungen ggü. Vorjahr | H13: insgesamt | I13: Änderungen ggü. Vorjahr | J13: insgesamt | K13: Änderungen ggü. Vorjahr
A15: 1 | B15: 2a | C15: 2b | D15: 3a | E15: 3b | F15: 4a | G15: 4b | H15: 5a | I15: 5b | J15: 6a | K15: 6b
A16: Baden Württemberg | B16: 1057 | C16: 0 | D16: 4192.597 | E16: -30.96 | F16: 10065.084 | G16: 34.75 | H16: 12090.663 | I16: -14.004 | J16: =B16+D16+F16+H16 -> 27405.344 | K16: =C16+E16+G16+I16 -> -10.214
A17: Bayern | B17: 2554 | C17: 0 | D17: 5963 | E17: 1 | F17: 14537 | G17: -32 | H17: 18797 | I17: 8 | J17: =B17+D17+F17+H17 -> 41851 | K17: =C17+E17+G17+I17 -> -23
A18: Berlin | B18: 76 | C18: 3 | D18: =145+18 -> 163 | E18: 0 | F18: 0 | G18: 0 | H18: 0 | I18: 0 | J18: =B18+D18+F18+H18 -> 239 | K18: =C18+E18+G18+I18 -> 3
A19: Brandenburg | B19: 806 | C19: -1 | D19: 2731 | E19: -9 | F19: 5521 | G19: 1 | H19: 3013 | I19: -4 | J19: =B19+D19+F19+H19 -> 12071 | K19: =C19+E19+G19+I19 -> -13
A20: Bremen | B20: 66 | C20: 0 | D20: 34 | E20: 0 | F20: 0 | G20: 0 | H20: 0 | I20: 0 | J20: =B20+D20+F20+H20 -> 100 | K20: =C20+E20+G20+I20 -> 0
A21: Hamburg | B21: 74 | C21: 0 | D21: 116 | E21: 0 | F21: 0 | G21: 0 | H21: 0 | I21: 0 | J21: =B21+D21+F21+H21 -> 190 | K21: =C21+E21+G21+I21 -> 0
A22: Hessen | B22: 1049 | C22: 30 | D22: 2952 | E22: -24 | F22: 7185 | G22: -13 | H22: 4890 | I22: -3 | J22: =B22+D22+F22+H22 -> 16076 | K22: =C22+E22+G22+I22 -> -10
A23: Mecklenburg-Vorpommern | B23: 578 | C23: 0 | D23: 1926.931 | E23: 0 | F23: 3377.157 | G23: -1 | H23: 4101.423 | I23: -19 | J23: =B23+D23+F23+H23 -> 9983.511 | K23: =C23+E23+G23+I23 -> -20
A24: Niedersachsen | B24: 1454 | C24: 4 | D24: 4645 | E24: 0 | F24: 8244 | G24: 0 | H24: 13655 | I24: 0 | J24: =B24+D24+F24+H24 -> 27998 | K24: =C24+E24+G24+I24 -> 4
A25: Nordrhein-Westfalen | B25: 2252 | C25: 0 | D25: 4418 | E25: 1 | F25: 13056 | G25: -7 | H25: 9769 | I25: -1 | J25: =B25+D25+F25+H25 -> 29495 | K25: =C25+E25+G25+I25 -> -7
A26: Rheinland-Pfalz | B26: 881 | C26: 0 | D26: 2865 | E26: -1 | F26: 7103 | G26: -15 | H26: 7415 | I26: 3 | J26: =B26+D26+F26+H26 -> 18264 | K26: =C26+E26+G26+I26 -> -13
A27: Saarland | B27: 240 | C27: 0 | D27: 309.962 | E27: 0 | F27: 871.504 | G27: 0 | H27: 622.664 | I27: 0 | J27: =B27+D27+F27+H27 -> 2044.13 | K27: =C27+E27+G27+I27 -> 0
A28: Sachsen | B28: 584 | C28: 0 | D28: 2282.288 | E28: 0 | F28: 4765.191 | G28: 0 | H28: 5726.4215 | I28: -22 | J28: =B28+D28+F28+H28 -> 13357.9 | K28: =C28+E28+G28+I28 -> -22
A29: Sachsen-Anhalt | B29: 522 | C29: 0 | D29: 2021 | E29: -1 | F29: 4085 | G29: 1 | H29: 4323 | I29: 0 | J29: =B29+D29+F29+H29 -> 10951 | K29: =C29+E29+G29+I29 -> 0
A30: Schleswig-Holstein | B30: 545 | C30: 0 | D30: 1534 | E30: 0 | F30: 3672 | G30: 0 | H30: 4122 | I30: 0 | J30: =B30+D30+F30+H30 -> 9873 | K30: =C30+E30+G30+I30 -> 0
A31: Thüringen | B31: 521 | C31: 0 | D31: 1500 | E31: -1 | F31: 4081 | G31: -8 | H31: 3306 | I31: -55 | J31: =B31+D31+F31+H31 -> 9408 | K31: =C31+E31+G31+I31 -> -64
A32: Bundesgebiet | B32: =SUM(B16:B31) -> 13259 | C32: =SUM(C16:C31) -> 36 | D32: =SUM(D16:D31) -> 37653.778 | E32: =SUM(E16:E31) -> -64.96 | F32: =SUM(F16:F31) -> 86562.936 | G32: =SUM(G16:G31) -> -39.25 | H32: =SUM(H16:H31) -> 91831.172 | I32: =SUM(I16:I31) -> -107.004 | J32: =SUM(B32,D32,F32,H32) -> 229306.89 | K32: =SUM(C32,E32,G32,I32) -> -175.214
A34: Erläuterungen:
A35: 1) nur Abschnittslängen nach "Anweisung Straßeninformationsbank (ASB)", ohne Astlängen
A36: 2) Landesstraßen sind in Bayern und Sachsen: Staatsstraßen, im Saarland: Landstraßen I. Ordnung
A37: 3) Kreisstraßen sind im Saarland: Landstraßen II. Ordnung
A38: 4) Summe aus Bundesautobahnen, Bundesstraßen, Landesstraßen, Kreisstraßen
A39: 5) Änderungen ergeben sich durch Auf- und Abstufungen sowie durch Harmonisierung der Auswertemethodik an getrennt verlaufenden Fahrbahnen (siehe auch Tabelle 6)
A40: 6) Stand 01.01.2024
A41: 7) Die vorläufigen Zahlen Niedersachsens entsprechen den Zahlen des Vorjahres. Aufgrund einer Migration der NLStBV IT Systeme konnte die Methodik der Statistik der vergangenen Jahre noch nicht exakt mit vergleichbaren Zahlen repliziert und damit keine Kontinuität der Statistik gewährleistet werden.

Sheet Tab. 2a
A7: Längenstatistik der Straßen des überörtlichen Verkehrs, Stand: 1. Januar 2026
A9: Tabelle 2a: | B9: Länge der Bundesautobahnen nach der Zahl der Fahrbahnen und Fahrstreifen - in km
O10: Kontrolle
A11: Land | B11: Länge von Autobahnabschnitten | O11: Ergebniss aus Tabelle 2a, Spalten 2d + 3h | Q11: Ergebniss aus Tabelle 1, Spalte 2a
B12: 1-bahnige BAB mit Fahrstreifenanzahl | F12: 2-bahnige BAB mit Fahrstreifenanzahl
B13: 1 | C13: 2 | D13: 3 u. mehr | E13: insge- samt | F13: 2 | G13: 3 | H13: 4 | I13: 5 | J13: 6 | K13: 7 | L13: 8 u. mehr | M13: insge- samt
A15: 1 | B15: 2a | C15: 2b | D15: 2c | E15: 2d | F15: 3a | G15: 3b | H15: 3c | I15: 3d | J15: 3e | K15: 3f | L15: 3g | M15: 3h
A16: Baden Württemberg | B16: 0 | C16: 5 | D16: 11 | E16: =SUM(D16,C16,B16) -> 16 | F16: 0 | G16: 1 | H16: 612 | I16: 50 | J16: 364 | K16: 8 | L16: 6 | M16: =SUM(L16,K16,J16,I16,H16,G16,F16) -> 1041 | O16: =E16+M16 -> 1057 | Q16: ='Tab. 1'!B16 -> 1057
A17: Bayern | B17: 0 | C17: 11 | D17: 0 | E17: =SUM(D17,C17,B17) -> 11 | F17: 1 | G17: 5 | H17: 1738 | I17: 66 | J17: 678 | K17: 37 | L17: 18 | M17: =SUM(L17,K17,J17,I17,H17,G17,F17) -> 2543 | O17: =E17+M17 -> 2554 | Q17: ='Tab. 1'!B17 -> 2554
A18: Berlin | B18: 0 | C18: 0 | D18: 0 | E18: =SUM(D18,C18,B18) -> 0 | F18: 1 | G18: 1 | H18: 28 | I18: 4 | J18: 42 | K18: 0 | L18: 0 | M18: =SUM(L18,K18,J18,I18,H18,G18,F18) -> 76 | O18: =E18+M18 -> 76 | Q18: ='Tab. 1'!B18 -> 76
A19: Brandenburg | B19: 0 | C19: 1 | D19: 0 | E19: =SUM(D19,C19,B19) -> 1 | F19: 0 | G19: 1 | H19: 542 | I19: 2 | J19: 251 | K19: 0 | L19: 9 | M19: =SUM(L19,K19,J19,I19,H19,G19,F19) -> 805 | O19: =E19+M19 -> 806 | Q19: ='Tab. 1'!B19 -> 806
A20: Bremen | B20: 0 | C20: 1 | D20: 0 | E20: =SUM(D20,C20,B20) -> 1 | F20: 0 | G20: 0 | H20: 47 | I20: 0 | J20: 18 | K20: 0 | L20: 0 | M20: =SUM(L20,K20,J20,I20,H20,G20,F20) -> 65 | O20: =E20+M20 -> 66 | Q20: ='Tab. 1'!B20 -> 66
A21: Hamburg | B21: 0 | C21: 1 | D21: 0 | E21: =SUM(D21,C21,B21) -> 1 | F21: 0 | G21: 0 | H21: 28 | I21: 2 | J21: 31 | K21: 3 | L21: 9 | M21: =SUM(L21,K21,J21,I21,H21,G21,F21) -> 73 | O21: =E21+M21 -> 74 | Q21: ='Tab. 1'!B21 -> 74
A22: Hessen | B22: 0 | C22: 1 | D22: 0 | E22: =SUM(D22,C22,B22) -> 1 | F22: 2 | G22: 3 | H22: 615 | I22: 105 | J22: 273 | K22: 20 | L22: 30 | M22: =SUM(L22,K22,J22,I22,H22,G22,F22) -> 1048 | O22: =E22+M22 -> 1049 | Q22: ='Tab. 1'!B22 -> 1049
A23: Mecklenburg-Vorpommern | B23: 0 | C23: 0 | D23: 0 | E23: =SUM(D23,C23,B23) -> 0 | F23: 0 | G23: 0 | H23: 577 | I23: 0 | J23: 1 | K23: 0 | L23: 0 | M23: =SUM(L23,K23,J23,I23,H23,G23,F23) -> 578 | O23: =E23+M23 -> 578 | Q23: ='Tab. 1'!B23 -> 578
A24: Niedersachsen | B24: 0 | C24: 0 | D24: 0 | E24: =SUM(D24,C24,B24) -> 0 | F24: 1 | G24: 2 | H24: 885 | I24: 14 | J24: 548 | K24: 1 | L24: 3 | M24: =SUM(L24,K24,J24,I24,H24,G24,F24) -> 1454 | O24: =E24+M24 -> 1454 | Q24: ='Tab. 1'!B24 -> 1454
A25: Nordrhein-Westfalen | B25: 0 | C25: 0 | D25: 0 | E25: =SUM(D25,C25,B25) -> 0 | F25: 10 | G25: 9 | H25: 1415 | I25: 151 | J25: 649 | K25: 7 | L25: 11 | M25: =SUM(L25,K25,J25,I25,H25,G25,F25) -> 2252 | O25: =E25+M25 -> 2252 | Q25: ='Tab. 1'!B25 -> 2252
A26: Rheinland-Pfalz | B26: 0 | C26: 23 | D26: 13 | E26: =SUM(D26,C26,B26) -> 36 | F26: 1 | G26: 5 | H26: 624 | I26: 107 | J26: 108 | K26: 0 | L26: 0 | M26: =SUM(L26,K26,J26,I26,H26,G26,F26) -> 845 | O26: =E26+M26 -> 881 | Q26: ='Tab. 1'!B26 -> 881
A27: Saarland | B27: 0 | C27: 2 | D27: 0 | E27: =SUM(D27,C27,B27) -> 2 | F27: 0 | G27: 0 | H27: 211 | I27: 21 | J27: 6 | K27: 0 | L27: 0 | M27: =SUM(L27,K27,J27,I27,H27,G27,F27) -> 238 | O27: =E27+M27 -> 240 | Q27: ='Tab. 1'!B27 -> 240
... A31: Thüringen | B31: 0 | C31: 0 | D31: 0 | E31: =SUM(D31,C31,B31) -> 0 | F31: 0 | G31: 0 | H31: 278 | I31: 4 | J31: 239 | K31: 0 | L31: 0 | M31: =SUM(L31,K31,J31,I31,H31,G31,F31) -> 521 | O31: =E31+M31 -> 521 | Q31: ='Tab. 1'!B31 -> 521
A32: Bundesgebiet | B32: =SUM(B16:B31) -> 0 | C32: =SUM(C16:C31) -> 52 | D32: =SUM(D16:D31) -> 24 | E32: =SUM(E16:E31) -> 76 | F32: =SUM(F16:F31) -> 16 | G32: =SUM(G16:G31) -> 28 | H32: =SUM(H16:H31) -> 8739 | I32: =SUM(I16:I31) -> 557 | ... M32: =SUM(M16:M31) -> 13183 | O32: =E32+M32 -> 13259 | Q32: ='Tab. 1'!B32 -> 13259

Sheet Tab. 2b
A7: Längenstatistik der Straßen des überörtlichen Verkehrs, Stand: 1. Januar 2026
A9: Tabelle 2b: | B9: Länge der Bundesstraßen nach der Zahl der Fahrbahnen, Fahrstreifen und Baulasten - in km
A11: Land | B11: Abschnittslängen nach Fahrstreifenanzahl und Baulast | Y11: Kontrolle | AD11: Kontrolle
B12: 1-bahnige BStr. mit Fahrstreifenanzahl | L12: 2-bahnige BStr. mit Fahrstreifenanzahl | Y12: Ergebniss aus Tabelle 2b, Spalten 6a + 12a | AA12: Ergebniss aus Tabelle 1, Spalte 3a | AD12: Ergebniss aus Tabelle 2b, Spalten 6b + 12b | AF12: Ergebniss aus Tabelle 3a, Spalte 4
B13: 1 | D13: 2 | F13: 3 | H13: 4 u. mehr | J13: insgesamt | L13: 2 | N13: 3 | P13: 4 | R13: 5 | T13: 6 u. mehr | V13: insgesamt
B14: alle | C14: nur | D14: alle | E14: nur | F14: alle | G14: nur | H14: alle | I14: nur | J14: alle | K14: nur | L14: alle | M14: nur | N14: alle | O14: nur | P14: alle | Q14: nur | R14: alle | S14: nur | T14: alle | U14: nur | V14: alle | W14: nur
C15: HBL 1) | E15: HBL 1) | G15: HBL 1) | I15: HBL 1) | K15: HBL 1) | M15: HBL 1) | O15: HBL 1) | Q15: HBL 1) | S15: HBL 1) | U15: HBL 1) | W15: HBL 1)
A16: 1 | B16: 2a | C16: 2b | D16: 3a | E16: 3b | F16: 4a | G16: 4b | H16: 5a | I16: 5b | J16: 6a | K16: 6b | L16: 7a | M16: 7b | N16: 8a | O16: 8b | P16: 9a | Q16: 9b | R16: 10a | S16: 10b | T16: 11a | U16: 11b | V16: 12a | W16: 12b
A17: Baden Württemberg | B17: 4.551 | C17: 4.277 | D17: 3319.734 | E17: 3261.971 | F17: 208.748 | G17: 201.366 | H17: 55.898 | I17: 42.035 | J17: =SUM(B17,D17,F17,H17) -> 3588.931 | K17: =SUM(I17,G17,E17,C17) -> 3509.649 | L17: 21.249 | M17: 17.319 | N17: 19.346 | O17: 17.25 | P17: 514.402 | Q17: 452.096 | R17: 19.388 | S17: 14.167 | T17: 29.28 | U17: 16.369 | V17: =SUM(T17,R17,P17,N17,L17) -> 603.665 | W17: =SUM(U17,S17,Q17,O17,M17,) -> 517.201 | Y17: =J17+V17 -> 4192.596 | AA17: ='Tab. 1'!D16 -> 4192.597 | AD17: =K17+W17 -> 4026.85 | AF17: ='Tab. 3a'!D15 -> 4026.852
A18: Bayern | B18: 2 | C18: 1 | D18: 4981 | E18: 4950 | F18: 349 | G18: 344 | H18: 96 | I18: 62 | J18: =SUM(B18,D18,F18,H18) -> 5428 | K18: =SUM(I18,G18,E18,C18) -> 5357 | L18: 13 | M18: 11 | N18: 5 | O18: 5 | P18: 492 | Q18: 391 | R18: 9 | S18: 6 | T18: 16 | U18: 3 | V18: =SUM(T18,R18,P18,N18,L18) -> 535 | W18: =SUM(U18,S18,Q18,O18,M18,) -> 416 | Y18: =J18+V18 -> 5963 | AA18: ='Tab. 1'!D17 -> 5963 | AD18: =K18+W18 -> 5773 | AF18: ='Tab. 3a'!D16 -> 5773
A19: Berlin | B19: 0 | C19: 0 | D19: =12.235+E19 -> 25.235 | E19: 13 | F19: 3.987 | G19: 0 | H19: =32.428+I19 -> 34.428 | I19: 2 | J19: =SUM(B19,D19,F19,H19) -> 63.65 | K19: =SUM(I19,G19,E19,C19) -> 15 | L19: 1.808 | M19: 0 | N19: 0.147 | O19: 0 | P19: =33.9+4+Q19 -> 40.9 | Q19: 3 | R19: 1.063 | S19: 0 | T19: =59.762-4 -> 55.762 | U19: 0 | V19: =SUM(T19,R19,P19,N19,L19) -> 99.68 | W19: =SUM(U19,S19,Q19,O19,M19,) -> 3 | Y19: =J19+V19 -> 163.33 | AA19: ='Tab. 1'!D18 -> 163 | AD19: =K19+W19 -> 18 | AF19: ='Tab. 3a'!D17 -> 18
A20: Brandenburg | B20: 1 | C20: 1 | D20: 2436 | E20: 2408 | F20: 134 | G20: 130 | H20: 14 | I20: 10 | J20: =SUM(B20,D20,F20,H20) -> 2585 | K20: =SUM(I20,G20,E20,C20) -> 2549 | L20: 5 | M20: 5 | N20: 7 | O20: 7 | P20: 133 | Q20: 128 | R20: 1 | S20: 0 | T20: 0 | U20: 0 | V20: =SUM(T20,R20,P20,N20,L20) -> 146 | W20: =SUM(U20,S20,Q20,O20,M20,) -> 140 | Y20: =J20+V20 -> 2731 | AA20: ='Tab. 1'!D19 -> 2731 | AD20: =K20+W20 -> 2689 | AF20: ='Tab. 3a'!D18 -> 2690 | AH20: Differenz da Rundungsdifferenzen
A21: Bremen 2) | B21: 0 | C21: 0 | D21: 12 | E21: 8 | F21: 2 | G21: 2 | H21: 4 | I21: 1 | J21: =SUM(B21,D21,F21,H21) -> 18 | K21: =SUM(I21,G21,E21,C21) -> 11 | L21: 1 | M21: 1 | N21: 1 | O21: 1 | P21: 13 | Q21: 13 | R21: 0 | S21: 0 | T21: 1 | U21: 0 | V21: =SUM(T21,R21,P21,N21,L21) -> 16 | W21: =SUM(U21,S21,Q21,O21,M21,) -> 15 | Y21: =J21+V21 -> 34 | AA21: ='Tab. 1'!D20 -> 34 | AD21: =K21+W21 -> 26 | AF21: ='Tab. 3a'!D19 -> 26
A22: Hamburg | B22: 0 | C22: 0 | D22: 13 | E22: 3 | F22: 2 | G22: 0 | H22: 67 | I22: 0 | J22: =SUM(B22,D22,F22,H22) -> 82 | K22: =SUM(I22,G22,E22,C22) -> 3 | L22: 0 | M22: 0 | N22: 0 | O22: 0 | P22: 27 | Q22: 24 | R22: 2 | S22: 1 | T22: 5 | U22: 0 | V22: =SUM(T22,R22,P22,N22,L22) -> 34 | W22: =SUM(U22,S22,Q22,O22,M22,) -> 25 | Y22: =J22+V22 -> 116 | AA22: ='Tab. 1'!D21 -> 116 | AD22: =K22+W22 -> 28 | AF22: ='Tab. 3a'!D20 -> 27
A23: Hessen | B23: 12 | C23: 12 | D23: 2412 | E23: 2385 | F23: 161 | G23: 155 | H23: 0 | I23: 0 | J23: =SUM(B23,D23,F23,H23) -> 2585 | K23: =SUM(I23,G23,E23,C23) -> 2552 | L23: 0 | M23: 0 | N23: 0 | O23: 0 | P23: 345 | Q23: 289 | R23: 11 | S23: 5 | T23: 11 | U23: 2 | V23: =SUM(T23,R23,P23,N23,L23) -> 367 | W23: =SUM(U23,S23,Q23,O23,M23,) -> 296 | Y23: =J23+V23 -> 2952 | AA23: ='Tab. 1'!D22 -> 2952 | AD23: =K23+W23 -> 2848 | AF23: ='Tab. 3a'!D21 -> 2848
A24: Mecklenburg-Vorpommern | B24: 2.2 | C24: 2.2 | D24: 1809.854 | E24: 1800.867 | F24: 20.912 | G24: 20.912 | H24: 8.195 | I24: 4.802 | J24: =SUM(B24,D24,F24,H24) -> 1841.161 | K24: =SUM(I24,G24,E24,C24) -> 1828.781 | L24: 3.6 | M24: 3.409 | N24: 0.983 | O24: 0.983 | P24: 80.128 | Q24: 70.259 | R24: 0.509 | S24: 0.509 | T24: 0.471 | U24: 0.471 | V24: =SUM(T24,R24,P24,N24,L24) -> 85.691 | W24: =SUM(U24,S24,Q24,O24,M24,) -> 75.631 | Y24: =J24+V24 -> 1926.852 | AA24: ='Tab. 1'!D23 -> 1926.931 | AD24: =K24+W24 -> 1904.412 | AF24: ='Tab. 3a'!D22 -> 1904.491
A25: Niedersachsen 3) | B25: 5 | C25: 5 | D25: 3966 | E25: 3939 | F25: 211 | G25: 211 | H25: 76 | I25: 74 | J25: =SUM(B25,D25,F25,H25) -> 4258 | K25: =SUM(I25,G25,E25,C25) -> 4229 | L25: 15 | M25: 14 | N25: 10 | O25: 10 | P25: 359 | Q25: 337 | R25: 1 | S25: 1 | T25: 2 | U25: 2 | V25: =SUM(T25,R25,P25,N25,L25) -> 387 | W25: =SUM(U25,S25,Q25,O25,M25,) -> 364 | Y25: =J25+V25 -> 4645 | AA25: ='Tab. 1'!D24 -> 4645 | AD25: =K25+W25 -> 4593 | AF25: ='Tab. 3a'!D23 -> 4593
A26: Nordrhein-Westfalen | B26: 9 | C26: 3 | D26: 3535 | E26: 3330 | F26: 291 | G26: 285 | H26: 120 | I26: 42 | J26: =SUM(B26,D26,F26,H26) -> 3955 | K26: =SUM(I26,G26,E26,C26) -> 3660 | L26: 42 | M26: 28 | N26: 11 | O26: 10 | P26: 382 | Q26: 246 | R26: 11 | S26: 8 | T26: 17 | U26: 3 | V26: =SUM(T26,R26,P26,N26,L26) -> 463 | W26: =SUM(U26,S26,Q26,O26,M26,) -> 295 | Y26: =J26+V26 -> 4418 | AA26: ='Tab. 1'!D25 -> 4418 | AD26: =K26+W26 -> 3955 | AF26: ='Tab. 3a'!D24 -> 3955
A27: Rheinland-Pfalz | B27: 6 | C27: 5 | D27: 2376 | E27: 2348 | F27: 126 | G27: 122 | H27: 11 | I27: 7 | J27: =SUM(B27,D27,F27,H27) -> 2519 | K27: =SUM(I27,G27,E27,C27) -> 2482 | L27: 11 | M27: 11 | N27: 13 | O27: 12 | P27: 315 | Q27: 283 | R27: 1 | S27: 1 | T27: 6 | U27: 4 | V27: =SUM(T27,R27,P27,N27,L27) -> 346 | W27: =SUM(U27,S27,Q27,O27,M27,) -> 311 | Y27: =J27+V27 -> 2865 | AA27: ='Tab. 1'!D26 -> 2865 | AD27: =K27+W27 -> 2793 | AF27: ='Tab. 3a'!D25 -> 2793
A28: Saarland | B28: 4.182 | C28: 4.148 | D28: 267.449 | E28: 249.741 | F28: 22.787 | G28: 21.877 | H28: 2.292 | I28: 1.219 | J28: =SUM(B28,D28,F28,H28) -> 296.71 | K28: =SUM(I28,G28,E28,C28) -> 276.985 | L28: 5.146 | M28: 5.146 | N28: 1.892 | O28: 1.892 | P28: 6.066 | Q28: 5.326 | R28: 0.141 | S28: 0.141 | T28: 0 | U28: 0 | V28: =SUM(T28,R28,P28,N28,L28) -> 13.245 | W28: =SUM(U28,S28,Q28,O28,M28,) -> 12.505 | Y28: =J28+V28 -> 309.955 | AA28: ='Tab. 1'!D27 -> 309.962 | AD28: =K28+W28 -> 289.49 | AF28: ='Tab. 3a'!D26 -> 289.497
A29: Sachsen | B29: 2.563 | C29: 2.2825 | D29: 1972.98 | E29: 1908.562 | F29: 100.233 | G29: 95.6365 | H29: 36.026 | I29: 12.418 | J29: =SUM(B29,D29,F29,H29) -> 2111.802 | K29: =SUM(I29,G29,E29,C29) -> 2018.899 | L29: 6.035 | M29: 2.67 | N29: 3.069 | O29: 2.023 | P29: 155.956 | Q29: 95.26 | R29: 3.117 | S29: 0.419 | T29: 2.309 | U29: 0 | V29: =SUM(T29,R29,P29,N29,L29) -> 170.486 | W29: =SUM(U29,S29,Q29,O29,M29,) -> 100.372 | Y29: =J29+V29 -> 2282.288 | AA29: ='Tab. 1'!D28 -> 2282.288 | AD29: =K29+W29 -> 2119.271 | AF29: ='Tab. 3a'!D27 -> 2119.271
A30: Sachsen-Anhalt | B30: 6 | C30: 5 | D30: 1812 | E30: 1794 | F30: 46 | G30: 46 | H30: 40 | I30: 18 | J30: =SUM(B30,D30,F30,H30) -> 1904 | K30: =SUM(I30,G30,E30,C30) -> 1863 | L30: 5 | M30: 5 | N30: 1 | O30: 1 | P30: 109 | Q30: 103 | R30: 1 | S30: 1 | T30: 1 | U30: 1 | V30: =SUM(T30,R30,P30,N30,L30) -> 117 | W30: =SUM(U30,S30,Q30,O30,M30,) -> 111 | Y30: =J30+V30 -> 2021 | AA30: ='Tab. 1'!D29 -> 2021 | AD30: =K30+W30 -> 1974 | AF30: ='Tab. 3a'!D28 -> 1974
A31: Schleswig-Holstein | B31: 0 | C31: 0 | D31: 1382 | E31: 1366 | F31: 24 | G31: 23 | H31: 23 | I31: 17 | J31: =SUM(B31,D31,F31,H31) -> 1429 | K31: =SUM(I31,G31,E31,C31) -> 1406 | L31: 6 | M31: 6 | N31: 4 | O31: 4 | P31: 91 | Q31: 82 | R31: 2 | S31: 2 | T31: 2 | U31: 1 | V31: =SUM(T31,R31,P31,N31,L31) -> 105 | W31: =SUM(U31,S31,Q31,O31,M31,) -> 95 | Y31: =J31+V31 -> 1534 | AA31: ='Tab. 1'!D30 -> 1534 | AD31: =K31+W31 -> 1501 | AF31: ='Tab. 3a'!D29 -> 1501
A32: Thüringen | B32: 1 | C32: 1 | D32: 1364 | E32: 1348 | F32: 60 | G32: 60 | H32: 5 | I32: 5 | J32: =SUM(B32,D32,F32,H32) -> 1430 | K32: =SUM(I32,G32,E32,C32) -> 1414 | L32: 7 | M32: 6 | N32: 4 | O32: 4 | P32: 59 | Q32: 49 | R32: 0 | S32: 0 | T32: 0 | U32: 0 | V32: =SUM(T32,R32,P32,N32,L32) -> 70 | W32: =SUM(U32,S32,Q32,O32,M32,) -> 59 | Y32: =J32+V32 -> 1500 | AA32: ='Tab. 1'!D31 -> 1500 | AD32: =K32+W32 -> 1473 | AF32: ='Tab. 3a'!D30 -> 1473
A33: Bundesgebiet | B33: =SUM(B17:B32) -> 55.496 | C33: =SUM(C17:C32) -> 45.9075 | D33: =SUM(D17:D32) -> 31684.252 | E33: =SUM(E17:E32) -> 31113.141 | F33: =SUM(F17:F32) -> 1762.667 | G33: =SUM(G17:G32) -> 1717.7915 | H33: =SUM(H17:H32) -> 592.839 | I33: =SUM(I17:I32) -> 298.474 | J33: =SUM(B33,D33,F33,H33) -> 34095.254 | K33: =SUM(I33,G33,E33,C33) -> 33175.314 | L33: =SUM(L17:L32) -> 142.838 | M33: =SUM(M17:M32) -> 115.544 | N33: =SUM(N17:N32) -> 81.437 | O33: =SUM(O17:O32) -> 76.148 | P33: =SUM(P17:P32) -> 3122.452 | Q33: =SUM(Q17:Q32) -> 2570.941 | R33: =SUM(R17:R32) -> 63.218 | S33: =SUM(S17:S32) -> 40.236 | ... U33: =SUM(U17:U32) -> 32.84 | V33: =SUM(T33,R33,P33,N33,L33) -> 3558.767 | W33: =SUM(U33,S33,Q33,O33,M33,) -> 2835.709 | Y33: =J33+V33 -> 37654.021 | AA33: ='Tab. 1'!D32 -> 37653.778 | AD33: =K33+W33 -> 36011.023 | AF33: ='Tab. 3a'!D31 -> 36011.111
A35: Erläuterungen:
A36: 1) Hauptbaulast (Bund); in den Bundesländern Berlin, Hamburg, Bremen: Verwaltung durch Die Autobahn GmbH des Bundes
A37: 2) Stand 01.01.2024
A38: 3) Die vorläufigen Zahlen Niedersachsens entsprechen den Zahlen des Vorjahres. Aufgrund einer Migration der NLStBV IT Systeme konnte die Methodik der Statistik der vergangenen Jahre noch nicht exakt mit vergleichbaren Zahlen repliziert und damit keine Kontinuität der Statistik gewährleistet werden. gewährleistet werden.

Sheet Tab. 2c
A7: Längenstatistik der Straßen des überörtlichen Verkehrs, Stand: 1. Januar 2026
A9: Tabelle 2c: | B9: Länge der Äste nach der Zahl der Fahrstreifen an Bundesfernstraßen - in km
B10: Länge der Standstreifen an Bundesautobahnen - in km
A12: Land | B12: Bundesautobahnen | I12: Bundesstraßen
B13: Astlängen Bundesautobahnen mit Fahrstreifenanzahl | G13: Länge der Standstreifen Bundesautobahnen | I13: Astlängen Bundesstraßen mit Fahrstreifenanzahl
B14: 1 | C14: 2 | D14: 3 | E14: 4 u. mehr | F14: Astlängen insge- samt | G14: ein- seitig | H14: beid- seitig | I14: 1 | K14: 2 | M14: 3 u. mehr | O14: insgesamt
I16: alle | J16: nur | K16: alle | L16: nur | M16: alle | N16: nur | O16: alle | P16: nur
J17: HBL 1) | L17: HBL 1) | N17: HBL 1) | P17: HBL 1)
A18: 1 | B18: 2a | C18: 2b | D18: 2c | E18: 2d | F18: 2e | G18: 3a | H18: 3b | I18: 4a | J18: 4b | K18: 4c | L18: 4d | M18: 4e | N18: 4f | O18: 4g | P18: 4h
A19: Baden Württemberg | B19: 512 | C19: 110 | D19: 5 | E19: 2 | F19: 629 | G19: 196 | H19: 763 | I19: 790.291 | J19: 752.785 | K19: 130.288 | L19: 98.935 | M19: 4.536 | N19: 2.085 | O19: =SUM(I19+K19+M19) -> 925.115 | P19: =SUM(J19+L19+N19) -> 853.805
A20: Bayern | B20: 1306 | C20: 193 | D20: 4 | E20: 0 | F20: 1503 | G20: 440 | H20: 1957 | I20: 926 | J20: 895 | K20: 61 | L20: 34 | M20: 1 | N20: 1 | O20: =SUM(I20+K20+M20) -> 988 | P20: =SUM(J20+L20+N20) -> 930
A21: Berlin | B21: 45 | C21: 47 | D21: 4 | E21: 1 | F21: 97 | G21: 0 | H21: 65 | I21: 0 | J21: 0 | K21: =L21 -> 1 | L21: 1 | M21: 0 | N21: 0 | O21: =SUM(I21+K21+M21) -> 1 | P21: =SUM(J21+L21+N21) -> 1
A22: Brandenburg | B22: 306 | C22: 79 | D22: 4 | E22: 0 | F22: 389 | G22: 122 | H22: 585 | I22: 130 | J22: 128 | K22: 7 | L22: 6 | M22: 0 | N22: 0 | O22: =SUM(I22+K22+M22) -> 137 | P22: =SUM(J22+L22+N22) -> 134
A23: Bremen | B23: 76 | C23: 7 | D23: 0 | E23: 0 | F23: 83 | G23: 1 | H23: 60 | I23: 21 | J23: 19 | K23: 10 | L23: 7 | M23: 0 | N23: 0 | O23: =SUM(I23+K23+M23) -> 31 | P23: =SUM(J23+L23+N23) -> 26
A24: Hamburg | B24: 58 | C24: 38 | D24: 1 | E24: 0 | F24: 97 | G24: 15 | H24: 41 | I24: 16 | J24: 16 | K24: 7 | L24: 7 | M24: 0 | N24: 0 | O24: =SUM(I24+K24+M24) -> 23 | P24: =SUM(J24+L24+N24) -> 23
A25: Hessen | B25: 727 | C25: 113 | D25: 4 | E25: 0 | F25: 844 | G25: 155 | H25: 780 | I25: 389 | J25: 386 | K25: 51 | L25: 44 | M25: 7 | N25: 3 | O25: =SUM(I25+K25+M25) -> 447 | P25: =SUM(J25+L25+N25) -> 433
A26: Mecklenburg-Vorpommern | B26: 165 | C26: 8 | D26: 0 | E26: 0 | F26: 173 | G26: 32 | H26: 510 | I26: 76.143 | J26: 73.896 | K26: 7.898 | L26: 7.898 | M26: =0.281+0.008 -> 0.289 | N26: =0.281-0.008 -> 0.273 | O26: =SUM(I26+K26+M26) -> 84.33 | P26: =SUM(J26+L26+N26) -> 82.067
A27: Niedersachsen | B27: 836 | C27: 73 | D27: 2 | E27: 0 | F27: 911 | G27: 385 | H27: 1060 | I27: 567 | J27: 559 | K27: 33 | L27: 31 | M27: 2 | N27: 2 | O27: =SUM(I27+K27+M27) -> 602 | P27: =SUM(J27+L27+N27) -> 592
A28: Nordrhein-Westfalen | B28: 1822 | C28: 266 | D28: 6 | E28: 0 | F28: 2094 | G28: 341 | H28: 1608 | I28: 542 | J28: 469 | K28: 54 | L28: 25 | M28: 5 | N28: 2 | O28: =SUM(I28+K28+M28) -> 601 | P28: =SUM(J28+L28+N28) -> 496
A29: Rheinland-Pfalz | B29: 466 | C29: 65 | D29: 2 | E29: 0 | F29: 533 | G29: 94 | H29: 646 | I29: 410 | J29: 389 | K29: 70 | L29: 63 | M29: 1 | N29: 1 | O29: =SUM(I29+K29+M29) -> 481 | P29: =SUM(J29+L29+N29) -> 453
A30: Saarland | B30: 167 | C30: 10 | D30: 1 | E30: 0 | F30: 178 | G30: 44 | H30: 153 | I30: 41.547 | J30: 39.556 | K30: 2.24 | L30: 1.985 | M30: 0.09 | N30: 0.09 | O30: =SUM(I30+K30+M30) -> 43.877 | P30: =SUM(J30+L30+N30) -> 41.631
A31: Sachsen | B31: 251 | C31: 51 | D31: 1 | E31: 0 | F31: 303 | G31: 70 | H31: 463 | I31: 107.584 | J31: 95.247 | K31: 18.28 | L31: 8.573 | M31: 1.375 | N31: 0.047 | O31: =SUM(I31+K31+M31) -> 127.239 | P31: =SUM(J31+L31+N31) -> 103.867
A32: Sachsen-Anhalt | B32: 219 | C32: 35 | D32: 0 | E32: 0 | F32: 254 | G32: 50 | H32: 365 | I32: 102 | J32: 91 | K32: 13 | L32: 5 | M32: 0 | N32: 0 | O32: =SUM(I32+K32+M32) -> 115 | P32: =SUM(J32+L32+N32) -> 96
A33: Schleswig-Holstein | B33: 249 | C33: 25 | D33: 0 | E33: 0 | F33: 274 | G33: 85 | H33: 388 | I33: 221 | J33: 210 | K33: 18 | L33: 14 | M33: 1 | N33: 1 | O33: =SUM(I33+K33+M33) -> 240 | P33: =SUM(J33+L33+N33) -> 225
A34: Thüringen | B34: 214 | C34: 9 | D34: 0 | E34: 0 | F34: 223 | G34: 46 | H34: 403 | I34: 132 | J34: 127 | K34: 5 | L34: 4 | M34: 0 | N34: 0 | O34: =SUM(I34+K34+M34) -> 137 | P34: =SUM(J34+L34+N34) -> 131
A35: Bundesgebiet | B35: =SUM(B19:B34) -> 7419 | C35: =SUM(C19:C34) -> 1129 | D35: =SUM(D19:D34) -> 34 | E35: =SUM(E19:E34) -> 3 | F35: =SUM(F19:F34) -> 8585 | G35: =SUM(G19:G34) -> 2076 | H35: =SUM(H19:H34) -> 9847 | I35: =SUM(I19:I34) -> 4471.565 | ... N35: =SUM(N19:N34) -> 12.495 | O35: =SUM(M35,K35,I35) -> 4983.561 | P35: =SUM(N35,L35,J35) -> 4621.37
A37: Erläuterungen:
A38: 1) Hauptbaulast (Bund)
A39: 2) Stand 01.01.2024
A40: 3) Die vorläufigen Zahlen Niedersachsens entsprechen den Zahlen des Vorjahres. Aufgrund einer Migration der NLStBV IT Systeme konnte die Methodik der Statistik der vergangenen Jahre noch nicht exakt mit vergleichbaren Zahlen repliziert und damit keine Kontinuität der Statistik gewährleistet werden.

Sheet Tab. 2d-1. Seite
A7: Längenstatistik der Straßen des überörtlichen Verkehrs, Stand: 1. Januar 2026
A9: Tabelle 2d: | B9: Länge der Straßen des überörtlichen Verkehrs, die der Betriebsdienst des Landes betreut 1) - in km
A11: Land | B11: Länge der Bundesautobahnen nach der Zahl der Fahrbahnen und Fahrstreifen - in km
B12: 1-bahnige BAB mit Fahrstreifenanzahl | D12: 2-bahnige BAB mit Fahrstreifenanzahl | K12: BAB gesamt | L12: Astlängen | M12: BAB insgesamt
B14: 2 | C14: 3 u. mehr | D14: 2 | E14: 3 | F14: 4 | G14: 5 | H14: 6 | I14: 7 | J14: 8 u. mehr
A15: 1 | B15: 2a | C15: 2b | D15: 3a | E15: 3b | F15: 3c | G15: 3d | H15: 3e | I15: 3f | J15: 3g | K15: 4 | L15: 5 | M15: 6
A16: Baden Württemberg | B16: 5 | C16: 11 | D16: 0 | E16: 0 | F16: 0 | G16: 0 | H16: 0 | I16: 0 | J16: 0 | K16: =SUM(B16:J16) -> 16 | L16: 6 | M16: =SUM(K16:L16) -> 22
A17: Bayern | B17: 0 | C17: 0 | D17: 0 | E17: 1 | F17: 144 | G17: 0 | H17: 0 | I17: 0 | J17: 0 | K17: =SUM(B17:J17) -> 145 | L17: 71 | M17: =SUM(K17:L17) -> 216
A18: Berlin | B18: 0 | C18: 0 | D18: 0 | E18: 0 | F18: 0 | G18: 0 | H18: 0 | I18: 0 | J18: 0 | K18: =SUM(B18:J18) -> 0 | L18: 0 | M18: =SUM(K18:L18) -> 0
A19: Brandenburg | B19: 0 | C19: 0 | D19: 0 | E19: 0 | F19: 0 | G19: 0 | H19: 0 | I19: 0 | J19: 0 | K19: =SUM(B19:J19) -> 0 | L19: 0 | M19: =SUM(K19:L19) -> 0
A20: Bremen | B20: 0 | C20: 0 | D20: 0 | E20: 0 | F20: 0 | G20: 0 | H20: 0 | I20: 0 | J20: 0 | K20: =SUM(B20:J20) -> 0 | L20: 0 | M20: =SUM(K20:L20) -> 0
A21: Hamburg | B21: 0 | C21: 0 | D21: 0 | E21: 0 | F21: 0 | G21: 0 | H21: 0 | I21: 0 | J21: 0 | K21: =SUM(B21:J21) -> 0 | L21: 0 | M21: =SUM(K21:L21) -> 0
A22: Hessen | B22: 0 | C22: 0 | D22: 0 | E22: 0 | F22: 0 | G22: 0 | H22: 0 | I22: 0 | J22: 0 | K22: =SUM(B22:J22) -> 0 | L22: 0 | M22: =SUM(K22:L22) -> 0
A23: Mecklenburg-Vorpommern | B23: 0 | C23: 0 | D23: 0 | E23: 0 | F23: 0 | G23: 0 | H23: 0 | I23: 0 | J23: 0 | K23: =SUM(B23:J23) -> 0 | L23: 0 | M23: =SUM(K23:L23) -> 0
A24: Niedersachsen | B24: 0 | C24: 0 | D24: 0 | E24: 0 | F24: 0 | G24: 0 | H24: 0 | I24: 0 | J24: 0 | K24: =SUM(B24:J24) -> 0 | L24: 0 | M24: =SUM(K24:L24) -> 0
A25: Nordrhein-Westfalen | B25: 0 | C25: 0 | D25: 0 | E25: 0 | F25: 0 | G25: 0 | H25: 0 | I25: 0 | J25: 0 | K25: =SUM(B25:J25) -> 0 | L25: 0 | M25: =SUM(K25:L25) -> 0
A26: Rheinland-Pfalz | B26: 0 | C26: 0 | D26: 0 | E26: 0 | F26: 0 | G26: 0 | H26: 0 | I26: 0 | J26: 0 | K26: =SUM(B26:J26) -> 0 | L26: 0 | M26: =SUM(K26:L26) -> 0
A27: Saarland | B27: 0 | C27: 0 | D27: 0 | E27: 0 | F27: 0 | G27: 0 | H27: 0 | I27: 0 | J27: 0 | K27: =SUM(B27:J27) -> 0 | L27: 0 | M27: =SUM(K27:L27) -> 0
... A31: Thüringen | B31: 0 | C31: 0 | D31: 0 | E31: 0 | F31: 0 | G31: 0 | H31: 0 | I31: 0 | J31: 0 | K31: =SUM(B31:J31) -> 0 | L31: 0 | M31: =SUM(K31:L31) -> 0
A32: Bundesgebiet | B32: =SUM(B16:B31) -> 5 | C32: =SUM(C16:C31) -> 11 | D32: =SUM(D16:D31) -> 0 | E32: =SUM(E16:E31) -> 1 | F32: =SUM(F16:F31) -> 144 | G32: =SUM(G16:G31) -> 0 | H32: =SUM(H16:H31) -> 0 | I32: =SUM(I16:I31) -> 0 | ... M32: =SUM(M16:M31) -> 238
A34: Erläuterungen:
A35: 1) Hierunter fallen die Betriebsdienststrecken der Straßen des überörtl. Verkehrs, die vom Betriebsdienst des Landes bzw. von Dritten im Auftrag des Landes (z. B. Kommune, Unternehmen) betreut werden. Streckenabschnitte außerhalb der Landesgrenze, die im Auftrag für andere Bundesländer / Kommunen betreut werden, sind den eigenen Betriebsdienststrecken hinzuzurechnen und beim anderen Bundesland abzuziehen. ÖPP-Streckenabschnitte sind ebenfalls abzuziehen.

Sheet Tab. 2d-2. Seite
A8: noch Tabelle 2d:
A10: Land | B10: Länge der Bundesstraßen nach der Zahl der Fahrbahnen und Fahrstreifen - in km | N10: Landesstraßen in km 2) | O10: Kreisstraßen in km 3) | P10: Straßen des überörtlichen Verkehrs in km 4)
B11: 1-bahnige Bstr mit Fahrstreifenanzahl | F11: 2-bahnige Bstr mit Fahrstreifenanzahl | K11: Bstr gesamt | L11: Astlängen | M11: Bstr insgesamt | N11: insgesamt | O11: insgesamt | P11: insgesamt
B13: 1 | C13: 2 | D13: 3 | E13: 4 u. mehr | F13: 2 | G13: 3 | H13: 4 | I13: 5 | J13: 6 u. mehr
A14: 1 | B14: 7a | C14: 7b | D14: 7c | E14: 7d | F14: 8a | G14: 8b | H14: 8c | I14: 8d | J14: 8e | K14: 9 | L14: 10 | M14: 11 | N14: 12 | O14: 13 | P14: 14
A15: Baden Württemberg 5) | B15: 6.637 | C15: 3341.481 | D15: 210.007 | E15: 56.192 | F15: 21.249 | G15: 19.409 | H15: 514.41 | I15: 19.388 | J15: 29.28 | K15: =SUM(B15:J15) -> 4218.053 | L15: 925.18 | M15: =SUM(K15:L15) -> 5143.233 | N15: 10277.908 | O15: 12150.618 | P15: =O15+N15+M15+'Tab. 2d-1. Seite'!M16 -> 27593.759
A16: Bayern | B16: 1 | C16: 4950 | D16: 344 | E16: 62 | F16: 11 | G16: 5 | H16: 391 | I16: 6 | J16: 3 | K16: =SUM(B16:J16) -> 5773 | L16: 930 | M16: =SUM(K16:L16) -> 6703 | N16: 14137 | O16: 3325 | P16: =O16+N16+M16+'Tab. 2d-1. Seite'!M17 -> 24381
A17: Berlin 6) | B17: 0 | C17: 0 | D17: 0 | E17: 0 | F17: 0 | G17: 0 | H17: 0 | I17: 0 | J17: 0 | K17: =SUM(B17:J17) -> 0 | L17: 0 | M17: =SUM(K17:L17) -> 0 | N17: 0 | O17: 0 | P17: =O17+N17+M17+'Tab. 2d-1. Seite'!M18 -> 0
A18: Brandenburg | B18: 1 | C18: 2406 | D18: 130 | E18: 10 | F18: 5 | G18: 7 | H18: 128 | I18: 0 | J18: 0 | K18: =SUM(B18:J18) -> 2687 | L18: 137 | M18: =SUM(K18:L18) -> 2824 | N18: 5472 | O18: 214 | P18: =O18+N18+M18+'Tab. 2d-1. Seite'!M19 -> 8510
A19: Bremen 7) | B19: 0 | C19: 12 | D19: 2 | E19: 4 | F19: 1 | G19: 1 | H19: 13 | I19: 0 | J19: 1 | K19: =SUM(B19:J19) -> 34 | L19: 31 | M19: =SUM(K19:L19) -> 65 | N19: 0 | O19: 0 | P19: =O19+N19+M19+'Tab. 2d-1. Seite'!M20 -> 65
A20: Hamburg | B20: 0 | C20: 13 | D20: 3 | E20: 67 | F20: 0 | G20: 0 | H20: 26 | I20: 2 | J20: 5 | K20: =SUM(B20:J20) -> 116 | L20: 2 | M20: =SUM(K20:L20) -> 118 | N20: 0 | O20: 0 | P20: =O20+N20+M20+'Tab. 2d-1. Seite'!M21 -> 118
A21: Hessen | B21: 12 | C21: 2385 | D21: 155 | E21: 0 | F21: 0 | G21: 0 | H21: 289 | I21: 5 | J21: 2 | K21: =SUM(B21:J21) -> 2848 | L21: 432 | M21: =SUM(K21:L21) -> 3280 | N21: 6981 | O21: 4543 | P21: =O21+N21+M21+'Tab. 2d-1. Seite'!M22 -> 14804
A22: Mecklenburg-Vorpommern | B22: 2.2 | C22: 1800.909 | D22: 20.211 | E22: =5.411+0.055+0.0031 -> 5.4691 | F22: 4.084 | G22: 1.684 | H22: 69.65 | I22: 0.509 | J22: 0.464 | K22: =SUM(B22:J22) -> 1905.1801 | L22: 82.083 | M22: =SUM(K22:L22) -> 1987.2631 | N22: 3337.04 | O22: 1045.466 | P22: =O22+N22+M22+'Tab. 2d-1. Seite'!M23 -> 6369.7691
A23: Niedersachsen 8) | B23: 5 | C23: 3911 | D23: 209 | E23: 66 | F23: 14 | G23: 10 | H23: 336 | I23: 1 | J23: 2 | K23: =SUM(B23:J23) -> 4554 | L23: 589 | M23: =SUM(K23:L23) -> 5143 | N23: 8077 | O23: 4001 | P23: =O23+N23+M23+'Tab. 2d-1. Seite'!M24 -> 17221
A24: Nordrhein-Westfalen | B24: 3 | C24: 3324 | D24: 285 | E24: 41 | F24: 27 | G24: 10 | H24: 238 | I24: 8 | J24: 2 | K24: =SUM(B24:J24) -> 3938 | L24: 486 | M24: =SUM(K24:L24) -> 4424 | N24: 11872 | O24: 1028 | P24: =O24+N24+M24+'Tab. 2d-1. Seite'!M25 -> 17324
A25: Rheinland-Pfalz | B25: 5 | C25: 2348 | D25: 122 | E25: 7 | F25: 11 | G25: 12 | H25: 283 | I25: 1 | J25: 4 | K25: =SUM(B25:J25) -> 2793 | L25: 481 | M25: =SUM(K25:L25) -> 3274 | N25: 6989 | O25: 6971 | P25: =O25+N25+M25+'Tab. 2d-1. Seite'!M26 -> 17234
A26: Saarland | B26: 4.182 | C26: 267.449 | D26: 22.787 | E26: 2.292 | F26: 5.146 | G26: 1.892 | H26: 6.066 | I26: 0.141 | J26: 0 | K26: =SUM(B26:J26) -> 309.955 | L26: 44 | M26: =SUM(K26:L26) -> 353.955 | N26: 891 | O26: 628 | P26: =O26+N26+M26+'Tab. 2d-1. Seite'!M27 -> 1872.955
A27: Sachsen | B27: 2.2825 | C27: 1908.562 | D27: 95.6365 | E27: 12.418 | F27: 2.67 | G27: 2.023 | H27: 95.26 | I27: 0.419 | J27: 0 | K27: =SUM(B27:J27) -> 2119.271 | L27: 103.867 | M27: =SUM(K27:L27) -> 2223.138 | N27: 4587.942 | O27: 5436.733 | P27: =O27+N27+M27+'Tab. 2d-1. Seite'!M28 -> 12247.813
A28: Sachsen-Anhalt | B28: 6 | C28: 1812 | D28: 46 | E28: 40 | F28: 5 | G28: 1 | H28: 109 | I28: 1 | J28: 1 | K28: =SUM(B28:J28) -> 2021 | L28: 115 | M28: =SUM(K28:L28) -> 2136 | N28: 4100 | O28: 4323 | P28: =O28+N28+M28+'Tab. 2d-1. Seite'!M29 -> 10559
A29: Schleswig-Holstein | B29: 1 | C29: 1366 | D29: 23 | E29: 17 | F29: 6 | G29: 3 | H29: 82 | I29: 2 | J29: 1 | K29: =SUM(B29:J29) -> 1501 | L29: 225 | M29: =SUM(K29:L29) -> 1726 | N29: 3557 | O29: 2692 | P29: =O29+N29+M29+'Tab. 2d-1. Seite'!M30 -> 7975
A30: Thüringen | B30: 1 | C30: 1364 | D30: 60 | E30: 5 | F30: 7 | G30: 4 | H30: 59 | I30: 0 | J30: 0 | K30: =SUM(B30:J30) -> 1500 | L30: 137 | M30: =SUM(K30:L30) -> 1637 | N30: 4081 | O30: 0 | P30: =O30+N30+M30+'Tab. 2d-1. Seite'!M31 -> 5718
A31: Bundesgebiet | B31: =SUM(B15:B30) -> 50.3015 | C31: =SUM(C15:C30) -> 31209.401 | D31: =SUM(D15:D30) -> 1727.6415 | E31: =SUM(E15:E30) -> 395.3711 | F31: =SUM(F15:F30) -> 120.149 | G31: =SUM(G15:G30) -> 78.008 | H31: =SUM(H15:H30) -> 2639.386 | I31: =SUM(I15:I30) -> 46.457 | ... P31: =SUM(P15:P30) -> 171993.3
A33: Erläuterungen:
A34: 2) Landesstraßen sind in Bayern und Sachsen: Staatsstraßen; im Saarland: Landstraßen I. Ordnung
A35: 3) Kreisstraßen sind im Saarland: Landstraßen II. Ordnung
A36: 4) Summe aus BAB, BStr, LStr, KStr inkl. der Astlängen
A37: 5) Baden-Württemberg inklusive Landkreise
A38: 6) Betriebsdienst erfolgt durch Bezirke
A39: 7) Stand 01.01.2024
A40: 8) Die vorläufigen Zahlen Niedersachsens entsprechen den Zahlen des Vorjahres. Aufgrund einer Migration der NLStBV IT Systeme konnte die Methodik der Statistik der vergangenen Jahre noch nicht exakt mit vergleichbaren Zahlen repliziert und damit keine Kontinuität der Statistik gewährleistet werden.

Sheet Tab. 3a
A7: Längenstatistik der Straßen des überörtlichen Verkehrs, Stand: 1. Januar 2026
A9: Tabelle 3a: | B9: Länge der Bundestraßen, nach Baulasten gegliedert - in km | J9: Kontrolle
J10: Ergebnisse aus Tabelle 3, Spalte 7 | L10: Ergebnisse aus Tabelle 1, Spalten 3a
B11: Abschnittslängen
A12: Land | B12: Hauptbaulast 1) | E12: Gemeindebaulast | F12: Baulast | G12: insgesamt
B13: freie Strecke | C13: Ortsdurchfahrten | D13: insgesamt | F13: Dritter
A14: 1 | B14: 2 | C14: 3 | D14: 4 | E14: 5 | F14: 6 | G14: 7
A15: Baden Württemberg | B15: 3489.448 | C15: 537.404 | D15: =SUM(C15,B15) -> 4026.852 | E15: 165.206 | F15: 0.539 | G15: =SUM(F15,E15,D15) -> 4192.597 | J15: =G15 -> 4192.597 | L15: ='Tab. 1'!D16 -> 4192.597
A16: Bayern | B16: 5179 | C16: 594 | D16: =SUM(C16,B16) -> 5773 | E16: 189 | F16: 1 | G16: =SUM(F16,E16,D16) -> 5963 | J16: =G16 -> 5963 | L16: ='Tab. 1'!D17 -> 5963
A17: Berlin | B17: 18 | C17: 0 | D17: =SUM(C17,B17) -> 18 | E17: 145.453 | F17: 0 | G17: =SUM(F17,E17,D17) -> 163.453 | J17: =G17 -> 163.453 | L17: ='Tab. 1'!D18 -> 163
A18: Brandenburg | B18: 2163 | C18: 527 | D18: =SUM(C18,B18) -> 2690 | E18: 40 | F18: 1 | G18: =SUM(F18,E18,D18) -> 2731 | J18: =G18 -> 2731 | L18: ='Tab. 1'!D19 -> 2731
A19: Bremen 2) | B19: 26 | C19: 0 | D19: =SUM(C19,B19) -> 26 | E19: 8 | F19: 0 | G19: =SUM(F19,E19,D19) -> 34 | J19: =G19 -> 34 | L19: ='Tab. 1'!D20 -> 34
A20: Hamburg | B20: 27 | C20: 0 | D20: =SUM(C20,B20) -> 27 | E20: 84 | F20: 5 | G20: =SUM(F20,E20,D20) -> 116 | J20: =G20 -> 116 | L20: ='Tab. 1'!D21 -> 116
A21: Hessen | B21: 2467 | C21: 381 | D21: =SUM(C21,B21) -> 2848 | E21: 104 | F21: 0 | G21: =SUM(F21,E21,D21) -> 2952 | J21: =G21 -> 2952 | L21: ='Tab. 1'!D22 -> 2952
A22: Mecklenburg-Vorpommern | B22: 1606.836 | C22: 297.655 | D22: =SUM(C22,B22) -> 1904.491 | E22: 21.706 | F22: =0.414+0.32 -> 0.734 | G22: =SUM(F22,E22,D22) -> 1926.931 | J22: =G22 -> 1926.931 | L22: ='Tab. 1'!D23 -> 1926.931
A23: Niedersachsen 3) | B23: 4021 | C23: 572 | D23: =SUM(C23,B23) -> 4593 | E23: 51 | F23: 1 | G23: =SUM(F23,E23,D23) -> 4645 | J23: =G23 -> 4645 | L23: ='Tab. 1'!D24 -> 4645
A24: Nordrhein-Westfalen | B24: 3483 | C24: 472 | D24: =SUM(C24,B24) -> 3955 | E24: 461 | F24: 2 | G24: =SUM(F24,E24,D24) -> 4418 | J24: =G24 -> 4418 | L24: ='Tab. 1'!D25 -> 4418
A25: Rheinland-Pfalz | B25: 2432 | C25: 361 | D25: =SUM(C25,B25) -> 2793 | E25: 72 | F25: 0 | G25: =SUM(F25,E25,D25) -> 2865 | J25: =G25 -> 2865 | L25: ='Tab. 1'!D26 -> 2865
A26: Saarland | B26: 211.518 | C26: 77.979 | D26: =SUM(C26,B26) -> 289.497 | E26: 20.444 | F26: 0.021 | G26: =SUM(F26,E26,D26) -> 309.962 | J26: =G26 -> 309.962 | L26: ='Tab. 1'!D27 -> 309.962
A27: Sachsen | B27: 1481.223 | C27: 638.048 | D27: =SUM(C27,B27) -> 2119.271 | E27: 162.422 | F27: 0.595 | G27: =SUM(F27,E27,D27) -> 2282.288 | J27: =G27 -> 2282.288 | L27: ='Tab. 1'!D28 -> 2282.288
A28: Sachsen-Anhalt | B28: 1558 | C28: 416 | D28: =SUM(C28,B28) -> 1974 | E28: 46 | F28: 1 | G28: =SUM(F28,E28,D28) -> 2021 | J28: =G28 -> 2021 | L28: ='Tab. 1'!D29 -> 2021
A29: Schleswig-Holstein | B29: 1286 | C29: 215 | D29: =SUM(C29,B29) -> 1501 | E29: 32 | F29: 1 | G29: =SUM(F29,E29,D29) -> 1534 | J29: =G29 -> 1534 | L29: ='Tab. 1'!D30 -> 1534
A30: Thüringen | B30: 1119 | C30: 354 | D30: =SUM(C30,B30) -> 1473 | E30: 26 | F30: 1 | G30: =SUM(F30,E30,D30) -> 1500 | J30: =G30 -> 1500 | L30: ='Tab. 1'!D31 -> 1500
A31: Bundesgebiet | B31: =SUM(B15:B30) -> 30568.025 | C31: =SUM(C15:C30) -> 5443.086 | D31: =SUM(D15:D30) -> 36011.111 | E31: =SUM(E15:E30) -> 1628.231 | F31: =SUM(F15:F30) -> 14.889 | G31: =SUM(G15:G30) -> 37654.231 | J31: =SUM(J15:J30) -> 37654.231 | L31: ='Tab. 1'!D32 -> 37653.778
A33: Erläuterungen:
A34: 1) Hauptbaulast (Bund); in den Bundesländern Berlin, Hamburg, Bremen Verwaltung durch Die Autobahn GmbH des Bundes
A35: 2) Stand 01.01.2024
A36: 3) Die vorläufigen Zahlen Niedersachsens entsprechen den Zahlen des Vorjahres. Aufgrund einer Migration der NLStBV IT Systeme konnte die Methodik der Statistik der vergangenen Jahre noch nicht exakt mit vergleichbaren Zahlen repliziert und damit keine Kontinuität der Statistik gewährleistet werden.

Sheet Tab. 3b
A7: Längenstatistik der Straßen des überörtlichen Verkehrs, Stand: 1. Januar 2026
A9: Tabelle 3b: | B9: Länge der Landesstraßen 1), nach Baulasten gegliedert - in km | J9: Kontrolle
J10: Ergebnisse aus Tabelle 3, Spalte 7 | L10: Ergebnisse aus Tabelle 1, Spalten 4a
B11: Abschnittslängen
A12: Land | B12: Hauptbaulast 2) | E12: Gemeindebaulast | F12: Baulast | G12: insgesamt
B13: freie Strecke | C13: Ortsdurchfahrten | D13: insgesamt | F13: Dritter
A14: 1 | B14: 2 | C14: 3 | D14: 4 | E14: 5 | F14: 6 | G14: 7
A15: Baden Württemberg | B15: 7693.85 | C15: 1796.266 | D15: =SUM(C15,B15) -> 9490.116 | E15: 573.273 | F15: 1.694 | G15: =SUM(F15,E15,D15) -> 10065.083 | J15: =G15 -> 10065.083 | L15: ='Tab. 1'!F16 -> 10065.084
A16: Bayern | B16: 11735 | C16: 2402 | D16: =SUM(C16,B16) -> 14137 | E16: 398 | F16: 2 | G16: =SUM(F16,E16,D16) -> 14537 | J16: =G16 -> 14537 | L16: ='Tab. 1'!F17 -> 14537
A17: Berlin | B17: 0 | C17: 0 | D17: =SUM(C17,B17) -> 0 | E17: 0 | F17: 0 | G17: =SUM(F17,E17,D17) -> 0 | J17: =G17 -> 0 | L17: ='Tab. 1'!F18 -> 0
A18: Brandenburg | B18: 4003 | C18: 1465 | D18: =SUM(C18,B18) -> 5468 | E18: 51 | F18: 2 | G18: =SUM(F18,E18,D18) -> 5521 | J18: =G18 -> 5521 | L18: ='Tab. 1'!F19 -> 5521
A19: Bremen | B19: 0 | C19: 0 | D19: =SUM(C19,B19) -> 0 | E19: 0 | F19: 0 | G19: 0 | J19: =G19 -> 0 | L19: ='Tab. 1'!F20 -> 0
A20: Hamburg | B20: 0 | C20: 0 | D20: =SUM(C20,B20) -> 0 | E20: 0 | F20: 0 | G20: =SUM(F20,E20,D20) -> 0 | J20: =G20 -> 0 | L20: ='Tab. 1'!F21 -> 0
A21: Hessen | B21: 5600 | C21: 1297 | D21: =SUM(C21,B21) -> 6897 | E21: 287 | F21: 1 | G21: =SUM(F21,E21,D21) -> 7185 | J21: =G21 -> 7185 | L21: ='Tab. 1'!F22 -> 7185
A22: Mecklenburg-Vorpommern | B22: 2689.443 | C22: 639.528 | D22: =SUM(C22,B22) -> 3328.971 | E22: 46.82 | F22: =0.554+0.812 -> 1.366 | G22: =SUM(F22,E22,D22) -> 3377.157 | J22: =G22 -> 3377.157 | L22: ='Tab. 1'!F23 -> 3377.157
A23: Niedersachsen 3) | B23: 6416 | C23: 1582 | D23: =SUM(C23,B23) -> 7998 | E23: 240 | F23: 6 | G23: =SUM(F23,E23,D23) -> 8244 | J23: =G23 -> 8244 | L23: ='Tab. 1'!F24 -> 8244
A24: Nordrhein-Westfalen | B24: 9620 | C24: 1988 | D24: =SUM(C24,B24) -> 11608 | E24: 1440 | F24: 8 | G24: =SUM(F24,E24,D24) -> 13056 | J24: =G24 -> 13056 | L24: ='Tab. 1'!F25 -> 13056
A25: Rheinland-Pfalz | B25: 5554 | C25: 1434 | D25: =SUM(C25,B25) -> 6988 | E25: 113 | F25: 2 | G25: =SUM(F25,E25,D25) -> 7103 | J25: =G25 -> 7103 | L25: ='Tab. 1'!F26 -> 7103
A26: Saarland | B26: 500.948 | C26: 342.131 | D26: =SUM(C26,B26) -> 843.079 | E26: 28.274 | F26: 0.15 | G26: =SUM(F26,E26,D26) -> 871.503 | J26: =G26 -> 871.503 | L26: ='Tab. 1'!F27 -> 871.504
A27: Sachsen | B27: 2995.428 | C27: 1547.122 | D27: =SUM(C27,B27) -> 4542.55 | E27: 220.979 | F27: 1.662 | G27: =SUM(F27,E27,D27) -> 4765.191 | J27: =G27 -> 4765.191 | L27: ='Tab. 1'!F28 -> 4765.191
A28: Sachsen-Anhalt | B28: 2915 | C28: 1109 | D28: =SUM(C28,B28) -> 4024 | E28: 59 | F28: 2 | G28: =SUM(F28,E28,D28) -> 4085 | J28: =G28 -> 4085 | L28: ='Tab. 1'!F29 -> 4085
A29: Schleswig-Holstein | B29: 2850 | C29: 673 | D29: =SUM(C29,B29) -> 3523 | E29: 146 | F29: 3 | G29: =SUM(F29,E29,D29) -> 3672 | J29: =G29 -> 3672 | L29: ='Tab. 1'!F30 -> 3672
A30: Thüringen | B30: 2943.9 | C30: 1029.4 | D30: =SUM(C30,B30) -> 3973.3 | E30: 106.4 | F30: 1.3 | G30: =SUM(F30,E30,D30) -> 4081 | J30: =G30 -> 4081 | L30: ='Tab. 1'!F31 -> 4081
A31: Bundesgebiet | B31: =SUM(B15:B30) -> 65516.569 | C31: =SUM(C15:C30) -> 17304.447 | D31: =SUM(D15:D30) -> 82821.016 | E31: =SUM(E15:E30) -> 3709.746 | F31: =SUM(F15:F30) -> 32.172 | G31: =SUM(G15:G30) -> 86562.934 | J31: =SUM(J15:J30) -> 86562.934 | L31: ='Tab. 1'!F32 -> 86562.936
A33: Erläuterungen:
A34: 1) Landesstraßen sind in Bayern und Sachsen: Staatsstraßen, im Saarland: Landesstraßen I. Ordnung
A35: 2) Hauptbaulast (Land)
A36: 3) Die vorläufigen Zahlen Niedersachsens entsprechen den Zahlen des Vorjahres. Aufgrund einer Migration der NLStBV IT Systeme konnte die Methodik der Statistik der vergangenen Jahre noch nicht exakt mit vergleichbaren Zahlen repliziert und damit keine Kontinuität der Statistik gewährleistet werden.

Sheet Tab. 3c
A7: Längenstatistik der Straßen des überörtlichen Verkehrs, Stand: 1. Januar 2026
A9: Tabelle 3c: | B9: Länge der Kreisstraßen 1), nach Baulasten gegliedert - in km | J9: Kontrolle
J10: Ergebnisse aus Tabelle 3, Spalte 7 | L10: Ergebnisse aus Tabelle 1, Spalten 5a
B11: Abschnittslängen
A12: Land | B12: Hauptbaulast 2) | E12: Gemeindebaulast | F12: Baulast | G12: insgesamt
B13: freie Strecke | C13: Ortsdurchfahrten | D13: insgesamt | F13: Dritter
A14: 1 | B14: 2 | C14: 3 | D14: 4 | E14: 5 | F14: 6 | G14: 7
A15: Baden Württemberg | B15: 9195.285 | C15: 2203.319 | D15: =SUM(C15,B15) -> 11398.604 | E15: 689.798 | F15: 2.26 | G15: =SUM(F15,E15,D15) -> 12090.662 | J15: =G15 -> 12090.662 | L15: ='Tab. 1'!H16 -> 12090.663
A16: Bayern | B16: 15090 | C16: 3229 | D16: =SUM(C16,B16) -> 18319 | E16: 474 | F16: 4 | G16: =SUM(F16,E16,D16) -> 18797 | J16: =G16 -> 18797 | L16: ='Tab. 1'!H17 -> 18797
A17: Berlin | B17: 0 | C17: 0 | D17: =SUM(C17,B17) -> 0 | E17: 0 | F17: 0 | G17: =SUM(F17,E17,D17) -> 0 | J17: =G17 -> 0 | L17: ='Tab. 1'!H18 -> 0
A18: Brandenburg | B18: 2229 | C18: 782 | D18: =SUM(C18,B18) -> 3011 | E18: 1 | F18: 1 | G18: =SUM(F18,E18,D18) -> 3013 | J18: =G18 -> 3013 | L18: ='Tab. 1'!H19 -> 3013
A19: Bremen | B19: 0 | C19: 0 | D19: =SUM(C19,B19) -> 0 | E19: 0 | F19: 0 | G19: =SUM(F19,E19,D19) -> 0 | J19: =G19 -> 0 | L19: ='Tab. 1'!H20 -> 0
A20: Hamburg | B20: 0 | C20: 0 | D20: =SUM(C20,B20) -> 0 | E20: 0 | F20: 0 | G20: =SUM(F20,E20,D20) -> 0 | J20: =G20 -> 0 | L20: ='Tab. 1'!H21 -> 0
A21: Hessen | B21: 3609 | C21: 1193 | D21: =SUM(C21,B21) -> 4802 | E21: 86 | F21: 2 | G21: =SUM(F21,E21,D21) -> 4890 | J21: =G21 -> 4890 | L21: ='Tab. 1'!H22 -> 4890
A22: Mecklenburg-Vorpommern | B22: 3197.339 | C22: 884.111 | D22: =SUM(C22,B22) -> 4081.45 | E22: 19.973 | F22: 0 | G22: =SUM(F22,E22,D22) -> 4101.423 | J22: =G22 -> 4101.423 | L22: ='Tab. 1'!H23 -> 4101.423
A23: Niedersachsen 3) | B23: 10748 | C23: 2748 | D23: =SUM(C23,B23) -> 13496 | E23: 153 | F23: 6 | G23: =SUM(F23,E23,D23) -> 13655 | J23: =G23 -> 13655 | L23: ='Tab. 1'!H24 -> 13655
A24: Nordrhein-Westfalen | B24: 7327 | C24: 2233 | D24: =SUM(C24,B24) -> 9560 | E24: 204 | F24: 5 | G24: =SUM(F24,E24,D24) -> 9769 | J24: =G24 -> 9769 | L24: ='Tab. 1'!H25 -> 9769
A25: Rheinland-Pfalz | B25: 5655 | C25: 1758 | D25: =SUM(C25,B25) -> 7413 | E25: 0 | F25: 2 | G25: =SUM(F25,E25,D25) -> 7415 | J25: =G25 -> 7415 | L25: ='Tab. 1'!H26 -> 7415
A26: Saarland | B26: 361.321 | C26: 240.296 | D26: =SUM(C26,B26) -> 601.617 | E26: 20.926 | F26: 0.121 | G26: =SUM(F26,E26,D26) -> 622.664 | J26: =G26 -> 622.664 | L26: ='Tab. 1'!H27 -> 622.664
... A30: Thüringen | B30: 2327 | C30: 949 | D30: =SUM(C30,B30) -> 3276 | E30: 30 | F30: 0 | G30: =SUM(F30,E30,D30) -> 3306 | J30: =G30 -> 3306 | L30: ='Tab. 1'!H31 -> 3306
A31: Bundesgebiet | B31: =SUM(B15:B30) -> 69566.12 | C31: =SUM(C15:C30) -> 19865.905 | D31: =SUM(D15:D30) -> 89432.025 | E31: =SUM(E15:E30) -> 2371.8085 | F31: =SUM(F15:F30) -> 27.337 | G31: =SUM(G15:G30) -> 91831.17 | J31: =SUM(J15:J30) -> 91831.17 | L31: ='Tab. 1'!H32 -> 91831.172
A33: Erläuterungen:
A34: 1) Kreisstraßen sind im Saarland: Landesstraßen II. Ordnung
A35: 2) Hauptbaulast (Kreis)
A36: 3) Die vorläufigen Zahlen Niedersachsens entsprechen den Zahlen des Vorjahres. Aufgrund einer Migration der NLStBV IT Systeme konnte die Methodik der Statistik der vergangenen Jahre noch nicht exakt mit vergleichbaren Zahlen repliziert und damit keine Kontinuität der Statistik gewährleistet werden.

Sheet Tabelle 4a
A7: Längenstatistik der Straßen des überörtlichen Verkehrs, Stand: 1. Januar 2026
A9: Tabelle 4a: | D9: Länge der mit Radwegen versehenen Bundesstraßen - in km
A11: Land | C11: Rad- wege- typ 1) | D11: freie Strecke | G11: Ortsdurchfahrten | M11: insgesamt
G12: in Hauptbaulast | J12: in Gemeindebaulast
D13: einseitig | E13: beidseitig | F13: alle | G13: einseitig | H13: beidseitig | I13: alle | J13: einseitig | K13: beidseitig | L13: alle | M13: einseitig | N13: beidseitig | O13: alle
A14: 1 | C14: 2 | D14: 3a | E14: 3b | F14: 3c | G14: 4a | H14: 4b | I14: 4c | J14: 5a | K14: 5b | L14: 5c | M14: 6a | N14: 6b | O14: 6c
A15: Baden- Württemberg | C15: a | D15: 40.276 | E15: 13.018 | F15: =SUM(E15,D15) -> 53.294 | G15: 26.186 | H15: 16.735 | I15: =SUM(H15,G15) -> 42.921 | J15: 0.91 | K15: 3.024 | L15: =SUM(J15,K15) -> 3.934 | M15: =SUM(J15,G15,D15) -> 67.372 | N15: =SUM(K15,H15,E15) -> 32.777 | O15: =SUM(M15,N15) -> 100.149
C16: b | D16: 433.504 | E16: 22.075 | F16: =SUM(E16,D16) -> 455.579 | G16: 100.176 | H16: 29.305 | I16: =SUM(H16,G16) -> 129.481 | J16: 0.156 | K16: 1.32 | L16: =SUM(J16,K16) -> 1.476 | M16: =SUM(J16,G16,D16) -> 533.836 | N16: =SUM(K16,H16,E16) -> 52.7 | O16: =SUM(M16,N16) -> 586.536
C17: c | D17: 3.425 | E17: 16.018 | F17: =SUM(E17,D17) -> 19.443 | G17: 2.61 | H17: 3.953 | I17: =SUM(H17,G17) -> 6.563 | J17: 0.19 | K17: 0 | L17: =SUM(J17,K17) -> 0.19 | M17: =SUM(J17,G17,D17) -> 6.225 | N17: =SUM(K17,H17,E17) -> 19.971 | O17: =SUM(M17,N17) -> 26.196
A18: Bayern | C18: a | D18: 62 | E18: 1 | F18: =SUM(E18,D18) -> 63 | G18: 16 | H18: 24 | I18: =SUM(H18,G18) -> 40 | J18: 29 | K18: 92 | L18: =SUM(J18,K18) -> 121 | M18: =SUM(J18,G18,D18) -> 107 | N18: =SUM(K18,H18,E18) -> 117 | O18: =SUM(M18,N18) -> 224
C19: b | D19: 1303 | E19: 47 | F19: =SUM(E19,D19) -> 1350 | G19: 176 | H19: 56 | I19: =SUM(H19,G19) -> 232 | J19: 44 | K19: 45 | L19: =SUM(J19,K19) -> 89 | M19: =SUM(J19,G19,D19) -> 1523 | N19: =SUM(K19,H19,E19) -> 148 | O19: =SUM(M19,N19) -> 1671
C20: c | D20: 939 | E20: 79 | F20: =SUM(E20,D20) -> 1018 | G20: 32 | H20: 1 | I20: =SUM(H20,G20) -> 33 | J20: 5 | K20: 0 | L20: =SUM(J20,K20) -> 5 | M20: =SUM(J20,G20,D20) -> 976 | N20: =SUM(K20,H20,E20) -> 80 | O20: =SUM(M20,N20) -> 1056
A21: Berlin | C21: a | D21: 1 | E21: 6 | F21: =SUM(E21,D21) -> 7 | G21: 0 | H21: 0 | I21: =SUM(H21,G21) -> 0 | J21: =15-1.17+5.31-1.7 -> 17.44 | K21: =62.953-3.953+0-8.14+11-11.185+12.585+2 -> 65.26 | L21: =SUM(J21,K21) -> 82.7 | M21: =SUM(J21,G21,D21) -> 18.44 | N21: =SUM(K21,H21,E21) -> 71.26 | O21: =SUM(M21,N21) -> 89.7
C22: b | D22: 7 | E22: 3 | F22: =SUM(E22,D22) -> 10 | G22: 0 | H22: 0 | I22: =SUM(H22,G22) -> 0 | J22: =2-0+1.44-1 -> 2.44 | K22: =3-0+0 -> 3 | L22: =SUM(J22,K22) -> 5.44 | M22: =SUM(J22,G22,D22) -> 9.44 | N22: =SUM(K22,H22,E22) -> 6 | O22: =SUM(M22,N22) -> 15.44
C23: c | F23: =SUM(E23,D23) -> 0 | G23: 0 | H23: 0 | I23: =SUM(H23,G23) -> 0 | J23: =3.26-1.26+1.85+1 -> 4.85 | K23: =14.76-0.76+2 -> 16 | L23: =SUM(J23,K23) -> 20.85 | M23: =SUM(J23,G23,D23) -> 4.85 | N23: =SUM(K23,H23,E23) -> 16 | O23: =SUM(M23,N23) -> 20.85
A24: Brandenburg | C24: a | D24: 14 | E24: 0 | F24: =SUM(E24,D24) -> 14 | G24: 30 | H24: 47 | I24: =SUM(H24,G24) -> 77 | J24: 30 | K24: 8 | L24: =SUM(J24,K24) -> 38 | M24: =SUM(J24,G24,D24) -> 74 | N24: =SUM(K24,H24,E24) -> 55 | O24: =SUM(M24,N24) -> 129
C25: b | D25: 713 | E25: 14 | F25: =SUM(E25,D25) -> 727 | G25: 25 | H25: 22 | I25: =SUM(H25,G25) -> 47 | J25: 103 | K25: 54 | L25: =SUM(J25,K25) -> 157 | M25: =SUM(J25,G25,D25) -> 841 | N25: =SUM(K25,H25,E25) -> 90 | O25: =SUM(M25,N25) -> 931
C26: c | D26: 0 | E26: 0 | F26: =SUM(E26,D26) -> 0 | G26: 0 | H26: 0 | I26: =SUM(H26,G26) -> 0 | J26: 0 | K26: 0 | L26: =SUM(J26,K26) -> 0 | M26: =SUM(J26,G26,D26) -> 0 | N26: =SUM(K26,H26,E26) -> 0 | O26: =SUM(M26,N26) -> 0
A27: Bremen | C27: a | D27: 4 | E27: 4 | F27: =SUM(E27,D27) -> 8 | G27: 0 | H27: 0 | I27: =SUM(H27,G27) -> 0 | J27: 3 | K27: 13 | L27: =SUM(J27,K27) -> 16 | M27: =SUM(J27,G27,D27) -> 7 | N27: =SUM(K27,H27,E27) -> 17 | O27: =SUM(M27,N27) -> 24
C28: b | D28: 0 | E28: 1 | F28: =SUM(E28,D28) -> 1 | G28: 0 | H28: 0 | I28: =SUM(H28,G28) -> 0 | J28: 1 | K28: 1 | L28: =SUM(J28,K28) -> 2 | M28: =SUM(J28,G28,D28) -> 1 | N28: =SUM(K28,H28,E28) -> 2 | O28: =SUM(M28,N28) -> 3
C29: c | D29: 0 | E29: 0 | F29: =SUM(E29,D29) -> 0 | G29: 0 | H29: 0 | I29: =SUM(H29,G29) -> 0 | J29: 0 | K29: 1 | L29: =SUM(J29,K29) -> 1 | M29: =SUM(J29,G29,D29) -> 0 | N29: =SUM(K29,H29,E29) -> 1 | O29: =SUM(M29,N29) -> 1
A30: Hamburg | C30: a | D30: 1 | E30: 0 | F30: =SUM(E30,D30) -> 1 | G30: 0 | H30: 0 | I30: =SUM(H30,G30) -> 0 | J30: 16 | K30: 27 | L30: =SUM(J30,K30) -> 43 | M30: =SUM(J30,G30,D30) -> 17 | N30: =SUM(K30,H30,E30) -> 27 | O30: =SUM(M30,N30) -> 44
C31: b | D31: 0 | E31: 0 | F31: =SUM(E31,D31) -> 0 | G31: 0 | H31: 0 | I31: =SUM(H31,G31) -> 0 | J31: 0 | K31: 0 | L31: =SUM(J31,K31) -> 0 | M31: =SUM(J31,G31,D31) -> 0 | N31: =SUM(K31,H31,E31) -> 0 | O31: =SUM(M31,N31) -> 0
C32: c | D32: 0 | E32: 0 | F32: =SUM(E32,D32) -> 0 | G32: 0 | H32: 0 | I32: =SUM(H32,G32) -> 0 | J32: 0 | K32: 0 | L32: =SUM(J32,K32) -> 0 | M32: =SUM(J32,G32,D32) -> 0 | N32: =SUM(K32,H32,E32) -> 0 | O32: =SUM(M32,N32) -> 0
A33: Hessen | C33: a | D33: 18 | E33: 2 | F33: =SUM(E33,D33) -> 20 | G33: 18 | H33: 16 | I33: =SUM(H33,G33) -> 34 | J33: 10 | K33: 18 | L33: =SUM(J33,K33) -> 28 | M33: =SUM(J33,G33,D33) -> 46 | N33: =SUM(K33,H33,E33) -> 36 | O33: =SUM(M33,N33) -> 82
C34: b | D34: 319 | E34: 13 | F34: =SUM(E34,D34) -> 332 | G34: 36 | H34: 9 | I34: =SUM(H34,G34) -> 45 | J34: 6 | K34: 4 | L34: =SUM(J34,K34) -> 10 | M34: =SUM(J34,G34,D34) -> 361 | N34: =SUM(K34,H34,E34) -> 26 | O34: =SUM(M34,N34) -> 387
C35: c | D35: 59 | E35: 171 | F35: =SUM(E35,D35) -> 230 | G35: 8 | H35: 14 | I35: =SUM(H35,G35) -> 22 | J35: 1 | K35: 2 | L35: =SUM(J35,K35) -> 3 | M35: =SUM(J35,G35,D35) -> 68 | N35: =SUM(K35,H35,E35) -> 187 | O35: =SUM(M35,N35) -> 255
A36: Mecklenburg-Vorpommern | C36: a | D36: =141.811+0.022 -> 141.833 | E36: 4.433 | F36: =SUM(E36,D36) -> 146.266 | G36: 47.725 | H36: 27.418 | I36: =SUM(H36,G36) -> 75.143 | J36: 1.339 | K36: 0.589 | L36: =SUM(J36,K36) -> 1.928 | M36: =SUM(J36,G36,D36) -> 190.897 | N36: =SUM(K36,H36,E36) -> 32.44 | O36: =SUM(M36,N36) -> 223.337
C37: b | D37: =590.075+0.15 -> 590.225 | E37: 12.097 | F37: =SUM(E37,D37) -> 602.322 | G37: 133.936 | H37: 29.649 | I37: =SUM(H37,G37) -> 163.585 | J37: 1.518 | K37: 8 | L37: =SUM(J37,K37) -> 9.518 | M37: =SUM(J37,G37,D37) -> 725.679 | N37: =SUM(K37,H37,E37) -> 49.746 | O37: =SUM(M37,N37) -> 775.425
C38: c | D38: 0 | E38: 0 | F38: =SUM(E38,D38) -> 0 | G38: 0 | H38: 0 | I38: =SUM(H38,G38) -> 0 | J38: 0 | K38: 0 | L38: =SUM(J38,K38) -> 0 | M38: =SUM(J38,G38,D38) -> 0 | N38: =SUM(K38,H38,E38) -> 0 | O38: =SUM(M38,N38) -> 0
A39: Niedersachsen 2) | C39: a | D39: 47 | E39: 3 | F39: =SUM(E39,D39) -> 50 | G39: 51 | H39: 57 | I39: =SUM(H39,G39) -> 108 | J39: 5 | K39: 4 | L39: =SUM(J39,K39) -> 9 | M39: =SUM(J39,G39,D39) -> 103 | N39: =SUM(K39,H39,E39) -> 64 | O39: =SUM(M39,N39) -> 167
C40: b | D40: 2303 | E40: 170 | F40: =SUM(E40,D40) -> 2473 | G40: 200 | H40: 77 | I40: =SUM(H40,G40) -> 277 | J40: 2 | K40: 4 | L40: =SUM(J40,K40) -> 6 | M40: =SUM(J40,G40,D40) -> 2505 | N40: =SUM(K40,H40,E40) -> 251 | O40: =SUM(M40,N40) -> 2756
C41: c | D41: 7 | E41: 14 | F41: =SUM(E41,D41) -> 21 | G41: 2 | H41: 12 | I41: =SUM(H41,G41) -> 14 | J41: 0 | K41: 0 | L41: =SUM(J41,K41) -> 0 | M41: =SUM(J41,G41,D41) -> 9 | N41: =SUM(K41,H41,E41) -> 26 | O41: =SUM(M41,N41) -> 35
A42: Nordrhein-Westfalen | C42: a | D42: 27 | E42: 26 | F42: =SUM(E42,D42) -> 53 | G42: 29 | H42: 96 | I42: =SUM(H42,G42) -> 125 | J42: 18 | K42: 31 | L42: =SUM(J42,K42) -> 49 | M42: =SUM(J42,G42,D42) -> 74 | N42: =SUM(K42,H42,E42) -> 153 | O42: =SUM(M42,N42) -> 227
C43: b | D43: 1199 | E43: 141 | F43: =SUM(E43,D43) -> 1340 | G43: 100 | H43: 51 | I43: =SUM(H43,G43) -> 151 | J43: 23 | K43: 22 | L43: =SUM(J43,K43) -> 45 | M43: =SUM(J43,G43,D43) -> 1322 | N43: =SUM(K43,H43,E43) -> 214 | O43: =SUM(M43,N43) -> 1536
C44: c | D44: 120 | E44: 649 | F44: =SUM(E44,D44) -> 769 | G44: 6 | H44: 24 | I44: =SUM(H44,G44) -> 30 | J44: 2 | K44: 4 | L44: =SUM(J44,K44) -> 6 | M44: =SUM(J44,G44,D44) -> 128 | N44: =SUM(K44,H44,E44) -> 677 | O44: =SUM(M44,N44) -> 805
A45: Rheinland-Pfalz | C45: a | D45: 6 | E45: 0 | F45: =SUM(E45,D45) -> 6 | G45: 0 | H45: 0 | I45: =SUM(H45,G45) -> 0 | J45: 1 | K45: 1 | L45: =SUM(J45,K45) -> 2 | M45: =SUM(J45,G45,D45) -> 7 | N45: =SUM(K45,H45,E45) -> 1 | O45: =SUM(M45,N45) -> 8
C46: b | D46: 564 | E46: 24 | F46: =SUM(E46,D46) -> 588 | G46: 42 | H46: 11 | I46: =SUM(H46,G46) -> 53 | J46: 6 | K46: 3 | L46: =SUM(J46,K46) -> 9 | M46: =SUM(J46,G46,D46) -> 612 | N46: =SUM(K46,H46,E46) -> 38 | O46: =SUM(M46,N46) -> 650
C47: c | D47: 108 | E47: 47 | F47: =SUM(E47,D47) -> 155 | G47: 3 | H47: 7 | I47: =SUM(H47,G47) -> 10 | J47: 1 | K47: 0 | L47: =SUM(J47,K47) -> 1 | M47: =SUM(J47,G47,D47) -> 112 | N47: =SUM(K47,H47,E47) -> 54 | O47: =SUM(M47,N47) -> 166
A48: Saarland | C48: a | D48: 0.163 | E48: 0.115 | F48: =SUM(E48,D48) -> 0.278 | G48: 1.291 | H48: 0.556 | I48: =SUM(H48,G48) -> 1.847 | J48: 0 | K48: 0 | L48: =SUM(J48,K48) -> 0 | M48: =SUM(J48,G48,D48) -> 1.454 | N48: =SUM(K48,H48,E48) -> 0.671 | O48: =SUM(M48,N48) -> 2.125
...

Sheet Tabelle 4b
A7: Längenstatistik der Straßen des überörtlichen Verkehrs, Stand: 1. Januar 2026
A9: Tabelle 4b: | D9: Länge der mit Radwegen versehenen Landesstraßen - in km
A11: Land | C11: Rad- wege- typ 1) | D11: freie Strecke | G11: Ortsdurchfahrten | M11: insgesamt
G12: in Hauptbaulast | J12: in Gemeindebaulast
D13: einseitig | E13: beidseitig | F13: alle | G13: einseitig | H13: beidseitig | I13: alle | J13: einseitig | K13: beidseitig | L13: alle | M13: einseitig | N13: beidseitig | O13: alle
A14: 1 | C14: 2 | D14: 3a | E14: 3b | F14: 3c | G14: 4a | H14: 4b | I14: 4c | J14: 5a | K14: 5b | L14: 5c | M14: 6a | N14: 6b | O14: 6c
A15: Baden- Württemberg | C15: a | D15: 53.42 | E15: 5.873 | F15: =SUM(E15,D15) -> 59.293 | G15: 25.005 | H15: 13.166 | I15: =SUM(H15,G15) -> 38.171 | J15: 1.366 | K15: 1.222 | L15: =SUM(J15,K15) -> 2.588 | M15: =SUM(J15,G15,D15) -> 79.791 | N15: =SUM(K15,H15,E15) -> 20.261 | O15: =SUM(M15,N15) -> 100.052
C16: b | D16: 1130.106 | E16: 42.773 | F16: =SUM(E16,D16) -> 1172.879 | G16: 162.102 | H16: 24.528 | I16: =SUM(H16,G16) -> 186.63 | J16: 7.987 | K16: 3.186 | L16: =SUM(J16,K16) -> 11.173 | M16: =SUM(J16,G16,D16) -> 1300.195 | N16: =SUM(K16,H16,E16) -> 70.487 | O16: =SUM(M16,N16) -> 1370.682
C17: c | D17: 2.022 | E17: 1.858 | F17: =SUM(E17,D17) -> 3.88 | G17: 6.579 | H17: 4.665 | I17: =SUM(H17,G17) -> 11.244 | J17: 0.191 | K17: 1.504 | L17: =SUM(J17,K17) -> 1.695 | M17: =SUM(J17,G17,D17) -> 8.792 | N17: =SUM(K17,H17,E17) -> 8.027 | O17: =SUM(M17,N17) -> 16.819
A18: Bayern | C18: a | D18: 101 | E18: 6 | F18: =SUM(E18,D18) -> 107 | G18: 7 | H18: 10 | I18: =SUM(H18,G18) -> 17 | J18: 34 | K18: 73 | L18: =SUM(K18,J18) -> 107 | M18: =SUM(J18,G18,D18) -> 142 | N18: =SUM(K18,H18,E18) -> 89 | O18: =SUM(M18,N18) -> 231
C19: b | D19: 2394 | E19: 44 | F19: =SUM(E19,D19) -> 2438 | G19: 303 | H19: 76 | I19: =SUM(H19,G19) -> 379 | J19: 118 | K19: 56 | L19: =SUM(K19,J19) -> 174 | M19: =SUM(J19,G19,D19) -> 2815 | N19: =SUM(K19,H19,E19) -> 176 | O19: =SUM(M19,N19) -> 2991
C20: c | D20: 976 | E20: 35 | F20: =SUM(E20,D20) -> 1011 | G20: 48 | H20: 2 | I20: =SUM(H20,G20) -> 50 | J20: 6 | K20: 7 | L20: =SUM(K20,J20) -> 13 | M20: =SUM(J20,G20,D20) -> 1030 | N20: =SUM(K20,H20,E20) -> 44 | O20: =SUM(M20,N20) -> 1074
A21: Brandenburg | C21: a | D21: 23 | E21: 1 | F21: =SUM(E21,D21) -> 24 | G21: 43 | H21: 37 | I21: =SUM(H21,G21) -> 80 | J21: 24 | K21: 14 | L21: =SUM(K21,J21) -> 38 | M21: =SUM(J21,G21,D21) -> 90 | N21: =SUM(K21,H21,E21) -> 52 | O21: =SUM(M21,N21) -> 142
C22: b | D22: 684 | E22: 10 | F22: =SUM(E22,D22) -> 694 | G22: 5 | H22: 1 | I22: =SUM(H22,G22) -> 6 | J22: 171 | K22: 50 | L22: =SUM(K22,J22) -> 221 | M22: =SUM(J22,G22,D22) -> 860 | N22: =SUM(K22,H22,E22) -> 61 | O22: =SUM(M22,N22) -> 921
C23: c | D23: 0 | E23: 0 | F23: =SUM(E23,D23) -> 0 | G23: 0 | H23: 0 | I23: =SUM(H23,G23) -> 0 | J23: 0 | K23: 0 | L23: =SUM(K23,J23) -> 0 | M23: =SUM(J23,G23,D23) -> 0 | N23: =SUM(K23,H23,E23) -> 0 | O23: =SUM(M23,N23) -> 0
A24: Hessen | C24: a | D24: 21 | E24: 9 | F24: =SUM(E24,D24) -> 30 | G24: 17 | H24: 12 | I24: =SUM(H24,G24) -> 29 | J24: 19 | K24: 21 | L24: =SUM(K24,J24) -> 40 | M24: =SUM(J24,G24,D24) -> 57 | N24: =SUM(K24,H24,E24) -> 42 | O24: =SUM(M24,N24) -> 99
C25: b | D25: 540 | E25: 21 | F25: =SUM(E25,D25) -> 561 | G25: 56 | H25: 9 | I25: =SUM(H25,G25) -> 65 | J25: 15 | K25: 2 | L25: =SUM(K25,J25) -> 17 | M25: =SUM(J25,G25,D25) -> 611 | N25: =SUM(K25,H25,E25) -> 32 | O25: =SUM(M25,N25) -> 643
C26: c | D26: 18 | E26: 49 | F26: =SUM(E26,D26) -> 67 | G26: 5 | H26: 7 | I26: =SUM(H26,G26) -> 12 | J26: 4 | K26: 6 | L26: =SUM(K26,J26) -> 10 | M26: =SUM(J26,G26,D26) -> 27 | N26: =SUM(K26,H26,E26) -> 62 | O26: =SUM(M26,N26) -> 89
A27: Mecklenburg-Vorpommern | C27: a | D27: =0.075+186.719 -> 186.794 | E27: 1.704 | F27: =SUM(E27,D27) -> 188.498 | G27: 73.789 | H27: 26.336 | I27: =SUM(H27,G27) -> 100.125 | J27: 3.639 | K27: 2.617 | L27: =SUM(J27,K27) -> 6.256 | M27: =SUM(J27,G27,D27) -> 264.222 | N27: =SUM(K27,H27,E27) -> 30.657 | O27: =SUM(M27,N27) -> 294.879
C28: b | D28: =0.096+593.381 -> 593.477 | E28: 5.323 | F28: =SUM(E28,D28) -> 598.8 | G28: 168.755 | H28: 21.743 | I28: =SUM(H28,G28) -> 190.498 | J28: 7.49 | K28: 1.12 | L28: =SUM(J28,K28) -> 8.61 | M28: =SUM(J28,G28,D28) -> 769.722 | N28: =SUM(K28,H28,E28) -> 28.186 | O28: =SUM(M28,N28) -> 797.908
C29: c | D29: 0 | E29: 0 | F29: =SUM(E29,D29) -> 0 | G29: 0 | H29: 0 | I29: =SUM(H29,G29) -> 0 | J29: 0 | K29: 0 | L29: =SUM(J29,K29) -> 0 | M29: =SUM(J29,G29,D29) -> 0 | N29: =SUM(K29,H29,E29) -> 0 | O29: =SUM(M29,N29) -> 0
A30: Niedersachsen 2) | C30: a | D30: 145 | E30: 4 | F30: =SUM(E30,D30) -> 149 | G30: 124 | H30: 73 | I30: =SUM(H30,G30) -> 197 | J30: 16 | K30: 61 | L30: =SUM(K30,J30) -> 77 | M30: =SUM(J30,G30,D30) -> 285 | N30: =SUM(K30,H30,E30) -> 138 | O30: =SUM(M30,N30) -> 423
